BEGIN:VCALENDAR
VERSION:2.0
PRODID:-//Philadelphia Family Magazine - ECPv6.15.20//NONSGML v1.0//EN
CALSCALE:GREGORIAN
METHOD:PUBLISH
X-WR-CALNAME:Philadelphia Family Magazine
X-ORIGINAL-URL:https://phillyfamily.com
X-WR-CALDESC:Events for Philadelphia Family Magazine
REFRESH-INTERVAL;VALUE=DURATION:PT1H
X-Robots-Tag:noindex
X-PUBLISHED-TTL:PT1H
BEGIN:VTIMEZONE
TZID:America/New_York
BEGIN:DAYLIGHT
TZOFFSETFROM:-0500
TZOFFSETTO:-0400
TZNAME:EDT
DTSTART:20250309T070000
END:DAYLIGHT
BEGIN:STANDARD
TZOFFSETFROM:-0400
TZOFFSETTO:-0500
TZNAME:EST
DTSTART:20251102T060000
END:STANDARD
BEGIN:DAYLIGHT
TZOFFSETFROM:-0500
TZOFFSETTO:-0400
TZNAME:EDT
DTSTART:20260308T070000
END:DAYLIGHT
BEGIN:STANDARD
TZOFFSETFROM:-0400
TZOFFSETTO:-0500
TZNAME:EST
DTSTART:20261101T060000
END:STANDARD
BEGIN:DAYLIGHT
TZOFFSETFROM:-0500
TZOFFSETTO:-0400
TZNAME:EDT
DTSTART:20270314T070000
END:DAYLIGHT
BEGIN:STANDARD
TZOFFSETFROM:-0400
TZOFFSETTO:-0500
TZNAME:EST
DTSTART:20271107T060000
END:STANDARD
END:VTIMEZONE
BEGIN:VEVENT
DTSTART;TZID=America/New_York:20260211T000000
DTEND;TZID=America/New_York:20260211T235900
DTSTAMP:20260424T015528
CREATED:20251028T143308Z
LAST-MODIFIED:20260127T025857Z
UID:10032463-1770768000-1770854340@phillyfamily.com
SUMMARY:Daily: On the Land\, In the Sea Exhibition
DESCRIPTION:An exhibition featuring artwork by Kathleen Greco and Andrea Bartine Caldarise exploring ocean life and natural landscapes will be on view starting from November 4\, 2025 through April 14\, 2026. Through their distinct styles\, both artists explore patterns\, textures\, and forms found in nature. The works invite quiet observation and an appreciation for the environments that inspire them. \nLearn more here.
URL:https://phillyfamily.com/event/on-the-land-in-the-sea-exhibition/2026-02-11/
LOCATION:Courtyard by Marriott Philadelphia South at The Navy Yard\, 1001 Intrepid Avenue\, Philadelphia\, 19112\, United States
CATEGORIES:Arts & Crafts,Exhibit,Family Event
ATTACH;FMTTYPE=image/png:https://phillyfamily.com/wp-content/uploads/2025/10/Screenshot-2025-10-20-160457-e1761661802252.png
END:VEVENT
BEGIN:VEVENT
DTSTART;VALUE=DATE:20260211
DTEND;VALUE=DATE:20260212
DTSTAMP:20260424T015528
CREATED:20260106T150423Z
LAST-MODIFIED:20260106T150423Z
UID:10033363-1770768000-1770854399@phillyfamily.com
SUMMARY:Rothman Orthopaedics Ice Rink
DESCRIPTION:Come together for some ice-skating with Rothman Orthopaedics Ice Rink at Dilworth Park\, offered seven days a week until February 22\, 2026. \nLearn more and reserve tickets on their website.
URL:https://phillyfamily.com/event/rothman-orthopaedics-ice-rink/2026-02-11/
LOCATION:Dilworth Park\, 1 S 15th St\, Philadelphia\, PA\, 19102\, United States
CATEGORIES:Community Event,Family Event,Kid Event,Outdoor/Nature,Philadelphia Events
ATTACH;FMTTYPE=image/jpeg:https://phillyfamily.com/wp-content/uploads/2026/01/cmiqjoiinhn55uzqd7dar52ta-ice-rink-2025.0.1182.1601.1001.max_-e1767711811830.jpg
END:VEVENT
BEGIN:VEVENT
DTSTART;TZID=America/New_York:20260211T103000
DTEND;TZID=America/New_York:20260211T110000
DTSTAMP:20260424T015528
CREATED:20260205T205625Z
LAST-MODIFIED:20260205T205638Z
UID:10034223-1770805800-1770807600@phillyfamily.com
SUMMARY:Yoga for Curious Kids at Chestnut Hill Library
DESCRIPTION:In this class led by Maria Eble\, children and adults can expect 30 minutes of fun and inspirational interaction while encouraging the child’s natural thirst for knowledge of yoga. This class is personalized around children’s curiosities as they learn yoga through  social interaction\, repetition\, and play. Participants should come dressed comfortably\, ready to move. No yoga experience is needed.
URL:https://phillyfamily.com/event/yoga-for-curious-kids-at-chestnut-hill-library/
LOCATION:Chestnut Hill Library\, 8711 Germantown Avenue\, Philadelphia\, PA\, 19118\, United States
CATEGORIES:Free,Kid Event
ATTACH;FMTTYPE=image/jpeg:https://phillyfamily.com/wp-content/uploads/2026/02/yoga.jpg
END:VEVENT
BEGIN:VEVENT
DTSTART;TZID=America/New_York:20260211T110000
DTEND;TZID=America/New_York:20260211T230000
DTSTAMP:20260424T015528
CREATED:20260106T015823Z
LAST-MODIFIED:20260130T010833Z
UID:10034055-1770807600-1770850800@phillyfamily.com
SUMMARY:Independence Blue Cross RiverRink Winter Fest
DESCRIPTION:Experience winter magic by ice skating at Independence Blue Cross RiverRink Winter Fest. \nLearn more and reserve tickets on their website.
URL:https://phillyfamily.com/event/independence-blue-cross-riverrink-winter-fest/2026-02-11/
LOCATION:Independence Blue Cross RiverRink\, 101 S Columbus Boulevard\, Philadelphia\, PA\, 19106\, United States
CATEGORIES:Community Event,Family Event,Outdoor/Nature,Philadelphia Events
ATTACH;FMTTYPE=image/jpeg:https://phillyfamily.com/wp-content/uploads/2026/01/794331576864304701-2412-drwc-winterfest-0030.full_-e1767664640515.jpg
END:VEVENT
BEGIN:VEVENT
DTSTART;TZID=America/New_York:20260211T160000
DTEND;TZID=America/New_York:20260211T170000
DTSTAMP:20260424T015528
CREATED:20260205T203758Z
LAST-MODIFIED:20260205T204206Z
UID:10034157-1770825600-1770829200@phillyfamily.com
SUMMARY:Read to a Therapy Dog at Parkway Central Library
DESCRIPTION:On Wednesdays at Parkway Central Library\, independent readers and children can practice their reading skills with a certified therapy dog from Comfort Caring Canines. Dogs will be accompanied by their handler during this program\, and each child will be assigned individual time to read to the dog.
URL:https://phillyfamily.com/event/read-to-a-therapy-dog-at-parkway-central-library/2026-02-11/
LOCATION:Parkway Central Library\, 1901 Vine Street\, Children's Department Ground Floor - Room 22\, Philadelphia\, PA\, 19103\, United States
CATEGORIES:Community Event,Free,Kid Event,Philadelphia Events
ATTACH;FMTTYPE=image/jpeg:https://phillyfamily.com/wp-content/uploads/2026/02/therapy-dog.jpg
END:VEVENT
BEGIN:VEVENT
DTSTART;TZID=America/New_York:20260211T180000
DTEND;TZID=America/New_York:20260211T200000
DTSTAMP:20260424T015528
CREATED:20251205T015216Z
LAST-MODIFIED:20251205T015216Z
UID:10032296-1770832800-1770840000@phillyfamily.com
SUMMARY:Skill Swap Club at Design Gym
DESCRIPTION:Skill Swap Club is a neighbor-to-neighbor exchange that reconnects the community by sharing what we know! \nThis came from a Design Gym workshop during Philly Tech Week\, where strangers from diverse backgrounds came together to solve everyday human problems. Facilitated by Chitsanzo Isaac\, one group identified skill swapping as a response to isolation and lack of accessible support systems. \n🎟 Cost: A snack to share or contribute to the snacks fund (as a sliding scale ticket)
URL:https://phillyfamily.com/event/skill-swap-club-at-design-gym/2026-02-11/
LOCATION:Design Gym @ Colorspace Labs\, 1714 N Mascher St\, Philadelphia\, PA\, 19122\, United States
CATEGORIES:Arts & Crafts,Class or Workshop,Community Event,Open Houses and Admissions Events,Volunteering
ATTACH;FMTTYPE=image/png:https://phillyfamily.com/wp-content/uploads/2025/12/Skill-Swap-CluDG_Web-Thumbnail-e1764899515725.png
END:VEVENT
END:VCALENDAR