BEGIN:VCALENDAR
VERSION:2.0
PRODID:-//Philadelphia Family Magazine - ECPv6.15.20//NONSGML v1.0//EN
CALSCALE:GREGORIAN
METHOD:PUBLISH
X-ORIGINAL-URL:https://phillyfamily.com
X-WR-CALDESC:Events for Philadelphia Family Magazine
REFRESH-INTERVAL;VALUE=DURATION:PT1H
X-Robots-Tag:noindex
X-PUBLISHED-TTL:PT1H
BEGIN:VTIMEZONE
TZID:America/New_York
BEGIN:DAYLIGHT
TZOFFSETFROM:-0500
TZOFFSETTO:-0400
TZNAME:EDT
DTSTART:20250309T070000
END:DAYLIGHT
BEGIN:STANDARD
TZOFFSETFROM:-0400
TZOFFSETTO:-0500
TZNAME:EST
DTSTART:20251102T060000
END:STANDARD
BEGIN:DAYLIGHT
TZOFFSETFROM:-0500
TZOFFSETTO:-0400
TZNAME:EDT
DTSTART:20260308T070000
END:DAYLIGHT
BEGIN:STANDARD
TZOFFSETFROM:-0400
TZOFFSETTO:-0500
TZNAME:EST
DTSTART:20261101T060000
END:STANDARD
BEGIN:DAYLIGHT
TZOFFSETFROM:-0500
TZOFFSETTO:-0400
TZNAME:EDT
DTSTART:20270314T070000
END:DAYLIGHT
BEGIN:STANDARD
TZOFFSETFROM:-0400
TZOFFSETTO:-0500
TZNAME:EST
DTSTART:20271107T060000
END:STANDARD
END:VTIMEZONE
BEGIN:VEVENT
DTSTART;TZID=America/New_York:20260323T000000
DTEND;TZID=America/New_York:20260323T235900
DTSTAMP:20260423T201238
CREATED:20251028T143308Z
LAST-MODIFIED:20260127T025857Z
UID:10032503-1774224000-1774310340@phillyfamily.com
SUMMARY:Daily: On the Land\, In the Sea Exhibition
DESCRIPTION:An exhibition featuring artwork by Kathleen Greco and Andrea Bartine Caldarise exploring ocean life and natural landscapes will be on view starting from November 4\, 2025 through April 14\, 2026. Through their distinct styles\, both artists explore patterns\, textures\, and forms found in nature. The works invite quiet observation and an appreciation for the environments that inspire them. \nLearn more here.
URL:https://phillyfamily.com/event/on-the-land-in-the-sea-exhibition/2026-03-23/
LOCATION:Courtyard by Marriott Philadelphia South at The Navy Yard\, 1001 Intrepid Avenue\, Philadelphia\, 19112\, United States
CATEGORIES:Arts & Crafts,Exhibit,Family Event
ATTACH;FMTTYPE=image/png:https://phillyfamily.com/wp-content/uploads/2025/10/Screenshot-2025-10-20-160457-e1761661802252.png
END:VEVENT
BEGIN:VEVENT
DTSTART;TZID=America/New_York:20260323T100000
DTEND;TZID=America/New_York:20260323T170000
DTSTAMP:20260423T201238
CREATED:20260227T150447Z
LAST-MODIFIED:20260227T150447Z
UID:10034879-1774260000-1774285200@phillyfamily.com
SUMMARY:(Daily) The Declaration's Journey at the Museum of the American Revolution
DESCRIPTION:At the Museum of the American Revolution\, families can view The Declaration’s Journey exhibit\, presented by Griffin Catalyst\, which marks the 250th anniversary of the nation’s founding. Come together to explore the history and global impact of the Declaration of Independence from 1776 to current times. All in all\, this exhibition showcases how American Declaration of Independence has become one of the most influential political documents in modern history. \nLearn more here.
URL:https://phillyfamily.com/event/daily-the-declarations-journey-at-the-museum-of-the-american-revolution/2026-03-23/
LOCATION:Museum of the American Revolution\, 101 S 3rd St\, Philadelphia\, PA\, 19106\, United States
CATEGORIES:Community Event,Exhibit,Philadelphia Events
ATTACH;FMTTYPE=image/jpeg:https://phillyfamily.com/wp-content/uploads/2026/02/event-declarationsjourney-e1772204647792.jpg
END:VEVENT
BEGIN:VEVENT
DTSTART;TZID=America/New_York:20260323T100000
DTEND;TZID=America/New_York:20260323T200000
DTSTAMP:20260423T201238
CREATED:20260305T021245Z
LAST-MODIFIED:20260305T021245Z
UID:10035210-1774260000-1774296000@phillyfamily.com
SUMMARY:Family Pet Photos with the Bunny at Cherry Hill Mall
DESCRIPTION:The whole family can get Easter Bunny photos at Cherry Hill Mall\, along with their pets. Professional spring portraits and Easter Bunny pictures are available in Grand Court from March 6 to April 4\, 2026\, which is perfect for the upcoming season. \nBook time slots for only $20\, and a package purchase is not needed for reservations. Photo packages start at $39.99. To view hours\, pricing\, and to make your reservation\, click here. \nAdditionally\, Kidz Bop dance parties will be happening every hour on the hour. \nBunny photos are owned and operated by Cherry Hill Programs.
URL:https://phillyfamily.com/event/family-pet-photos-with-the-bunny-at-cherry-hill-mall/2026-03-23/
LOCATION:Cherry Hill Mall\, 2000 Route 38\, Cherry Hill\, NJ\, 08002\, United States
CATEGORIES:Easter,Family Event
ATTACH;FMTTYPE=image/jpeg:https://phillyfamily.com/wp-content/uploads/2026/03/event-cherryhillmallbunny-e1772676447909.jpg
END:VEVENT
BEGIN:VEVENT
DTSTART;TZID=America/New_York:20260323T103000
DTEND;TZID=America/New_York:20260323T113000
DTSTAMP:20260423T201238
CREATED:20260227T142005Z
LAST-MODIFIED:20260227T142037Z
UID:10034854-1774261800-1774265400@phillyfamily.com
SUMMARY:Little Art Kids at Philadelphia Museum of Art
DESCRIPTION:With Philadelphia Museum of Art’s Little Art Kids\, toddlers and their caregivers can get to know the museum through art-making and creative play. Space is limited\, and it is first-come\, first-served. \nLearn more here.
URL:https://phillyfamily.com/event/little-art-kids-at-philadelphia-museum-of-art-2/
LOCATION:Philadelphia Museum of Art\, 2600 Benjamin Franklin Pkwy\, Philadelphia\, PA\, 19130\, United States
CATEGORIES:Arts & Crafts,Exhibit,Family Event
ATTACH;FMTTYPE=image/jpeg:https://phillyfamily.com/wp-content/uploads/2026/02/event-littleartkids-e1772201950717.jpg
END:VEVENT
BEGIN:VEVENT
DTSTART;TZID=America/New_York:20260323T160000
DTEND;TZID=America/New_York:20260323T180000
DTSTAMP:20260423T201238
CREATED:20260205T173116Z
LAST-MODIFIED:20260205T173116Z
UID:10034144-1774281600-1774288800@phillyfamily.com
SUMMARY:Rock to the Future Lyric Lab
DESCRIPTION:Lyric Lab is Rock to the Future’s new rap and songwriting program designed for young artists ready to turn their thoughts\, feelings\, and stories into real music. Whether students are already writing bars or just getting started\, participants build skills in writing powerful lyrics\, finding their flow\, riding the beat\, performing with confidence\, and creating original songs alongside other young creators. No experience needed\, just bring your voice. The program builds toward a live performance where music gets heard. \nRegister for this class here.
URL:https://phillyfamily.com/event/rock-to-the-future-lyric-lab/2026-03-23/
LOCATION:One Art Community Center\, 1431-39 North 52nd Street\, Philadelphia\, PA\, 19131\, United States
CATEGORIES:Class or Workshop,Free,Musical Performance,Teen Event
ATTACH;FMTTYPE=image/jpeg:https://phillyfamily.com/wp-content/uploads/2026/02/Lyric-Lab-web-600-x-750-px.jpg
END:VEVENT
BEGIN:VEVENT
DTSTART;TZID=America/New_York:20260323T170000
DTEND;TZID=America/New_York:20260323T180000
DTSTAMP:20260423T201238
CREATED:20260304T015728Z
LAST-MODIFIED:20260304T015728Z
UID:10035093-1774285200-1774288800@phillyfamily.com
SUMMARY:Twilight Tales Family Story Time at Lucien E. Blackwell West Philadelphia Regional Library
DESCRIPTION:Bring the family at Lucien E. Blackwell West Philadelphia Regional Library for an interactive storytime. Every Monday\, this event includes favorite read-aloud books\, songs\, and craft that’s fun for the whole family!
URL:https://phillyfamily.com/event/twilight-tales-family-story-time-at-lucien-e-blackwell-west-philadelphia-regional-library/2026-03-23/
LOCATION:Lucien E. Blackwell West Philadelphia Regional Library\, 125 S 52nd St\, Philadelphia\, PA\, 19139\, United States
CATEGORIES:At the library,For Kids Ages 1 – 3,For Kids Ages 4 – 6,Free,Kid Event,Storytime
ATTACH;FMTTYPE=image/png:https://phillyfamily.com/wp-content/uploads/2026/03/event-twilighttalesstorytime.png
END:VEVENT
END:VCALENDAR