BEGIN:VCALENDAR
VERSION:2.0
PRODID:-//Philadelphia Family Magazine - ECPv6.15.20//NONSGML v1.0//EN
CALSCALE:GREGORIAN
METHOD:PUBLISH
X-ORIGINAL-URL:https://phillyfamily.com
X-WR-CALDESC:Events for Philadelphia Family Magazine
REFRESH-INTERVAL;VALUE=DURATION:PT1H
X-Robots-Tag:noindex
X-PUBLISHED-TTL:PT1H
BEGIN:VTIMEZONE
TZID:America/New_York
BEGIN:DAYLIGHT
TZOFFSETFROM:-0500
TZOFFSETTO:-0400
TZNAME:EDT
DTSTART:20250309T070000
END:DAYLIGHT
BEGIN:STANDARD
TZOFFSETFROM:-0400
TZOFFSETTO:-0500
TZNAME:EST
DTSTART:20251102T060000
END:STANDARD
BEGIN:DAYLIGHT
TZOFFSETFROM:-0500
TZOFFSETTO:-0400
TZNAME:EDT
DTSTART:20260308T070000
END:DAYLIGHT
BEGIN:STANDARD
TZOFFSETFROM:-0400
TZOFFSETTO:-0500
TZNAME:EST
DTSTART:20261101T060000
END:STANDARD
BEGIN:DAYLIGHT
TZOFFSETFROM:-0500
TZOFFSETTO:-0400
TZNAME:EDT
DTSTART:20270314T070000
END:DAYLIGHT
BEGIN:STANDARD
TZOFFSETFROM:-0400
TZOFFSETTO:-0500
TZNAME:EST
DTSTART:20271107T060000
END:STANDARD
END:VTIMEZONE
BEGIN:VEVENT
DTSTART;TZID=America/New_York:20260403T000000
DTEND;TZID=America/New_York:20260403T235900
DTSTAMP:20260423T145236
CREATED:20251028T143308Z
LAST-MODIFIED:20260127T025857Z
UID:10032514-1775174400-1775260740@phillyfamily.com
SUMMARY:Daily: On the Land\, In the Sea Exhibition
DESCRIPTION:An exhibition featuring artwork by Kathleen Greco and Andrea Bartine Caldarise exploring ocean life and natural landscapes will be on view starting from November 4\, 2025 through April 14\, 2026. Through their distinct styles\, both artists explore patterns\, textures\, and forms found in nature. The works invite quiet observation and an appreciation for the environments that inspire them. \nLearn more here.
URL:https://phillyfamily.com/event/on-the-land-in-the-sea-exhibition/2026-04-03/
LOCATION:Courtyard by Marriott Philadelphia South at The Navy Yard\, 1001 Intrepid Avenue\, Philadelphia\, 19112\, United States
CATEGORIES:Arts & Crafts,Exhibit,Family Event
ATTACH;FMTTYPE=image/png:https://phillyfamily.com/wp-content/uploads/2025/10/Screenshot-2025-10-20-160457-e1761661802252.png
END:VEVENT
BEGIN:VEVENT
DTSTART;TZID=America/New_York:20260403T100000
DTEND;TZID=America/New_York:20260403T120000
DTSTAMP:20260423T145236
CREATED:20260203T174305Z
LAST-MODIFIED:20260223T160329Z
UID:10034102-1775210400-1775217600@phillyfamily.com
SUMMARY:Family Storytime Fridays at Queen Memorial Library
DESCRIPTION:Along with Librarian Kate\, families and little ones (ages 0-5) can enjoy storytime! This event includes reading\, singing\, dancing\, and more.
URL:https://phillyfamily.com/event/family-storytime-fridays-at-queen-memorial-library/2026-04-03/
LOCATION:Queen Memorial Library\, 1201 S 23rd Street\, Philadelphia\, PA\, 19146\, United States
CATEGORIES:At the library,Free,Kid Event,Storytime
ATTACH;FMTTYPE=image/png:https://phillyfamily.com/wp-content/uploads/2026/02/112950.png
END:VEVENT
BEGIN:VEVENT
DTSTART;TZID=America/New_York:20260403T100000
DTEND;TZID=America/New_York:20260403T160000
DTSTAMP:20260423T145236
CREATED:20260306T022426Z
LAST-MODIFIED:20260306T022426Z
UID:10035238-1775210400-1775232000@phillyfamily.com
SUMMARY:Hayride to Bunnyland
DESCRIPTION:Take a Hayride to Bunnyland at Linvilla Orchards. You’ll ride through the woods to the Easter Bunny’s house\, and not only will you get to meet and take pictures with him\, one of his friends will also tell a magical tale and give out special treats. \nLearn more and get tickets here.
URL:https://phillyfamily.com/event/hayride-to-bunnyland/2026-04-03/
LOCATION:Linvilla Orchards\, 137 W. Knowlton Road\, Media\, PA\, 19063\, United States
CATEGORIES:Community Event,Easter,Family Event,Kid Event
ATTACH;FMTTYPE=image/jpeg:https://phillyfamily.com/wp-content/uploads/2026/03/event-hayridesbunnyland.jpg
END:VEVENT
BEGIN:VEVENT
DTSTART;TZID=America/New_York:20260403T100000
DTEND;TZID=America/New_York:20260403T170000
DTSTAMP:20260423T145236
CREATED:20260227T171034Z
LAST-MODIFIED:20260227T171034Z
UID:10035010-1775210400-1775235600@phillyfamily.com
SUMMARY:Spring Break 2026 at the Museum of the American Revolution
DESCRIPTION:From March 28\, 2026 to April 12\, 2026\, families can march into spring break at the Museum of the American Revolution and explore what life was like during the Revolutionary War. With a special exhibition\, family-friendly crafts\, in-gallery talks\, and more\, guests of all ages can immerse themselves in history during holiday break. \nLearn more about the schedule here.
URL:https://phillyfamily.com/event/spring-break-2026-at-the-museum-of-the-american-revolution/2026-04-03/
LOCATION:Museum of the American Revolution\, 101 S 3rd St\, Philadelphia\, PA\, 19106\, United States
CATEGORIES:Community Event,Exhibit,Family Event,Philadelphia Events
ATTACH;FMTTYPE=image/jpeg:https://phillyfamily.com/wp-content/uploads/2026/02/Image_121025_UnpackingtheseachestContinentalNavyflag.CreditMoAR-scaled-e1772212172100.jpg
END:VEVENT
BEGIN:VEVENT
DTSTART;TZID=America/New_York:20260403T100000
DTEND;TZID=America/New_York:20260403T170000
DTSTAMP:20260423T145236
CREATED:20260306T023050Z
LAST-MODIFIED:20260306T023050Z
UID:10035246-1775210400-1775235600@phillyfamily.com
SUMMARY:Elmo’s Eggstravaganza at Sesame Place
DESCRIPTION:Celebrate Easter with your favorite Sesame Street pals at Elmo’s Eggstravaganza. Sesame Place Philadelphia is brimming with springtime joy\, featuring Easter Bunny Meet & Greets\, Easter egg scavenger hunts\, donut decorating with Cookie Monster\, and a Bunny Hop Dance Party.
URL:https://phillyfamily.com/event/elmos-eggstravaganza-at-sesame-place/2026-04-03/
LOCATION:Sesame Place\, 100 Sesame Rd.\, Langhorne\, PA\, 19047\, United States
CATEGORIES:Community Event,Easter,Family Event,Kid Event
ATTACH;FMTTYPE=image/jpeg:https://phillyfamily.com/wp-content/uploads/2026/03/event-elmobunny-e1772764232528.jpg
END:VEVENT
BEGIN:VEVENT
DTSTART;TZID=America/New_York:20260403T100000
DTEND;TZID=America/New_York:20260403T170000
DTSTAMP:20260423T145236
CREATED:20260330T183526Z
LAST-MODIFIED:20260330T183733Z
UID:10035570-1775210400-1775235600@phillyfamily.com
SUMMARY:Passover at Sesame Place
DESCRIPTION:Sesame Place is welcoming the Passover holiday with a festive celebration for the whole family\, April 1–6. \nHead to the Sesame Street Theater\, where a local cantor joins beloved Sesame Street characters for a lively Passover presentation and sing-along that brings the spirit of the holiday to life. \nLittle ones can also make their way to the Sesame Street Neighborhood for a special meet-and-greet with Baby Bear — a character who observes Passover with his own family — for hugs and photos to commemorate the occasion. It’s a meaningful and memorable way to mark the holiday alongside some of the most iconic characters in children’s television.
URL:https://phillyfamily.com/event/passover-at-sesame-place/2026-04-03/
LOCATION:Sesame Place\, 100 Sesame Rd.\, Langhorne\, PA\, 19047\, United States
CATEGORIES:Passover
ATTACH;FMTTYPE=image/webp:https://phillyfamily.com/wp-content/uploads/2026/03/SPL_Passover_Cantor-and-Friends_714x458.webp
END:VEVENT
BEGIN:VEVENT
DTSTART;TZID=America/New_York:20260403T100000
DTEND;TZID=America/New_York:20260403T200000
DTSTAMP:20260423T145236
CREATED:20260305T020835Z
LAST-MODIFIED:20260306T023918Z
UID:10035180-1775210400-1775246400@phillyfamily.com
SUMMARY:Family Photos with the Bunny at Cherry Hill Mall (Daily)
DESCRIPTION:The whole family can get Easter Bunny photos at Cherry Hill Mall. Professional spring portraits and Easter Bunny pictures are available in Grand Court from March 6 to April 4\, 2026\, which is perfect for the upcoming season. \nBook time slots for only $20\, and a package purchase is not needed for reservations. Photo packages start at $39.99. To view hours\, pricing\, and to make your reservation\, click here. \nAdditionally\, Kidz Bop dance parties will be happening every hour on the hour. \nBunny photos are owned and operated by Cherry Hill Programs.
URL:https://phillyfamily.com/event/bunny-photos-at-cherry-hill-mall/2026-04-03/
LOCATION:Cherry Hill Mall\, 2000 Route 38\, Cherry Hill\, NJ\, 08002\, United States
CATEGORIES:Easter,Family Event
ATTACH;FMTTYPE=image/jpeg:https://phillyfamily.com/wp-content/uploads/2026/03/event-cherryhillmallbunny-e1772676447909.jpg
END:VEVENT
BEGIN:VEVENT
DTSTART;TZID=America/New_York:20260403T153000
DTEND;TZID=America/New_York:20260403T170000
DTSTAMP:20260423T145236
CREATED:20260304T014746Z
LAST-MODIFIED:20260304T153358Z
UID:10035051-1775230200-1775235600@phillyfamily.com
SUMMARY:Fiber Craft Fridays at Kingsessing Library
DESCRIPTION:At Kingsessing Library\, little ones can learn the basics of crochet\, finger knit\, mushroom knit\, or just get cozy with some yarn on Friday afternoons. Yarn will be out in the children’s area starting at 3:30 pm\, and then Librarian Rachel will provide a short fiber art craft starting at 4pm every week (like pom-poms and yarn dolls). \nExperienced crochet and knitting artists can share their craft with the next generation\, but all experienced levels are welcome.
URL:https://phillyfamily.com/event/fiber-craft-fridays-at-kingsessing-library/2026-04-03/
LOCATION:Kingsessing Library\, 1201 South 51st Street (5lst St. between Kingsessing and Chester Avenues)\, Philadelphia\, PA\, 19143-4353\, United States
CATEGORIES:Arts & Crafts,At the library,Family Event,Free,Kid Event
ATTACH;FMTTYPE=image/png:https://phillyfamily.com/wp-content/uploads/2026/03/event-fibercraftafternoons-kingsessing.png
END:VEVENT
BEGIN:VEVENT
DTSTART;TZID=America/New_York:20260403T170000
DTEND;TZID=America/New_York:20260403T190000
DTSTAMP:20260423T145236
CREATED:20260220T214451Z
LAST-MODIFIED:20260220T215246Z
UID:10034750-1775235600-1775242800@phillyfamily.com
SUMMARY:First Friday: Our Plastic Planet at the Science History Institute
DESCRIPTION:Families can explore the story of plastic — how it was made\, why it became a problem\, and what to do about it — at the Science History Institute’s April First Friday event. \nGuests will get a close look at some of the earliest synthetic materials and see how they compare to natural alternatives. The Othmer Library will have rare dye sample books and materials on plastic waste management on display\, and the latest ExhibitLab exhibit\, “Objects That Tell Stories: Recent Acquisitions\,” features plastic artifacts that spark conversation about the life of synthetic materials. \nVisitors can also meet representatives from ECHO Systems\, a local organization working to stop trash at the source\, and learn about their Philly Unwrapped Toolkit — a practical guide helping local businesses reduce single-use packaging. \nLearn more here.
URL:https://phillyfamily.com/event/first-friday-our-plastic-planet/
LOCATION:Science History Institute\, 315 Chestnut Street\, Philadelphia\, PA\, 19106\, United States
CATEGORIES:Exhibit,Family Event,Philadelphia Events
ATTACH;FMTTYPE=image/jpeg:https://phillyfamily.com/wp-content/uploads/2026/02/all_wrapped_up_in_ethocel_small-e1771623704457.jpg
END:VEVENT
END:VCALENDAR