BEGIN:VCALENDAR
VERSION:2.0
PRODID:-//Philadelphia Family Magazine - ECPv6.15.20//NONSGML v1.0//EN
CALSCALE:GREGORIAN
METHOD:PUBLISH
X-WR-CALNAME:Philadelphia Family Magazine
X-ORIGINAL-URL:https://phillyfamily.com
X-WR-CALDESC:Events for Philadelphia Family Magazine
REFRESH-INTERVAL;VALUE=DURATION:PT1H
X-Robots-Tag:noindex
X-PUBLISHED-TTL:PT1H
BEGIN:VTIMEZONE
TZID:America/New_York
BEGIN:DAYLIGHT
TZOFFSETFROM:-0500
TZOFFSETTO:-0400
TZNAME:EDT
DTSTART:20250309T070000
END:DAYLIGHT
BEGIN:STANDARD
TZOFFSETFROM:-0400
TZOFFSETTO:-0500
TZNAME:EST
DTSTART:20251102T060000
END:STANDARD
BEGIN:DAYLIGHT
TZOFFSETFROM:-0500
TZOFFSETTO:-0400
TZNAME:EDT
DTSTART:20260308T070000
END:DAYLIGHT
BEGIN:STANDARD
TZOFFSETFROM:-0400
TZOFFSETTO:-0500
TZNAME:EST
DTSTART:20261101T060000
END:STANDARD
BEGIN:DAYLIGHT
TZOFFSETFROM:-0500
TZOFFSETTO:-0400
TZNAME:EDT
DTSTART:20270314T070000
END:DAYLIGHT
BEGIN:STANDARD
TZOFFSETFROM:-0400
TZOFFSETTO:-0500
TZNAME:EST
DTSTART:20271107T060000
END:STANDARD
END:VTIMEZONE
BEGIN:VEVENT
DTSTART;TZID=America/New_York:20260420T100000
DTEND;TZID=America/New_York:20260420T170000
DTSTAMP:20260420T021435
CREATED:20260219T175722Z
LAST-MODIFIED:20260219T175722Z
UID:10034621-1776679200-1776704400@phillyfamily.com
SUMMARY:(Daily) Botany of Nations at The Academy of Natural Sciences
DESCRIPTION:From March 28\, 2026 to February 14\, 2027\, Botany of Nations is a groundbreaking exhibition that offers a culturally layered\, new perspective on the legendary Lewis and Clark Corps of Discovery\, co-curated with ethnobotanist and author Enrique Salmón\, PhD\, and developed with contributions from Indigenous cultural historians. Centering the voices of Native Nations who have protected and cared for these lands for thousands of years\, the exhibition presents plants as portals to Indigenous storytelling and knowledge — illuminating how Native Nations shaped America’s plant knowledge long before Western scientists claimed these “discoveries.” \nLearn more here.
URL:https://phillyfamily.com/event/daily-botany-of-nations-at-the-academy-of-natural-sciences/2026-04-20/
LOCATION:The Academy of Natural Sciences\, 1900 Benjamin Franklin Pkwy\, Philadelphia\, PA\, 19103\, United States
CATEGORIES:Exhibit,Family Event
ATTACH;FMTTYPE=image/jpeg:https://phillyfamily.com/wp-content/uploads/2026/02/Botany-of-nations_636x424.jpg
END:VEVENT
BEGIN:VEVENT
DTSTART;TZID=America/New_York:20260420T100000
DTEND;TZID=America/New_York:20260420T170000
DTSTAMP:20260420T021435
CREATED:20260227T150447Z
LAST-MODIFIED:20260227T150447Z
UID:10034891-1776679200-1776704400@phillyfamily.com
SUMMARY:(Daily) The Declaration's Journey at the Museum of the American Revolution
DESCRIPTION:At the Museum of the American Revolution\, families can view The Declaration’s Journey exhibit\, presented by Griffin Catalyst\, which marks the 250th anniversary of the nation’s founding. Come together to explore the history and global impact of the Declaration of Independence from 1776 to current times. All in all\, this exhibition showcases how American Declaration of Independence has become one of the most influential political documents in modern history. \nLearn more here.
URL:https://phillyfamily.com/event/daily-the-declarations-journey-at-the-museum-of-the-american-revolution/2026-04-20/
LOCATION:Museum of the American Revolution\, 101 S 3rd St\, Philadelphia\, PA\, 19106\, United States
CATEGORIES:Community Event,Exhibit,Philadelphia Events
ATTACH;FMTTYPE=image/jpeg:https://phillyfamily.com/wp-content/uploads/2026/02/event-declarationsjourney-e1772204647792.jpg
END:VEVENT
BEGIN:VEVENT
DTSTART;TZID=America/New_York:20260420T100000
DTEND;TZID=America/New_York:20260420T200000
DTSTAMP:20260420T021435
CREATED:20260328T033146Z
LAST-MODIFIED:20260328T033146Z
UID:10035559-1776679200-1776715200@phillyfamily.com
SUMMARY:Philadelphia Film Society's Springfest 2026
DESCRIPTION:SpringFest returns April 17 to 23\, 2026\, for a full week of storytelling that highlights the future of filmmaking. With more screens and an expanded lineup\, the festival features a wide range of films from emerging voices\, including creators from around the world and the Philadelphia region. \nCurated by the Philadelphia Film Society\, SpringFest focuses on new ideas and fresh perspectives in film. The program includes premieres\, conversations with filmmakers\, and events designed to bring the community together. \nHeld at Film Society East\, the festival offers a welcoming space for audiences to discover new stories and connect with the people behind them. \nLearn more about their programming on their website.
URL:https://phillyfamily.com/event/philadelphia-film-societys-springfest-2026/2026-04-20/
LOCATION:film society east\, 125 S 2nd St\, Philadelphia\, PA\, 19106\, United States
CATEGORIES:Arts & Film,Community Event,For Parents,For The Whole Family,Philadelphia Events
ATTACH;FMTTYPE=image/jpeg:https://phillyfamily.com/wp-content/uploads/2026/03/event-pfsspringfest-e1774668626359.jpg
END:VEVENT
BEGIN:VEVENT
DTSTART;TZID=America/New_York:20260420T160000
DTEND;TZID=America/New_York:20260420T180000
DTSTAMP:20260420T021435
CREATED:20260205T173116Z
LAST-MODIFIED:20260205T173116Z
UID:10034148-1776700800-1776708000@phillyfamily.com
SUMMARY:Rock to the Future Lyric Lab
DESCRIPTION:Lyric Lab is Rock to the Future’s new rap and songwriting program designed for young artists ready to turn their thoughts\, feelings\, and stories into real music. Whether students are already writing bars or just getting started\, participants build skills in writing powerful lyrics\, finding their flow\, riding the beat\, performing with confidence\, and creating original songs alongside other young creators. No experience needed\, just bring your voice. The program builds toward a live performance where music gets heard. \nRegister for this class here.
URL:https://phillyfamily.com/event/rock-to-the-future-lyric-lab/2026-04-20/
LOCATION:One Art Community Center\, 1431-39 North 52nd Street\, Philadelphia\, PA\, 19131\, United States
CATEGORIES:Class or Workshop,Free,Musical Performance,Teen Event
ATTACH;FMTTYPE=image/jpeg:https://phillyfamily.com/wp-content/uploads/2026/02/Lyric-Lab-web-600-x-750-px.jpg
END:VEVENT
BEGIN:VEVENT
DTSTART;TZID=America/New_York:20260420T163000
DTEND;TZID=America/New_York:20260420T180000
DTSTAMP:20260420T021435
CREATED:20260327T210811Z
LAST-MODIFIED:20260327T210811Z
UID:10035364-1776702600-1776708000@phillyfamily.com
SUMMARY:Monday Basketball with Volo Kids at Mander Playground
DESCRIPTION:Play free basketball with Volo Kids at Mander Playground! \nVolo Kids is on a mission to build communities of active\, resilient\, and confident kids through free\, quality sports programs! Our programs are completely free\, and this program is open to all kids ages 5-13\, regardless of gender or experience level. In a Volo Kids program\, you can expect 6 weeks of skills and drills to improve your technique or try a new sport!
URL:https://phillyfamily.com/event/monday-basketball-with-volo-kids-at-mander-playground/2026-04-20/
LOCATION:2140 N. 33rd St.\, 2140 N. 33rd St.\, Philadelphia\, PA\, 19145\, United States
CATEGORIES:For Kids Ages 11 – 14,For Kids Ages 15+,For Kids Ages 4 – 6,For Kids Ages 8 – 10,Free,Sporting Events
ATTACH;FMTTYPE=image/jpeg:https://phillyfamily.com/wp-content/uploads/2026/03/event-volokidsphilly-scaled-e1774645669804.jpg
END:VEVENT
BEGIN:VEVENT
DTSTART;TZID=America/New_York:20260420T170000
DTEND;TZID=America/New_York:20260420T180000
DTSTAMP:20260420T021435
CREATED:20260304T015728Z
LAST-MODIFIED:20260304T015728Z
UID:10035097-1776704400-1776708000@phillyfamily.com
SUMMARY:Twilight Tales Family Story Time at Lucien E. Blackwell West Philadelphia Regional Library
DESCRIPTION:Bring the family at Lucien E. Blackwell West Philadelphia Regional Library for an interactive storytime. Every Monday\, this event includes favorite read-aloud books\, songs\, and craft that’s fun for the whole family!
URL:https://phillyfamily.com/event/twilight-tales-family-story-time-at-lucien-e-blackwell-west-philadelphia-regional-library/2026-04-20/
LOCATION:Lucien E. Blackwell West Philadelphia Regional Library\, 125 S 52nd St\, Philadelphia\, PA\, 19139\, United States
CATEGORIES:At the library,For Kids Ages 1 – 3,For Kids Ages 4 – 6,Free,Kid Event,Storytime
ATTACH;FMTTYPE=image/png:https://phillyfamily.com/wp-content/uploads/2026/03/event-twilighttalesstorytime.png
END:VEVENT
END:VCALENDAR