BEGIN:VCALENDAR
VERSION:2.0
PRODID:-//Philadelphia Family Magazine - ECPv6.15.20//NONSGML v1.0//EN
CALSCALE:GREGORIAN
METHOD:PUBLISH
X-ORIGINAL-URL:https://phillyfamily.com
X-WR-CALDESC:Events for Philadelphia Family Magazine
REFRESH-INTERVAL;VALUE=DURATION:PT1H
X-Robots-Tag:noindex
X-PUBLISHED-TTL:PT1H
BEGIN:VTIMEZONE
TZID:America/New_York
BEGIN:DAYLIGHT
TZOFFSETFROM:-0500
TZOFFSETTO:-0400
TZNAME:EDT
DTSTART:20250309T070000
END:DAYLIGHT
BEGIN:STANDARD
TZOFFSETFROM:-0400
TZOFFSETTO:-0500
TZNAME:EST
DTSTART:20251102T060000
END:STANDARD
BEGIN:DAYLIGHT
TZOFFSETFROM:-0500
TZOFFSETTO:-0400
TZNAME:EDT
DTSTART:20260308T070000
END:DAYLIGHT
BEGIN:STANDARD
TZOFFSETFROM:-0400
TZOFFSETTO:-0500
TZNAME:EST
DTSTART:20261101T060000
END:STANDARD
BEGIN:DAYLIGHT
TZOFFSETFROM:-0500
TZOFFSETTO:-0400
TZNAME:EDT
DTSTART:20270314T070000
END:DAYLIGHT
BEGIN:STANDARD
TZOFFSETFROM:-0400
TZOFFSETTO:-0500
TZNAME:EST
DTSTART:20271107T060000
END:STANDARD
END:VTIMEZONE
BEGIN:VEVENT
DTSTART;TZID=America/New_York:20260131T090000
DTEND;TZID=America/New_York:20260131T110000
DTSTAMP:20260419T134052
CREATED:20260114T010108Z
LAST-MODIFIED:20260114T010108Z
UID:10033511-1769850000-1769857200@phillyfamily.com
SUMMARY:Skate for a Cure in Memory of Jodie Milkman at Independence Blue Cross RiverRink
DESCRIPTION:Join the Sandy Rollman Foundation at Independence Blue Cross RiverRink on January 31 for a meaningful start to the new year. Skate in memory of Jodie Milkman while supporting ovarian cancer awareness. Admission is $5 and includes skate rental and complimentary parking.
URL:https://phillyfamily.com/event/skate-for-a-cure-in-memory-of-jodie-milkman-at-independence-blue-cross-riverrink/
LOCATION:Independence Blue Cross RiverRink\, 101 S Columbus Boulevard\, Philadelphia\, PA\, 19106\, United States
CATEGORIES:Charity/Fundraising Event,Community Event,Family Event,Philadelphia Events
ATTACH;FMTTYPE=image/jpeg:https://phillyfamily.com/wp-content/uploads/2026/01/IMG_3042-e1768352415977.jpg
END:VEVENT
END:VCALENDAR