BEGIN:VCALENDAR
VERSION:2.0
PRODID:-//Philadelphia Family Magazine - ECPv6.15.20//NONSGML v1.0//EN
CALSCALE:GREGORIAN
METHOD:PUBLISH
X-WR-CALNAME:Philadelphia Family Magazine
X-ORIGINAL-URL:https://phillyfamily.com
X-WR-CALDESC:Events for Philadelphia Family Magazine
REFRESH-INTERVAL;VALUE=DURATION:PT1H
X-Robots-Tag:noindex
X-PUBLISHED-TTL:PT1H
BEGIN:VTIMEZONE
TZID:America/New_York
BEGIN:DAYLIGHT
TZOFFSETFROM:-0500
TZOFFSETTO:-0400
TZNAME:EDT
DTSTART:20250309T070000
END:DAYLIGHT
BEGIN:STANDARD
TZOFFSETFROM:-0400
TZOFFSETTO:-0500
TZNAME:EST
DTSTART:20251102T060000
END:STANDARD
BEGIN:DAYLIGHT
TZOFFSETFROM:-0500
TZOFFSETTO:-0400
TZNAME:EDT
DTSTART:20260308T070000
END:DAYLIGHT
BEGIN:STANDARD
TZOFFSETFROM:-0400
TZOFFSETTO:-0500
TZNAME:EST
DTSTART:20261101T060000
END:STANDARD
BEGIN:DAYLIGHT
TZOFFSETFROM:-0500
TZOFFSETTO:-0400
TZNAME:EDT
DTSTART:20270314T070000
END:DAYLIGHT
BEGIN:STANDARD
TZOFFSETFROM:-0400
TZOFFSETTO:-0500
TZNAME:EST
DTSTART:20271107T060000
END:STANDARD
END:VTIMEZONE
BEGIN:VEVENT
DTSTART;TZID=America/New_York:20260418T120000
DTEND;TZID=America/New_York:20260418T170000
DTSTAMP:20260420T051300
CREATED:20260409T005811Z
LAST-MODIFIED:20260409T005811Z
UID:10035621-1776513600-1776531600@phillyfamily.com
SUMMARY:El Mercado Cultural in collaboration with Fleisher Art Memorial at Cherry Street Pier
DESCRIPTION:El Mercado Cultural returns to Cherry Street Pier this spring and summer\, brought to life in collaboration with Fleisher Art Memorial. Free and open to all ages\, the market features local vendors\, food and drinks\, and rotating entertainment across three dates — with market items available on a pay-as-you-go basis.
URL:https://phillyfamily.com/event/el-mercado-cultural-in-collaboration-with-fleisher-art-memorial-at-cherry-street-pier/2026-04-18/
LOCATION:Cherry Street Pier\, 121 N Christopher Columbus Blvd\, Philadelphia\, PA\, 19106\, United States
CATEGORIES:Community Event,Family Event,For Kids Ages 1 – 3,For Kids Ages 11 – 14,For Kids Ages 15+,For Kids Ages 4 – 6,For Kids Ages 8 – 10,For New & Expecting Parents,For Parents,For The Whole Family,Free,Philadelphia Events
ATTACH;FMTTYPE=image/jpeg:https://phillyfamily.com/wp-content/uploads/2026/04/event-elmercadocherry-e1775696276154.jpg
END:VEVENT
BEGIN:VEVENT
DTSTART;TZID=America/New_York:20260418T123000
DTEND;TZID=America/New_York:20260418T133000
DTSTAMP:20260420T051300
CREATED:20260327T210359Z
LAST-MODIFIED:20260327T210359Z
UID:10035362-1776515400-1776519000@phillyfamily.com
SUMMARY:Youth Choir - Singing City: Next Generation
DESCRIPTION:Love to sing? Come sing with us! Singing City: Next Generation is a FREE choir for kids and teens\, as part of a collaboration between Singing City and Temple Music Prep’s Community Music Scholars Program. Everyone is welcome and no audition required! Just come ready to sing\, have fun\, and make new friends. \nRegistration is required\, so sign up on the website.
URL:https://phillyfamily.com/event/youth-choir-singing-city-next-generation/
LOCATION:Presser Hall at Temple University\, 2001 North 13th Street\, Philadelphia\, PA\, 19122\, United States
CATEGORIES:For Kids Ages 11 – 14,For Kids Ages 15+,For Kids Ages 4 – 6,For Kids Ages 8 – 10,Free
ATTACH;FMTTYPE=image/jpeg:https://phillyfamily.com/wp-content/uploads/2026/03/event-freeyouthchoirsinging-scaled-e1774645434605.jpg
END:VEVENT
BEGIN:VEVENT
DTSTART;TZID=America/New_York:20260418T130000
DTEND;TZID=America/New_York:20260418T150000
DTSTAMP:20260420T051300
CREATED:20260408T061754Z
LAST-MODIFIED:20260408T061754Z
UID:10035609-1776517200-1776524400@phillyfamily.com
SUMMARY:Crafting History: Water Marbling at Historic St. George's Museum and Archives
DESCRIPTION:Create and decorate water marble bookmarks and journal covers at Historic St. George’s! \nNote: Water marbling is free for all ages! Participants can purchase a journal\, or purchase one for $5.
URL:https://phillyfamily.com/event/crafting-history-water-marbling-at-historic-st-georges-museum-and-archives/
LOCATION:Historic St. George’s Museum & Archives\, 326 New St.\, Philadelphia\, PA\, 19106\, United States
CATEGORIES:Arts & Crafts,Community Event,Family Event,For Kids Ages 1 – 3,For Kids Ages 11 – 14,For Kids Ages 15+,For Kids Ages 4 – 6,For Kids Ages 7 – 10,For Kids Ages 8 – 10,For The Whole Family,Free
ATTACH;FMTTYPE=image/jpeg:https://phillyfamily.com/wp-content/uploads/2026/04/event-watermarblinghsgmuseum-e1775629066661.jpg
END:VEVENT
END:VCALENDAR