BEGIN:VCALENDAR
VERSION:2.0
PRODID:-//Philadelphia Family Magazine - ECPv6.15.20//NONSGML v1.0//EN
CALSCALE:GREGORIAN
METHOD:PUBLISH
X-WR-CALNAME:Philadelphia Family Magazine
X-ORIGINAL-URL:https://phillyfamily.com
X-WR-CALDESC:Events for Philadelphia Family Magazine
REFRESH-INTERVAL;VALUE=DURATION:PT1H
X-Robots-Tag:noindex
X-PUBLISHED-TTL:PT1H
BEGIN:VTIMEZONE
TZID:America/New_York
BEGIN:DAYLIGHT
TZOFFSETFROM:-0500
TZOFFSETTO:-0400
TZNAME:EDT
DTSTART:20250309T070000
END:DAYLIGHT
BEGIN:STANDARD
TZOFFSETFROM:-0400
TZOFFSETTO:-0500
TZNAME:EST
DTSTART:20251102T060000
END:STANDARD
BEGIN:DAYLIGHT
TZOFFSETFROM:-0500
TZOFFSETTO:-0400
TZNAME:EDT
DTSTART:20260308T070000
END:DAYLIGHT
BEGIN:STANDARD
TZOFFSETFROM:-0400
TZOFFSETTO:-0500
TZNAME:EST
DTSTART:20261101T060000
END:STANDARD
BEGIN:DAYLIGHT
TZOFFSETFROM:-0500
TZOFFSETTO:-0400
TZNAME:EDT
DTSTART:20270314T070000
END:DAYLIGHT
BEGIN:STANDARD
TZOFFSETFROM:-0400
TZOFFSETTO:-0500
TZNAME:EST
DTSTART:20271107T060000
END:STANDARD
END:VTIMEZONE
BEGIN:VEVENT
DTSTART;TZID=America/New_York:20260330T180000
DTEND;TZID=America/New_York:20260330T193000
DTSTAMP:20260420T054543
CREATED:20260327T211248Z
LAST-MODIFIED:20260327T211248Z
UID:10035369-1774893600-1774899000@phillyfamily.com
SUMMARY:Author Laurie Halse Anderson Visit at Parkway Central Library
DESCRIPTION:Come together at Parkway Central Library for an exciting event with Laurie Halse Anderson\, the award‑winning author of many amazing books for kids and teens! \nLaurie has stories that readers all over the world love—more than eight million copies of her books have been sold! Some of her books\, like Speak and Chains\, were even chosen as finalists for the National Book Award\, which is a really big honor for authors.
URL:https://phillyfamily.com/event/author-laurie-halse-anderson-visit-at-parkway-central-library/
LOCATION:Parkway Central Library\, 1901 Vine Street\, Children's Department Ground Floor - Room 22\, Philadelphia\, PA\, 19103\, United States
CATEGORIES:For Kids Ages 11 – 14,For Kids Ages 15+,For Kids Ages 8 – 10,For The Whole Family,Free
ATTACH;FMTTYPE=image/jpeg:https://phillyfamily.com/wp-content/uploads/2026/03/event-parkwaycentralauthorlaurie-e1774645959516.jpg
END:VEVENT
BEGIN:VEVENT
DTSTART;TZID=America/New_York:20260331T110000
DTEND;TZID=America/New_York:20260331T200000
DTSTAMP:20260420T054543
CREATED:20260328T030423Z
LAST-MODIFIED:20260328T030534Z
UID:10035374-1774954800-1774987200@phillyfamily.com
SUMMARY:Ministry of Awe
DESCRIPTION:Ministry of Awe is a new\, ever-evolving immersive art experience in Philadelphia that’s located inside a 19th-century bank and transformed into a surreal world packed with fun for the family. Each act of wonder yields infinite returns. When visitors enter the ATM\, they end up leaving in awe.
URL:https://phillyfamily.com/event/ministry-of-awe/2026-03-31/
LOCATION:Ministry of Awe\, 27 N. 3rd Street\, Philadelphia\, PA\, 19106\, United States
CATEGORIES:Community Event,Family Event,For Kids Ages 1 – 3,For Kids Ages 11 – 14,For Kids Ages 15+,For Kids Ages 4 – 6,For Kids Ages 8 – 10,For The Whole Family
ATTACH;FMTTYPE=image/jpeg:https://phillyfamily.com/wp-content/uploads/2026/03/event-moa-e1774667056606.jpg
END:VEVENT
BEGIN:VEVENT
DTSTART;TZID=America/New_York:20260401T110000
DTEND;TZID=America/New_York:20260401T200000
DTSTAMP:20260420T054543
CREATED:20260328T030423Z
LAST-MODIFIED:20260328T030534Z
UID:10035375-1775041200-1775073600@phillyfamily.com
SUMMARY:Ministry of Awe
DESCRIPTION:Ministry of Awe is a new\, ever-evolving immersive art experience in Philadelphia that’s located inside a 19th-century bank and transformed into a surreal world packed with fun for the family. Each act of wonder yields infinite returns. When visitors enter the ATM\, they end up leaving in awe.
URL:https://phillyfamily.com/event/ministry-of-awe/2026-04-01/
LOCATION:Ministry of Awe\, 27 N. 3rd Street\, Philadelphia\, PA\, 19106\, United States
CATEGORIES:Community Event,Family Event,For Kids Ages 1 – 3,For Kids Ages 11 – 14,For Kids Ages 15+,For Kids Ages 4 – 6,For Kids Ages 8 – 10,For The Whole Family
ATTACH;FMTTYPE=image/jpeg:https://phillyfamily.com/wp-content/uploads/2026/03/event-moa-e1774667056606.jpg
END:VEVENT
BEGIN:VEVENT
DTSTART;TZID=America/New_York:20260401T170000
DTEND;TZID=America/New_York:20260401T200000
DTSTAMP:20260420T054543
CREATED:20260317T164347Z
LAST-MODIFIED:20260317T164347Z
UID:10035269-1775062800-1775073600@phillyfamily.com
SUMMARY:Family Fun Night at the National Constitution Center
DESCRIPTION:In celebration of America’s 250th\, kick-off Spring Break with Family Fun Night at the National Constitution Center! Enjoy extended hours in the galleries\, including the new America’s Founding exhibit\, and a guided flashlight tour of Signers’ Hall. Try out 18th-century themed crafts\, activities\, and workshops throughout the evening\, where it’s like This fun and interactive night will be educational and entertaining for the whole family.
URL:https://phillyfamily.com/event/family-fun-night-at-the-national-constitution-center/
LOCATION:National Constitution Center\, 525 Arch Street\, Philadelphia\, PA\, 19106\, United States
CATEGORIES:Community Event,For Kids Ages 1 – 3,For Kids Ages 11 – 14,For Kids Ages 4 – 6,For Kids Ages 8 – 10,For The Whole Family
ATTACH;FMTTYPE=image/jpeg:https://phillyfamily.com/wp-content/uploads/2026/03/event-ncc-familyfunnight-e1773765808743.jpg
END:VEVENT
BEGIN:VEVENT
DTSTART;TZID=America/New_York:20260402T110000
DTEND;TZID=America/New_York:20260402T200000
DTSTAMP:20260420T054543
CREATED:20260328T030423Z
LAST-MODIFIED:20260328T030534Z
UID:10035376-1775127600-1775160000@phillyfamily.com
SUMMARY:Ministry of Awe
DESCRIPTION:Ministry of Awe is a new\, ever-evolving immersive art experience in Philadelphia that’s located inside a 19th-century bank and transformed into a surreal world packed with fun for the family. Each act of wonder yields infinite returns. When visitors enter the ATM\, they end up leaving in awe.
URL:https://phillyfamily.com/event/ministry-of-awe/2026-04-02/
LOCATION:Ministry of Awe\, 27 N. 3rd Street\, Philadelphia\, PA\, 19106\, United States
CATEGORIES:Community Event,Family Event,For Kids Ages 1 – 3,For Kids Ages 11 – 14,For Kids Ages 15+,For Kids Ages 4 – 6,For Kids Ages 8 – 10,For The Whole Family
ATTACH;FMTTYPE=image/jpeg:https://phillyfamily.com/wp-content/uploads/2026/03/event-moa-e1774667056606.jpg
END:VEVENT
BEGIN:VEVENT
DTSTART;TZID=America/New_York:20260404T190000
DTEND;TZID=America/New_York:20260404T210000
DTSTAMP:20260420T054543
CREATED:20260404T110443Z
LAST-MODIFIED:20260404T110443Z
UID:10035579-1775329200-1775336400@phillyfamily.com
SUMMARY:Curtis New Music Ensemble: Portrait of Jessie Montgomery
DESCRIPTION:Curtis New Music Ensemble celebrates composer-in-residence Jessie Montgomery with a concert featuring works by the Grammy-winning composer\, violinist\, and educator. Praised as “turbulent\, wildly colorful\, and exploding with life” (Washington Post)\, Montgomery’s music fuses classical with vernacular styles\, improvisation\, poetry\, and social consciousness — offering a profound reflection of 21st-century American sound. \nA winner of the Sphinx Medal of Excellence\, Leonard Bernstein Award\, and Musical America’s 2023 Composer of the Year\, Montgomery explores themes from social justice to the Black diasporic experience with remarkable depth. The program opens with Concerto Grosso\, a bold reimagining of the baroque tradition where the solo violinist embraces “choose your own adventure” spontaneity. It concludes with Musings for two violins\, inspired by Bartók’s 44 Duos for Two Violins and honors composers like Bach\, Hindemith\, and Vivaldi. This captivating evening showcases Montgomery’s dynamic voice in modern classical music. \nPlease note programs and artists are subject to change. \nJessie Montgomery is a Grammy Award-winning composer\, violinist\, and educator whose work interweaves classical music with elements of vernacular music\, improvisation\, poetry\, and social consciousness\, making her an acute interpreter of 21st-century American sound and experience.
URL:https://phillyfamily.com/event/curtis-new-music-ensemble-portrait-of-jessie-montgomery/
LOCATION:gould rehearsal hall\, 1616 Spruce Street 5 Balsam Court\, Philadelphia\, PA\, 19102\, United States
CATEGORIES:Community Event,For Kids Ages 11 – 14,For Kids Ages 15+,For Kids Ages 8 – 10,For Parents,For The Whole Family
ATTACH;FMTTYPE=image/jpeg:https://phillyfamily.com/wp-content/uploads/2026/04/event-curtisnewmusicensemble-e1775300665869.jpg
END:VEVENT
END:VCALENDAR