BEGIN:VCALENDAR
VERSION:2.0
PRODID:-//Philadelphia Family Magazine - ECPv6.15.20//NONSGML v1.0//EN
CALSCALE:GREGORIAN
METHOD:PUBLISH
X-WR-CALNAME:Philadelphia Family Magazine
X-ORIGINAL-URL:https://phillyfamily.com
X-WR-CALDESC:Events for Philadelphia Family Magazine
REFRESH-INTERVAL;VALUE=DURATION:PT1H
X-Robots-Tag:noindex
X-PUBLISHED-TTL:PT1H
BEGIN:VTIMEZONE
TZID:America/New_York
BEGIN:DAYLIGHT
TZOFFSETFROM:-0500
TZOFFSETTO:-0400
TZNAME:EDT
DTSTART:20250309T070000
END:DAYLIGHT
BEGIN:STANDARD
TZOFFSETFROM:-0400
TZOFFSETTO:-0500
TZNAME:EST
DTSTART:20251102T060000
END:STANDARD
BEGIN:DAYLIGHT
TZOFFSETFROM:-0500
TZOFFSETTO:-0400
TZNAME:EDT
DTSTART:20260308T070000
END:DAYLIGHT
BEGIN:STANDARD
TZOFFSETFROM:-0400
TZOFFSETTO:-0500
TZNAME:EST
DTSTART:20261101T060000
END:STANDARD
BEGIN:DAYLIGHT
TZOFFSETFROM:-0500
TZOFFSETTO:-0400
TZNAME:EDT
DTSTART:20270314T070000
END:DAYLIGHT
BEGIN:STANDARD
TZOFFSETFROM:-0400
TZOFFSETTO:-0500
TZNAME:EST
DTSTART:20271107T060000
END:STANDARD
END:VTIMEZONE
BEGIN:VEVENT
DTSTART;TZID=America/New_York:20260427T163000
DTEND;TZID=America/New_York:20260427T180000
DTSTAMP:20260420T112848
CREATED:20260327T210811Z
LAST-MODIFIED:20260327T210811Z
UID:10035365-1777307400-1777312800@phillyfamily.com
SUMMARY:Monday Basketball with Volo Kids at Mander Playground
DESCRIPTION:Play free basketball with Volo Kids at Mander Playground! \nVolo Kids is on a mission to build communities of active\, resilient\, and confident kids through free\, quality sports programs! Our programs are completely free\, and this program is open to all kids ages 5-13\, regardless of gender or experience level. In a Volo Kids program\, you can expect 6 weeks of skills and drills to improve your technique or try a new sport!
URL:https://phillyfamily.com/event/monday-basketball-with-volo-kids-at-mander-playground/2026-04-27/
LOCATION:2140 N. 33rd St.\, 2140 N. 33rd St.\, Philadelphia\, PA\, 19145\, United States
CATEGORIES:For Kids Ages 11 – 14,For Kids Ages 15+,For Kids Ages 4 – 6,For Kids Ages 8 – 10,Free,Sporting Events
ATTACH;FMTTYPE=image/jpeg:https://phillyfamily.com/wp-content/uploads/2026/03/event-volokidsphilly-scaled-e1774645669804.jpg
END:VEVENT
BEGIN:VEVENT
DTSTART;TZID=America/New_York:20260428T110000
DTEND;TZID=America/New_York:20260428T200000
DTSTAMP:20260420T112848
CREATED:20260328T030423Z
LAST-MODIFIED:20260328T030534Z
UID:10035386-1777374000-1777406400@phillyfamily.com
SUMMARY:Ministry of Awe
DESCRIPTION:Ministry of Awe is a new\, ever-evolving immersive art experience in Philadelphia that’s located inside a 19th-century bank and transformed into a surreal world packed with fun for the family. Each act of wonder yields infinite returns. When visitors enter the ATM\, they end up leaving in awe.
URL:https://phillyfamily.com/event/ministry-of-awe/2026-04-28/
LOCATION:Ministry of Awe\, 27 N. 3rd Street\, Philadelphia\, PA\, 19106\, United States
CATEGORIES:Community Event,Family Event,For Kids Ages 1 – 3,For Kids Ages 11 – 14,For Kids Ages 15+,For Kids Ages 4 – 6,For Kids Ages 8 – 10,For The Whole Family
ATTACH;FMTTYPE=image/jpeg:https://phillyfamily.com/wp-content/uploads/2026/03/event-moa-e1774667056606.jpg
END:VEVENT
BEGIN:VEVENT
DTSTART;TZID=America/New_York:20260429T110000
DTEND;TZID=America/New_York:20260429T200000
DTSTAMP:20260420T112848
CREATED:20260328T030423Z
LAST-MODIFIED:20260328T030534Z
UID:10035387-1777460400-1777492800@phillyfamily.com
SUMMARY:Ministry of Awe
DESCRIPTION:Ministry of Awe is a new\, ever-evolving immersive art experience in Philadelphia that’s located inside a 19th-century bank and transformed into a surreal world packed with fun for the family. Each act of wonder yields infinite returns. When visitors enter the ATM\, they end up leaving in awe.
URL:https://phillyfamily.com/event/ministry-of-awe/2026-04-29/
LOCATION:Ministry of Awe\, 27 N. 3rd Street\, Philadelphia\, PA\, 19106\, United States
CATEGORIES:Community Event,Family Event,For Kids Ages 1 – 3,For Kids Ages 11 – 14,For Kids Ages 15+,For Kids Ages 4 – 6,For Kids Ages 8 – 10,For The Whole Family
ATTACH;FMTTYPE=image/jpeg:https://phillyfamily.com/wp-content/uploads/2026/03/event-moa-e1774667056606.jpg
END:VEVENT
BEGIN:VEVENT
DTSTART;TZID=America/New_York:20260430T110000
DTEND;TZID=America/New_York:20260430T200000
DTSTAMP:20260420T112848
CREATED:20260328T030423Z
LAST-MODIFIED:20260328T030534Z
UID:10035388-1777546800-1777579200@phillyfamily.com
SUMMARY:Ministry of Awe
DESCRIPTION:Ministry of Awe is a new\, ever-evolving immersive art experience in Philadelphia that’s located inside a 19th-century bank and transformed into a surreal world packed with fun for the family. Each act of wonder yields infinite returns. When visitors enter the ATM\, they end up leaving in awe.
URL:https://phillyfamily.com/event/ministry-of-awe/2026-04-30/
LOCATION:Ministry of Awe\, 27 N. 3rd Street\, Philadelphia\, PA\, 19106\, United States
CATEGORIES:Community Event,Family Event,For Kids Ages 1 – 3,For Kids Ages 11 – 14,For Kids Ages 15+,For Kids Ages 4 – 6,For Kids Ages 8 – 10,For The Whole Family
ATTACH;FMTTYPE=image/jpeg:https://phillyfamily.com/wp-content/uploads/2026/03/event-moa-e1774667056606.jpg
END:VEVENT
BEGIN:VEVENT
DTSTART;TZID=America/New_York:20260501T193000
DTEND;TZID=America/New_York:20260501T210000
DTSTAMP:20260420T112848
CREATED:20260327T205234Z
LAST-MODIFIED:20260327T205234Z
UID:10035358-1777663800-1777669200@phillyfamily.com
SUMMARY:Contemporary West Dance Theatre "Spring Concert Series"
DESCRIPTION:Contemporary West Dance Theatre\, (CWDT) one of the country’s leading Contemporary Modern\, ballet dance company\, is excited to announce its 19th Year Anniversary. This May\, they will present “Have a Spring Concert Series with CWDT” at the Fringe Arts Theatre. CWDT will present three performances featuring works by Founder and Artistic Director Bernard H. Gaddis\, including “Starburst\,” a world premiere celebrating the 250th anniversary of the United States and Philadelphia\, “L’amore L’amore L’amore\,” and excerpts from his ballets “Sacrifus\,” “Steel & Bones\,” and “Liaison.” \nFor more information about the relocation\, upcoming events and how to get involved\, please visit their website.
URL:https://phillyfamily.com/event/contemporary-west-dance-theatre-spring-concert-series/2026-05-01/
LOCATION:Fringe Arts\, 140 N. Columbus Blvd.\, Philadelphia\, PA\, 19106\, United States
CATEGORIES:Community Event,For Kids Ages 1 – 3,For Kids Ages 11 – 14,For Kids Ages 15+,For Kids Ages 4 – 6,For Kids Ages 8 – 10,For New & Expecting Parents,For Parents,For The Whole Family,Theatre and Performance Art
ATTACH;FMTTYPE=image/jpeg:https://phillyfamily.com/wp-content/uploads/2026/03/event-cwconcert-e1774644717585.jpeg
END:VEVENT
BEGIN:VEVENT
DTSTART;TZID=America/New_York:20260502T100000
DTEND;TZID=America/New_York:20260502T120000
DTSTAMP:20260420T112848
CREATED:20260327T212952Z
LAST-MODIFIED:20260327T212952Z
UID:10035372-1777716000-1777723200@phillyfamily.com
SUMMARY:Riverbend's Tadpole Transformations
DESCRIPTION:It’s that exciting time of the year again when the ponds fill to the brim with squirming tadpoles! \nJoin Riverbend’s Educators for this annual rite of spring that happens right here at Riverbend. Learn about the lifecycle of the amphibians that live at the preserve and see the tadpoles in action. This fun event is open to individuals and to families with children of all ages. \nGuests will explore the preserve and visit activity stations to learn all about frogs. Guests are encouraged to visit at their own pace and stay as long as they wish. \nThis event is rain or shine so dress for the weather.
URL:https://phillyfamily.com/event/riverbends-tadpole-transformations/
LOCATION:Riverbend Environmental Education Center\, 1950 Spring Mill Road\, Gladwyne\, PA\, 19035\, United States
CATEGORIES:Community Event,For Kids Ages 1 – 3,For Kids Ages 11 – 14,For Kids Ages 15+,For Kids Ages 4 – 6,For Kids Ages 8 – 10,For The Whole Family,Outdoor/Nature
ATTACH;FMTTYPE=image/jpeg:https://phillyfamily.com/wp-content/uploads/2026/03/event-tadpoletransformation-e1774646984560.jpg
END:VEVENT
BEGIN:VEVENT
DTSTART;TZID=America/New_York:20260502T120000
DTEND;TZID=America/New_York:20260502T160000
DTSTAMP:20260420T112848
CREATED:20260408T062059Z
LAST-MODIFIED:20260408T062059Z
UID:10035610-1777723200-1777737600@phillyfamily.com
SUMMARY:May First Saturday Open House: Go Birds at Wagner Free Institute
DESCRIPTION:Birdwatching requires a combination of skills: a watchful eye\, a patient demeanor\, and a working knowledge on what local birds look like\, sound like\, and where you might best find them. At this First Saturday Open House\, be an ornithologist by practicing your bird watching skills in the Wagner’s Teaching Garden. Visitors can imitate bird calls and learn tips on how to accurately identify our flying friends. This is a perfect opportunity for folks to freshen up on their ornithology knowledge in preparation for Global Big Day\, an annual celebration of birding to be held on Saturday May 9th. \nThis event is also a part of Remake Learning Days\, a national celebration of innovative experiences and opportunities for youth to develop their sense of creativity\, perseverance and curiosity. \nThe Wagner’s 100\,000+ natural history collection will also be available for self-guided exploration throughout the day. Browse ancient fossils\, glowing minerals\, and animals from around the globe. Visitors can wander at their own pace\, follow the path of one of our themed scavenger hunts\, or even fill in a coloring page with images from the Wagner’s library!
URL:https://phillyfamily.com/event/may-first-saturday-open-house-go-birds-at-wagner-free-institute/
LOCATION:Wagner Free Institute\, 1700 West Montgomery Avenue\, Philadelphia\, 19121\, United States
CATEGORIES:Community Event,Family Event,For Kids Ages 1 – 3,For Kids Ages 11 – 14,For Kids Ages 15+,For Kids Ages 4 – 6,For Kids Ages 7 – 10,For Kids Ages 8 – 10,For Parents,For The Whole Family,Free
ATTACH;FMTTYPE=image/jpeg:https://phillyfamily.com/wp-content/uploads/2026/04/event-wagnerfreeinstitute-e1775629249481.jpg
END:VEVENT
BEGIN:VEVENT
DTSTART;TZID=America/New_York:20260502T143000
DTEND;TZID=America/New_York:20260502T170000
DTSTAMP:20260420T112848
CREATED:20260327T205234Z
LAST-MODIFIED:20260327T205234Z
UID:10035359-1777732200-1777741200@phillyfamily.com
SUMMARY:Contemporary West Dance Theatre "Spring Concert Series"
DESCRIPTION:Contemporary West Dance Theatre\, (CWDT) one of the country’s leading Contemporary Modern\, ballet dance company\, is excited to announce its 19th Year Anniversary. This May\, they will present “Have a Spring Concert Series with CWDT” at the Fringe Arts Theatre. CWDT will present three performances featuring works by Founder and Artistic Director Bernard H. Gaddis\, including “Starburst\,” a world premiere celebrating the 250th anniversary of the United States and Philadelphia\, “L’amore L’amore L’amore\,” and excerpts from his ballets “Sacrifus\,” “Steel & Bones\,” and “Liaison.” \nFor more information about the relocation\, upcoming events and how to get involved\, please visit their website.
URL:https://phillyfamily.com/event/contemporary-west-dance-theatre-spring-concert-series/2026-05-02/1/
LOCATION:Fringe Arts\, 140 N. Columbus Blvd.\, Philadelphia\, PA\, 19106\, United States
CATEGORIES:Community Event,For Kids Ages 1 – 3,For Kids Ages 11 – 14,For Kids Ages 15+,For Kids Ages 4 – 6,For Kids Ages 8 – 10,For New & Expecting Parents,For Parents,For The Whole Family,Theatre and Performance Art
ATTACH;FMTTYPE=image/jpeg:https://phillyfamily.com/wp-content/uploads/2026/03/event-cwconcert-e1774644717585.jpeg
END:VEVENT
BEGIN:VEVENT
DTSTART;TZID=America/New_York:20260502T193000
DTEND;TZID=America/New_York:20260502T210000
DTSTAMP:20260420T112848
CREATED:20260327T205234Z
LAST-MODIFIED:20260327T205234Z
UID:10035360-1777750200-1777755600@phillyfamily.com
SUMMARY:Contemporary West Dance Theatre "Spring Concert Series"
DESCRIPTION:Contemporary West Dance Theatre\, (CWDT) one of the country’s leading Contemporary Modern\, ballet dance company\, is excited to announce its 19th Year Anniversary. This May\, they will present “Have a Spring Concert Series with CWDT” at the Fringe Arts Theatre. CWDT will present three performances featuring works by Founder and Artistic Director Bernard H. Gaddis\, including “Starburst\,” a world premiere celebrating the 250th anniversary of the United States and Philadelphia\, “L’amore L’amore L’amore\,” and excerpts from his ballets “Sacrifus\,” “Steel & Bones\,” and “Liaison.” \nFor more information about the relocation\, upcoming events and how to get involved\, please visit their website.
URL:https://phillyfamily.com/event/contemporary-west-dance-theatre-spring-concert-series/2026-05-02/2/
LOCATION:Fringe Arts\, 140 N. Columbus Blvd.\, Philadelphia\, PA\, 19106\, United States
CATEGORIES:Community Event,For Kids Ages 1 – 3,For Kids Ages 11 – 14,For Kids Ages 15+,For Kids Ages 4 – 6,For Kids Ages 8 – 10,For New & Expecting Parents,For Parents,For The Whole Family,Theatre and Performance Art
ATTACH;FMTTYPE=image/jpeg:https://phillyfamily.com/wp-content/uploads/2026/03/event-cwconcert-e1774644717585.jpeg
END:VEVENT
END:VCALENDAR