BEGIN:VCALENDAR
VERSION:2.0
PRODID:-//Philadelphia Family Magazine - ECPv6.15.20//NONSGML v1.0//EN
CALSCALE:GREGORIAN
METHOD:PUBLISH
X-ORIGINAL-URL:https://phillyfamily.com
X-WR-CALDESC:Events for Philadelphia Family Magazine
REFRESH-INTERVAL;VALUE=DURATION:PT1H
X-Robots-Tag:noindex
X-PUBLISHED-TTL:PT1H
BEGIN:VTIMEZONE
TZID:America/New_York
BEGIN:DAYLIGHT
TZOFFSETFROM:-0500
TZOFFSETTO:-0400
TZNAME:EDT
DTSTART:20250309T070000
END:DAYLIGHT
BEGIN:STANDARD
TZOFFSETFROM:-0400
TZOFFSETTO:-0500
TZNAME:EST
DTSTART:20251102T060000
END:STANDARD
BEGIN:DAYLIGHT
TZOFFSETFROM:-0500
TZOFFSETTO:-0400
TZNAME:EDT
DTSTART:20260308T070000
END:DAYLIGHT
BEGIN:STANDARD
TZOFFSETFROM:-0400
TZOFFSETTO:-0500
TZNAME:EST
DTSTART:20261101T060000
END:STANDARD
BEGIN:DAYLIGHT
TZOFFSETFROM:-0500
TZOFFSETTO:-0400
TZNAME:EDT
DTSTART:20270314T070000
END:DAYLIGHT
BEGIN:STANDARD
TZOFFSETFROM:-0400
TZOFFSETTO:-0500
TZNAME:EST
DTSTART:20271107T060000
END:STANDARD
END:VTIMEZONE
BEGIN:VEVENT
DTSTART;TZID=America/New_York:20260504T163000
DTEND;TZID=America/New_York:20260504T180000
DTSTAMP:20260423T180945
CREATED:20260327T210811Z
LAST-MODIFIED:20260327T210811Z
UID:10035366-1777912200-1777917600@phillyfamily.com
SUMMARY:Monday Basketball with Volo Kids at Mander Playground
DESCRIPTION:Play free basketball with Volo Kids at Mander Playground! \nVolo Kids is on a mission to build communities of active\, resilient\, and confident kids through free\, quality sports programs! Our programs are completely free\, and this program is open to all kids ages 5-13\, regardless of gender or experience level. In a Volo Kids program\, you can expect 6 weeks of skills and drills to improve your technique or try a new sport!
URL:https://phillyfamily.com/event/monday-basketball-with-volo-kids-at-mander-playground/2026-05-04/
LOCATION:2140 N. 33rd St.\, 2140 N. 33rd St.\, Philadelphia\, PA\, 19145\, United States
CATEGORIES:For Kids Ages 11 – 14,For Kids Ages 15+,For Kids Ages 4 – 6,For Kids Ages 8 – 10,Free,Sporting Events
ATTACH;FMTTYPE=image/jpeg:https://phillyfamily.com/wp-content/uploads/2026/03/event-volokidsphilly-scaled-e1774645669804.jpg
END:VEVENT
BEGIN:VEVENT
DTSTART;TZID=America/New_York:20260504T170000
DTEND;TZID=America/New_York:20260504T180000
DTSTAMP:20260423T180945
CREATED:20260304T015728Z
LAST-MODIFIED:20260304T015728Z
UID:10035099-1777914000-1777917600@phillyfamily.com
SUMMARY:Twilight Tales Family Story Time at Lucien E. Blackwell West Philadelphia Regional Library
DESCRIPTION:Bring the family at Lucien E. Blackwell West Philadelphia Regional Library for an interactive storytime. Every Monday\, this event includes favorite read-aloud books\, songs\, and craft that’s fun for the whole family!
URL:https://phillyfamily.com/event/twilight-tales-family-story-time-at-lucien-e-blackwell-west-philadelphia-regional-library/2026-05-04/
LOCATION:Lucien E. Blackwell West Philadelphia Regional Library\, 125 S 52nd St\, Philadelphia\, PA\, 19139\, United States
CATEGORIES:At the library,For Kids Ages 1 – 3,For Kids Ages 4 – 6,Free,Kid Event,Storytime
ATTACH;FMTTYPE=image/png:https://phillyfamily.com/wp-content/uploads/2026/03/event-twilighttalesstorytime.png
END:VEVENT
BEGIN:VEVENT
DTSTART;TZID=America/New_York:20260505T110000
DTEND;TZID=America/New_York:20260505T200000
DTSTAMP:20260423T180945
CREATED:20260328T030423Z
LAST-MODIFIED:20260328T030534Z
UID:10035389-1777978800-1778011200@phillyfamily.com
SUMMARY:Ministry of Awe
DESCRIPTION:Ministry of Awe is a new\, ever-evolving immersive art experience in Philadelphia that’s located inside a 19th-century bank and transformed into a surreal world packed with fun for the family. Each act of wonder yields infinite returns. When visitors enter the ATM\, they end up leaving in awe.
URL:https://phillyfamily.com/event/ministry-of-awe/2026-05-05/
LOCATION:Ministry of Awe\, 27 N. 3rd Street\, Philadelphia\, PA\, 19106\, United States
CATEGORIES:Community Event,Family Event,For Kids Ages 1 – 3,For Kids Ages 11 – 14,For Kids Ages 15+,For Kids Ages 4 – 6,For Kids Ages 8 – 10,For The Whole Family
ATTACH;FMTTYPE=image/jpeg:https://phillyfamily.com/wp-content/uploads/2026/03/event-moa-e1774667056606.jpg
END:VEVENT
BEGIN:VEVENT
DTSTART;TZID=America/New_York:20260506T110000
DTEND;TZID=America/New_York:20260506T200000
DTSTAMP:20260423T180945
CREATED:20260328T030423Z
LAST-MODIFIED:20260328T030534Z
UID:10035390-1778065200-1778097600@phillyfamily.com
SUMMARY:Ministry of Awe
DESCRIPTION:Ministry of Awe is a new\, ever-evolving immersive art experience in Philadelphia that’s located inside a 19th-century bank and transformed into a surreal world packed with fun for the family. Each act of wonder yields infinite returns. When visitors enter the ATM\, they end up leaving in awe.
URL:https://phillyfamily.com/event/ministry-of-awe/2026-05-06/
LOCATION:Ministry of Awe\, 27 N. 3rd Street\, Philadelphia\, PA\, 19106\, United States
CATEGORIES:Community Event,Family Event,For Kids Ages 1 – 3,For Kids Ages 11 – 14,For Kids Ages 15+,For Kids Ages 4 – 6,For Kids Ages 8 – 10,For The Whole Family
ATTACH;FMTTYPE=image/jpeg:https://phillyfamily.com/wp-content/uploads/2026/03/event-moa-e1774667056606.jpg
END:VEVENT
BEGIN:VEVENT
DTSTART;TZID=America/New_York:20260507T110000
DTEND;TZID=America/New_York:20260507T200000
DTSTAMP:20260423T180945
CREATED:20260328T030423Z
LAST-MODIFIED:20260328T030534Z
UID:10035391-1778151600-1778184000@phillyfamily.com
SUMMARY:Ministry of Awe
DESCRIPTION:Ministry of Awe is a new\, ever-evolving immersive art experience in Philadelphia that’s located inside a 19th-century bank and transformed into a surreal world packed with fun for the family. Each act of wonder yields infinite returns. When visitors enter the ATM\, they end up leaving in awe.
URL:https://phillyfamily.com/event/ministry-of-awe/2026-05-07/
LOCATION:Ministry of Awe\, 27 N. 3rd Street\, Philadelphia\, PA\, 19106\, United States
CATEGORIES:Community Event,Family Event,For Kids Ages 1 – 3,For Kids Ages 11 – 14,For Kids Ages 15+,For Kids Ages 4 – 6,For Kids Ages 8 – 10,For The Whole Family
ATTACH;FMTTYPE=image/jpeg:https://phillyfamily.com/wp-content/uploads/2026/03/event-moa-e1774667056606.jpg
END:VEVENT
BEGIN:VEVENT
DTSTART;TZID=America/New_York:20260508T110000
DTEND;TZID=America/New_York:20260508T170000
DTSTAMP:20260423T180945
CREATED:20260423T143855Z
LAST-MODIFIED:20260423T143855Z
UID:10035665-1778238000-1778259600@phillyfamily.com
SUMMARY:Teddybear Picnic at Norwood-Fontbonne Academy
DESCRIPTION:Norwood-Fontbonne Academy is hosting a Teddy Bear Picnic on May 8 for children ages 2.5 to 5. Families are invited to bring their favorite teddy bear for a morning of laughter\, games\, storytelling\, and springtime fun!
URL:https://phillyfamily.com/event/teddybear-picnic-at-norwood-fontbonne-academy/
LOCATION:Norwood-Fontbonne Academy\, 8891 Germantown Avenue\, Philadelphia\, PA\, 19118\, United States
CATEGORIES:Community Event,Family Event,For Kids Ages 1 – 3,For Kids Ages 4 – 6,For Parents,For The Whole Family,Free
ATTACH;FMTTYPE=image/jpeg:https://phillyfamily.com/wp-content/uploads/2026/04/event-nfbateedybear-e1776955129219.jpg
END:VEVENT
BEGIN:VEVENT
DTSTART;TZID=America/New_York:20260510T120000
DTEND;TZID=America/New_York:20260510T160000
DTSTAMP:20260423T180945
CREATED:20260422T090358Z
LAST-MODIFIED:20260422T090358Z
UID:10035660-1778414400-1778428800@phillyfamily.com
SUMMARY:PECO Family Jams: One Book One Philadelphia
DESCRIPTION:This year\, the Free Library of Philadelphia’s kids’ selection for One Book One Philadelphia is “How to Grow a Family Tree\,” written by Bea Birdsong and illustrated by Jasu Hu. The book follows a girl whose family tree grows wide and welcoming through the caring friends and neighbors who become part of her life — and that spirit of inclusivity is exactly what PECO Family Jams is all about. \nFamilies are invited to come together\, make art\, and create connections at this special event. Kids can turn a white bandana into a colorful keepsake using stamps and fabric ink. Free tours of the fully mosaicked basement at Isaiah Zagar’s Magic Gardens will be offered at 12:30\, 1:30\, 2:30\, and 3:30 pm\, exploring how many kinds of family are represented throughout the space. Readings of “How to Grow a Family Tree” will take place during the 12:30 and 2:30 pm tours. \nPECO Family Jams is the Magic Gardens’ family-oriented program held on the second Sunday of every month from noon to 4:00 pm. Crafts and basement tours are included with regular admission. Families are encouraged to purchase tickets in advance.
URL:https://phillyfamily.com/event/peco-family-jams-one-book-one-philadelphia/
LOCATION:1020 South Street\, 1020 South Street\, Philadelphia\, PA\, 19147\, United States
CATEGORIES:Community Event,Family Event,For Kids Ages 11 – 14,For Kids Ages 15+,For Kids Ages 4 – 6,For Kids Ages 7 – 10,For Kids Ages 8 – 10,For Parents,For The Whole Family
ATTACH;FMTTYPE=image/jpeg:https://phillyfamily.com/wp-content/uploads/2026/04/event-pecofamilyjams-scaled-e1776848612980.jpg
END:VEVENT
END:VCALENDAR