BEGIN:VCALENDAR
VERSION:2.0
PRODID:-//Philadelphia Family Magazine - ECPv6.15.20//NONSGML v1.0//EN
CALSCALE:GREGORIAN
METHOD:PUBLISH
X-WR-CALNAME:Philadelphia Family Magazine
X-ORIGINAL-URL:https://phillyfamily.com
X-WR-CALDESC:Events for Philadelphia Family Magazine
REFRESH-INTERVAL;VALUE=DURATION:PT1H
X-Robots-Tag:noindex
X-PUBLISHED-TTL:PT1H
BEGIN:VTIMEZONE
TZID:America/New_York
BEGIN:DAYLIGHT
TZOFFSETFROM:-0500
TZOFFSETTO:-0400
TZNAME:EDT
DTSTART:20250309T070000
END:DAYLIGHT
BEGIN:STANDARD
TZOFFSETFROM:-0400
TZOFFSETTO:-0500
TZNAME:EST
DTSTART:20251102T060000
END:STANDARD
BEGIN:DAYLIGHT
TZOFFSETFROM:-0500
TZOFFSETTO:-0400
TZNAME:EDT
DTSTART:20260308T070000
END:DAYLIGHT
BEGIN:STANDARD
TZOFFSETFROM:-0400
TZOFFSETTO:-0500
TZNAME:EST
DTSTART:20261101T060000
END:STANDARD
BEGIN:DAYLIGHT
TZOFFSETFROM:-0500
TZOFFSETTO:-0400
TZNAME:EDT
DTSTART:20270314T070000
END:DAYLIGHT
BEGIN:STANDARD
TZOFFSETFROM:-0400
TZOFFSETTO:-0500
TZNAME:EST
DTSTART:20271107T060000
END:STANDARD
END:VTIMEZONE
BEGIN:VEVENT
DTSTART;TZID=America/New_York:20260511T163000
DTEND;TZID=America/New_York:20260511T180000
DTSTAMP:20260423T194242
CREATED:20260327T210811Z
LAST-MODIFIED:20260327T210811Z
UID:10035367-1778517000-1778522400@phillyfamily.com
SUMMARY:Monday Basketball with Volo Kids at Mander Playground
DESCRIPTION:Play free basketball with Volo Kids at Mander Playground! \nVolo Kids is on a mission to build communities of active\, resilient\, and confident kids through free\, quality sports programs! Our programs are completely free\, and this program is open to all kids ages 5-13\, regardless of gender or experience level. In a Volo Kids program\, you can expect 6 weeks of skills and drills to improve your technique or try a new sport!
URL:https://phillyfamily.com/event/monday-basketball-with-volo-kids-at-mander-playground/2026-05-11/
LOCATION:2140 N. 33rd St.\, 2140 N. 33rd St.\, Philadelphia\, PA\, 19145\, United States
CATEGORIES:For Kids Ages 11 – 14,For Kids Ages 15+,For Kids Ages 4 – 6,For Kids Ages 8 – 10,Free,Sporting Events
ATTACH;FMTTYPE=image/jpeg:https://phillyfamily.com/wp-content/uploads/2026/03/event-volokidsphilly-scaled-e1774645669804.jpg
END:VEVENT
BEGIN:VEVENT
DTSTART;TZID=America/New_York:20260511T170000
DTEND;TZID=America/New_York:20260511T180000
DTSTAMP:20260423T194242
CREATED:20260304T015728Z
LAST-MODIFIED:20260304T015728Z
UID:10035100-1778518800-1778522400@phillyfamily.com
SUMMARY:Twilight Tales Family Story Time at Lucien E. Blackwell West Philadelphia Regional Library
DESCRIPTION:Bring the family at Lucien E. Blackwell West Philadelphia Regional Library for an interactive storytime. Every Monday\, this event includes favorite read-aloud books\, songs\, and craft that’s fun for the whole family!
URL:https://phillyfamily.com/event/twilight-tales-family-story-time-at-lucien-e-blackwell-west-philadelphia-regional-library/2026-05-11/
LOCATION:Lucien E. Blackwell West Philadelphia Regional Library\, 125 S 52nd St\, Philadelphia\, PA\, 19139\, United States
CATEGORIES:At the library,For Kids Ages 1 – 3,For Kids Ages 4 – 6,Free,Kid Event,Storytime
ATTACH;FMTTYPE=image/png:https://phillyfamily.com/wp-content/uploads/2026/03/event-twilighttalesstorytime.png
END:VEVENT
BEGIN:VEVENT
DTSTART;TZID=America/New_York:20260512T110000
DTEND;TZID=America/New_York:20260512T200000
DTSTAMP:20260423T194242
CREATED:20260328T030423Z
LAST-MODIFIED:20260328T030534Z
UID:10035392-1778583600-1778616000@phillyfamily.com
SUMMARY:Ministry of Awe
DESCRIPTION:Ministry of Awe is a new\, ever-evolving immersive art experience in Philadelphia that’s located inside a 19th-century bank and transformed into a surreal world packed with fun for the family. Each act of wonder yields infinite returns. When visitors enter the ATM\, they end up leaving in awe.
URL:https://phillyfamily.com/event/ministry-of-awe/2026-05-12/
LOCATION:Ministry of Awe\, 27 N. 3rd Street\, Philadelphia\, PA\, 19106\, United States
CATEGORIES:Community Event,Family Event,For Kids Ages 1 – 3,For Kids Ages 11 – 14,For Kids Ages 15+,For Kids Ages 4 – 6,For Kids Ages 8 – 10,For The Whole Family
ATTACH;FMTTYPE=image/jpeg:https://phillyfamily.com/wp-content/uploads/2026/03/event-moa-e1774667056606.jpg
END:VEVENT
BEGIN:VEVENT
DTSTART;TZID=America/New_York:20260513T110000
DTEND;TZID=America/New_York:20260513T200000
DTSTAMP:20260423T194242
CREATED:20260328T030423Z
LAST-MODIFIED:20260328T030534Z
UID:10035393-1778670000-1778702400@phillyfamily.com
SUMMARY:Ministry of Awe
DESCRIPTION:Ministry of Awe is a new\, ever-evolving immersive art experience in Philadelphia that’s located inside a 19th-century bank and transformed into a surreal world packed with fun for the family. Each act of wonder yields infinite returns. When visitors enter the ATM\, they end up leaving in awe.
URL:https://phillyfamily.com/event/ministry-of-awe/2026-05-13/
LOCATION:Ministry of Awe\, 27 N. 3rd Street\, Philadelphia\, PA\, 19106\, United States
CATEGORIES:Community Event,Family Event,For Kids Ages 1 – 3,For Kids Ages 11 – 14,For Kids Ages 15+,For Kids Ages 4 – 6,For Kids Ages 8 – 10,For The Whole Family
ATTACH;FMTTYPE=image/jpeg:https://phillyfamily.com/wp-content/uploads/2026/03/event-moa-e1774667056606.jpg
END:VEVENT
BEGIN:VEVENT
DTSTART;TZID=America/New_York:20260514T110000
DTEND;TZID=America/New_York:20260514T200000
DTSTAMP:20260423T194242
CREATED:20260328T030423Z
LAST-MODIFIED:20260328T030534Z
UID:10035394-1778756400-1778788800@phillyfamily.com
SUMMARY:Ministry of Awe
DESCRIPTION:Ministry of Awe is a new\, ever-evolving immersive art experience in Philadelphia that’s located inside a 19th-century bank and transformed into a surreal world packed with fun for the family. Each act of wonder yields infinite returns. When visitors enter the ATM\, they end up leaving in awe.
URL:https://phillyfamily.com/event/ministry-of-awe/2026-05-14/
LOCATION:Ministry of Awe\, 27 N. 3rd Street\, Philadelphia\, PA\, 19106\, United States
CATEGORIES:Community Event,Family Event,For Kids Ages 1 – 3,For Kids Ages 11 – 14,For Kids Ages 15+,For Kids Ages 4 – 6,For Kids Ages 8 – 10,For The Whole Family
ATTACH;FMTTYPE=image/jpeg:https://phillyfamily.com/wp-content/uploads/2026/03/event-moa-e1774667056606.jpg
END:VEVENT
BEGIN:VEVENT
DTSTART;TZID=America/New_York:20260516T130000
DTEND;TZID=America/New_York:20260516T150000
DTSTAMP:20260423T194242
CREATED:20260423T143316Z
LAST-MODIFIED:20260423T143316Z
UID:10035664-1778936400-1778943600@phillyfamily.com
SUMMARY:Make a Mother's Day Card at Historic St. George's Museum and Archives
DESCRIPTION:Guests can create their own cards and wax seals for Mother’s Day! Plus\, learn about the history of Mother’s Day\, and view their collection from its founder\, Anna Jarvis.
URL:https://phillyfamily.com/event/make-a-mothers-day-card-at-historic-st-georges-museum-and-archives/
LOCATION:Historic St. George’s Museum & Archives\, 326 New St.\, Philadelphia\, PA\, 19106\, United States
CATEGORIES:Arts & Crafts,Community Event,Family Event,For Kids Ages 1 – 3,For Kids Ages 4 – 6,For Kids Ages 8 – 10,For The Whole Family,Free,Mother's Day
ATTACH;FMTTYPE=image/jpeg:https://phillyfamily.com/wp-content/uploads/2026/04/event-hsgmothersday-e1776954790171.jpg
END:VEVENT
BEGIN:VEVENT
DTSTART;TZID=America/New_York:20260517T080000
DTEND;TZID=America/New_York:20260517T120000
DTSTAMP:20260423T194242
CREATED:20260404T112021Z
LAST-MODIFIED:20260404T112021Z
UID:10035587-1779004800-1779019200@phillyfamily.com
SUMMARY:SunriseWALKS Greater Philadelphia
DESCRIPTION:Join the fun at SunriseWALKS\, a family-friendly community event benefiting Sunrise Day Camp. The morning features a walk\, music\, kid-friendly activities\, and more — bringing the community together to support local children with cancer and their siblings. Every dollar raised helps send kids to camp\, completely free of charge.
URL:https://phillyfamily.com/event/sunrisewalks-greater-philadelphia/
LOCATION:1100 Pattison Avenue\, 1100 Pattison Ave\, Philadelphia\, PA\, 19148\, United States
CATEGORIES:Community Event,For Kids Ages 1 – 3,For Kids Ages 11 – 14,For Kids Ages 15+,For Kids Ages 4 – 6,For Kids Ages 7 – 10,For New & Expecting Parents,For Parents,For The Whole Family,Free,Walks/Runs
ATTACH;FMTTYPE=image/jpeg:https://phillyfamily.com/wp-content/uploads/2026/04/event-sunrisewalks-e1775301614536.jpg
END:VEVENT
END:VCALENDAR