BEGIN:VCALENDAR
VERSION:2.0
PRODID:-//Philadelphia Family Magazine - ECPv6.15.20//NONSGML v1.0//EN
CALSCALE:GREGORIAN
METHOD:PUBLISH
X-ORIGINAL-URL:https://phillyfamily.com
X-WR-CALDESC:Events for Philadelphia Family Magazine
REFRESH-INTERVAL;VALUE=DURATION:PT1H
X-Robots-Tag:noindex
X-PUBLISHED-TTL:PT1H
BEGIN:VTIMEZONE
TZID:America/New_York
BEGIN:DAYLIGHT
TZOFFSETFROM:-0500
TZOFFSETTO:-0400
TZNAME:EDT
DTSTART:20250309T070000
END:DAYLIGHT
BEGIN:STANDARD
TZOFFSETFROM:-0400
TZOFFSETTO:-0500
TZNAME:EST
DTSTART:20251102T060000
END:STANDARD
BEGIN:DAYLIGHT
TZOFFSETFROM:-0500
TZOFFSETTO:-0400
TZNAME:EDT
DTSTART:20260308T070000
END:DAYLIGHT
BEGIN:STANDARD
TZOFFSETFROM:-0400
TZOFFSETTO:-0500
TZNAME:EST
DTSTART:20261101T060000
END:STANDARD
BEGIN:DAYLIGHT
TZOFFSETFROM:-0500
TZOFFSETTO:-0400
TZNAME:EDT
DTSTART:20270314T070000
END:DAYLIGHT
BEGIN:STANDARD
TZOFFSETFROM:-0400
TZOFFSETTO:-0500
TZNAME:EST
DTSTART:20271107T060000
END:STANDARD
END:VTIMEZONE
BEGIN:VEVENT
DTSTART;TZID=America/New_York:20260306T100000
DTEND;TZID=America/New_York:20260306T200000
DTSTAMP:20260422T115151
CREATED:20260305T020835Z
LAST-MODIFIED:20260306T023918Z
UID:10035152-1772791200-1772827200@phillyfamily.com
SUMMARY:Family Photos with the Bunny at Cherry Hill Mall (Daily)
DESCRIPTION:The whole family can get Easter Bunny photos at Cherry Hill Mall. Professional spring portraits and Easter Bunny pictures are available in Grand Court from March 6 to April 4\, 2026\, which is perfect for the upcoming season. \nBook time slots for only $20\, and a package purchase is not needed for reservations. Photo packages start at $39.99. To view hours\, pricing\, and to make your reservation\, click here. \nAdditionally\, Kidz Bop dance parties will be happening every hour on the hour. \nBunny photos are owned and operated by Cherry Hill Programs.
URL:https://phillyfamily.com/event/bunny-photos-at-cherry-hill-mall/2026-03-06/
LOCATION:Cherry Hill Mall\, 2000 Route 38\, Cherry Hill\, NJ\, 08002\, United States
CATEGORIES:Easter,Family Event
ATTACH;FMTTYPE=image/jpeg:https://phillyfamily.com/wp-content/uploads/2026/03/event-cherryhillmallbunny-e1772676447909.jpg
END:VEVENT
END:VCALENDAR