BEGIN:VCALENDAR
VERSION:2.0
PRODID:-//Philadelphia Family Magazine - ECPv6.15.20//NONSGML v1.0//EN
CALSCALE:GREGORIAN
METHOD:PUBLISH
X-ORIGINAL-URL:https://phillyfamily.com
X-WR-CALDESC:Events for Philadelphia Family Magazine
REFRESH-INTERVAL;VALUE=DURATION:PT1H
X-Robots-Tag:noindex
X-PUBLISHED-TTL:PT1H
BEGIN:VTIMEZONE
TZID:America/New_York
BEGIN:DAYLIGHT
TZOFFSETFROM:-0500
TZOFFSETTO:-0400
TZNAME:EDT
DTSTART:20250309T070000
END:DAYLIGHT
BEGIN:STANDARD
TZOFFSETFROM:-0400
TZOFFSETTO:-0500
TZNAME:EST
DTSTART:20251102T060000
END:STANDARD
BEGIN:DAYLIGHT
TZOFFSETFROM:-0500
TZOFFSETTO:-0400
TZNAME:EDT
DTSTART:20260308T070000
END:DAYLIGHT
BEGIN:STANDARD
TZOFFSETFROM:-0400
TZOFFSETTO:-0500
TZNAME:EST
DTSTART:20261101T060000
END:STANDARD
BEGIN:DAYLIGHT
TZOFFSETFROM:-0500
TZOFFSETTO:-0400
TZNAME:EDT
DTSTART:20270314T070000
END:DAYLIGHT
BEGIN:STANDARD
TZOFFSETFROM:-0400
TZOFFSETTO:-0500
TZNAME:EST
DTSTART:20271107T060000
END:STANDARD
END:VTIMEZONE
BEGIN:VEVENT
DTSTART;TZID=America/New_York:20260109T103000
DTEND;TZID=America/New_York:20260109T113000
DTSTAMP:20260420T051125
CREATED:20251029T031559Z
LAST-MODIFIED:20251029T031559Z
UID:10031272-1767954600-1767958200@phillyfamily.com
SUMMARY:Dance Together with The Philadelphia Dance Academy
DESCRIPTION:Every second Friday of the month until June 2026\, Children 2+ can enjoy a free Dance Together Creative Movement class with Miss Sabrina at the Fishtown Library on the third floor.
URL:https://phillyfamily.com/event/dance-together-with-the-philadelphia-dance-academy-2/2026-01-09/
LOCATION:Fishtown Community Library\, 1217 E Montgomery Avenue\, Philadelphia\, PA\, 19125\, United States
CATEGORIES:Class or Workshop,Community Event,Free,Kid Event
ATTACH;FMTTYPE=image/jpeg:https://phillyfamily.com/wp-content/uploads/2025/10/IMG_1613-e1761707399238.jpg
END:VEVENT
END:VCALENDAR