BEGIN:VCALENDAR
VERSION:2.0
PRODID:-//Philadelphia Family Magazine - ECPv6.15.20//NONSGML v1.0//EN
CALSCALE:GREGORIAN
METHOD:PUBLISH
X-WR-CALNAME:Philadelphia Family Magazine
X-ORIGINAL-URL:https://phillyfamily.com
X-WR-CALDESC:Events for Philadelphia Family Magazine
REFRESH-INTERVAL;VALUE=DURATION:PT1H
X-Robots-Tag:noindex
X-PUBLISHED-TTL:PT1H
BEGIN:VTIMEZONE
TZID:America/New_York
BEGIN:DAYLIGHT
TZOFFSETFROM:-0500
TZOFFSETTO:-0400
TZNAME:EDT
DTSTART:20250309T070000
END:DAYLIGHT
BEGIN:STANDARD
TZOFFSETFROM:-0400
TZOFFSETTO:-0500
TZNAME:EST
DTSTART:20251102T060000
END:STANDARD
BEGIN:DAYLIGHT
TZOFFSETFROM:-0500
TZOFFSETTO:-0400
TZNAME:EDT
DTSTART:20260308T070000
END:DAYLIGHT
BEGIN:STANDARD
TZOFFSETFROM:-0400
TZOFFSETTO:-0500
TZNAME:EST
DTSTART:20261101T060000
END:STANDARD
BEGIN:DAYLIGHT
TZOFFSETFROM:-0500
TZOFFSETTO:-0400
TZNAME:EDT
DTSTART:20270314T070000
END:DAYLIGHT
BEGIN:STANDARD
TZOFFSETFROM:-0400
TZOFFSETTO:-0500
TZNAME:EST
DTSTART:20271107T060000
END:STANDARD
END:VTIMEZONE
BEGIN:VEVENT
DTSTART;TZID=America/New_York:20260330T160000
DTEND;TZID=America/New_York:20260330T180000
DTSTAMP:20260422T164206
CREATED:20260205T173116Z
LAST-MODIFIED:20260205T173116Z
UID:10034145-1774886400-1774893600@phillyfamily.com
SUMMARY:Rock to the Future Lyric Lab
DESCRIPTION:Lyric Lab is Rock to the Future’s new rap and songwriting program designed for young artists ready to turn their thoughts\, feelings\, and stories into real music. Whether students are already writing bars or just getting started\, participants build skills in writing powerful lyrics\, finding their flow\, riding the beat\, performing with confidence\, and creating original songs alongside other young creators. No experience needed\, just bring your voice. The program builds toward a live performance where music gets heard. \nRegister for this class here.
URL:https://phillyfamily.com/event/rock-to-the-future-lyric-lab/2026-03-30/
LOCATION:One Art Community Center\, 1431-39 North 52nd Street\, Philadelphia\, PA\, 19131\, United States
CATEGORIES:Class or Workshop,Free,Musical Performance,Teen Event
ATTACH;FMTTYPE=image/jpeg:https://phillyfamily.com/wp-content/uploads/2026/02/Lyric-Lab-web-600-x-750-px.jpg
END:VEVENT
BEGIN:VEVENT
DTSTART;TZID=America/New_York:20260330T170000
DTEND;TZID=America/New_York:20260330T180000
DTSTAMP:20260422T164206
CREATED:20260304T015728Z
LAST-MODIFIED:20260304T015728Z
UID:10035094-1774890000-1774893600@phillyfamily.com
SUMMARY:Twilight Tales Family Story Time at Lucien E. Blackwell West Philadelphia Regional Library
DESCRIPTION:Bring the family at Lucien E. Blackwell West Philadelphia Regional Library for an interactive storytime. Every Monday\, this event includes favorite read-aloud books\, songs\, and craft that’s fun for the whole family!
URL:https://phillyfamily.com/event/twilight-tales-family-story-time-at-lucien-e-blackwell-west-philadelphia-regional-library/2026-03-30/
LOCATION:Lucien E. Blackwell West Philadelphia Regional Library\, 125 S 52nd St\, Philadelphia\, PA\, 19139\, United States
CATEGORIES:At the library,For Kids Ages 1 – 3,For Kids Ages 4 – 6,Free,Kid Event,Storytime
ATTACH;FMTTYPE=image/png:https://phillyfamily.com/wp-content/uploads/2026/03/event-twilighttalesstorytime.png
END:VEVENT
BEGIN:VEVENT
DTSTART;TZID=America/New_York:20260330T170000
DTEND;TZID=America/New_York:20260330T180000
DTSTAMP:20260422T164206
CREATED:20260304T022509Z
LAST-MODIFIED:20260304T022509Z
UID:10035143-1774890000-1774893600@phillyfamily.com
SUMMARY:PJ Storytime at Andorra Library
DESCRIPTION:Come together at Andorra Library for a special evening storytime. Families will read\, sing\, dance\, and learn together. Wear some favorite PJs and get ready for some fun.
URL:https://phillyfamily.com/event/pj-storytime-at-andorra-library/2026-03-30/
LOCATION:Andorra Library\, 705 East Cathedral Road\, Philadelphia\, PA\, 19128\, United States
CATEGORIES:At the library,Family Event,Free,Kid Event,Storytime
ATTACH;FMTTYPE=image/png:https://phillyfamily.com/wp-content/uploads/2026/03/event-pjstorytime.png
END:VEVENT
BEGIN:VEVENT
DTSTART;TZID=America/New_York:20260330T180000
DTEND;TZID=America/New_York:20260330T193000
DTSTAMP:20260422T164206
CREATED:20260327T211248Z
LAST-MODIFIED:20260327T211248Z
UID:10035369-1774893600-1774899000@phillyfamily.com
SUMMARY:Author Laurie Halse Anderson Visit at Parkway Central Library
DESCRIPTION:Come together at Parkway Central Library for an exciting event with Laurie Halse Anderson\, the award‑winning author of many amazing books for kids and teens! \nLaurie has stories that readers all over the world love—more than eight million copies of her books have been sold! Some of her books\, like Speak and Chains\, were even chosen as finalists for the National Book Award\, which is a really big honor for authors.
URL:https://phillyfamily.com/event/author-laurie-halse-anderson-visit-at-parkway-central-library/
LOCATION:Parkway Central Library\, 1901 Vine Street\, Children's Department Ground Floor - Room 22\, Philadelphia\, PA\, 19103\, United States
CATEGORIES:For Kids Ages 11 – 14,For Kids Ages 15+,For Kids Ages 8 – 10,For The Whole Family,Free
ATTACH;FMTTYPE=image/jpeg:https://phillyfamily.com/wp-content/uploads/2026/03/event-parkwaycentralauthorlaurie-e1774645959516.jpg
END:VEVENT
END:VCALENDAR