BEGIN:VCALENDAR
VERSION:2.0
PRODID:-//Philadelphia Family Magazine - ECPv6.15.20//NONSGML v1.0//EN
CALSCALE:GREGORIAN
METHOD:PUBLISH
X-ORIGINAL-URL:https://phillyfamily.com
X-WR-CALDESC:Events for Philadelphia Family Magazine
REFRESH-INTERVAL;VALUE=DURATION:PT1H
X-Robots-Tag:noindex
X-PUBLISHED-TTL:PT1H
BEGIN:VTIMEZONE
TZID:America/New_York
BEGIN:DAYLIGHT
TZOFFSETFROM:-0500
TZOFFSETTO:-0400
TZNAME:EDT
DTSTART:20250309T070000
END:DAYLIGHT
BEGIN:STANDARD
TZOFFSETFROM:-0400
TZOFFSETTO:-0500
TZNAME:EST
DTSTART:20251102T060000
END:STANDARD
BEGIN:DAYLIGHT
TZOFFSETFROM:-0500
TZOFFSETTO:-0400
TZNAME:EDT
DTSTART:20260308T070000
END:DAYLIGHT
BEGIN:STANDARD
TZOFFSETFROM:-0400
TZOFFSETTO:-0500
TZNAME:EST
DTSTART:20261101T060000
END:STANDARD
BEGIN:DAYLIGHT
TZOFFSETFROM:-0500
TZOFFSETTO:-0400
TZNAME:EDT
DTSTART:20270314T070000
END:DAYLIGHT
BEGIN:STANDARD
TZOFFSETFROM:-0400
TZOFFSETTO:-0500
TZNAME:EST
DTSTART:20271107T060000
END:STANDARD
END:VTIMEZONE
BEGIN:VEVENT
DTSTART;TZID=America/New_York:20260403T100000
DTEND;TZID=America/New_York:20260403T120000
DTSTAMP:20260422T164601
CREATED:20260203T174305Z
LAST-MODIFIED:20260223T160329Z
UID:10034102-1775210400-1775217600@phillyfamily.com
SUMMARY:Family Storytime Fridays at Queen Memorial Library
DESCRIPTION:Along with Librarian Kate\, families and little ones (ages 0-5) can enjoy storytime! This event includes reading\, singing\, dancing\, and more.
URL:https://phillyfamily.com/event/family-storytime-fridays-at-queen-memorial-library/2026-04-03/
LOCATION:Queen Memorial Library\, 1201 S 23rd Street\, Philadelphia\, PA\, 19146\, United States
CATEGORIES:At the library,Free,Kid Event,Storytime
ATTACH;FMTTYPE=image/png:https://phillyfamily.com/wp-content/uploads/2026/02/112950.png
END:VEVENT
BEGIN:VEVENT
DTSTART;TZID=America/New_York:20260403T153000
DTEND;TZID=America/New_York:20260403T170000
DTSTAMP:20260422T164601
CREATED:20260304T014746Z
LAST-MODIFIED:20260304T153358Z
UID:10035051-1775230200-1775235600@phillyfamily.com
SUMMARY:Fiber Craft Fridays at Kingsessing Library
DESCRIPTION:At Kingsessing Library\, little ones can learn the basics of crochet\, finger knit\, mushroom knit\, or just get cozy with some yarn on Friday afternoons. Yarn will be out in the children’s area starting at 3:30 pm\, and then Librarian Rachel will provide a short fiber art craft starting at 4pm every week (like pom-poms and yarn dolls). \nExperienced crochet and knitting artists can share their craft with the next generation\, but all experienced levels are welcome.
URL:https://phillyfamily.com/event/fiber-craft-fridays-at-kingsessing-library/2026-04-03/
LOCATION:Kingsessing Library\, 1201 South 51st Street (5lst St. between Kingsessing and Chester Avenues)\, Philadelphia\, PA\, 19143-4353\, United States
CATEGORIES:Arts & Crafts,At the library,Family Event,Free,Kid Event
ATTACH;FMTTYPE=image/png:https://phillyfamily.com/wp-content/uploads/2026/03/event-fibercraftafternoons-kingsessing.png
END:VEVENT
END:VCALENDAR