BEGIN:VCALENDAR
VERSION:2.0
PRODID:-//Philadelphia Family Magazine - ECPv6.15.20//NONSGML v1.0//EN
CALSCALE:GREGORIAN
METHOD:PUBLISH
X-WR-CALNAME:Philadelphia Family Magazine
X-ORIGINAL-URL:https://phillyfamily.com
X-WR-CALDESC:Events for Philadelphia Family Magazine
REFRESH-INTERVAL;VALUE=DURATION:PT1H
X-Robots-Tag:noindex
X-PUBLISHED-TTL:PT1H
BEGIN:VTIMEZONE
TZID:America/New_York
BEGIN:DAYLIGHT
TZOFFSETFROM:-0500
TZOFFSETTO:-0400
TZNAME:EDT
DTSTART:20250309T070000
END:DAYLIGHT
BEGIN:STANDARD
TZOFFSETFROM:-0400
TZOFFSETTO:-0500
TZNAME:EST
DTSTART:20251102T060000
END:STANDARD
BEGIN:DAYLIGHT
TZOFFSETFROM:-0500
TZOFFSETTO:-0400
TZNAME:EDT
DTSTART:20260308T070000
END:DAYLIGHT
BEGIN:STANDARD
TZOFFSETFROM:-0400
TZOFFSETTO:-0500
TZNAME:EST
DTSTART:20261101T060000
END:STANDARD
BEGIN:DAYLIGHT
TZOFFSETFROM:-0500
TZOFFSETTO:-0400
TZNAME:EDT
DTSTART:20270314T070000
END:DAYLIGHT
BEGIN:STANDARD
TZOFFSETFROM:-0400
TZOFFSETTO:-0500
TZNAME:EST
DTSTART:20271107T060000
END:STANDARD
END:VTIMEZONE
BEGIN:VEVENT
DTSTART;TZID=America/New_York:20260412T100000
DTEND;TZID=America/New_York:20260412T180000
DTSTAMP:20260422T164151
CREATED:20260328T031654Z
LAST-MODIFIED:20260328T031654Z
UID:10035494-1775988000-1776016800@phillyfamily.com
SUMMARY:Southeast Asian Market in FDR Park
DESCRIPTION:Families are warmly invited to discover the Southeast Asian Market in FDR Park\, a Philadelphia tradition over 35 years in the making\, officially opening for the 2026 season on Saturday\, April 4 and open every weekend until October 31. \nMore than a market\, this vibrant community space is rooted in the stories of Lao\, Khmer\, Thai\, Vietnamese\, and Indonesian refugee and immigrant communities who have made FDR Park their home. Browse stalls filled with authentic dishes\, culturally specific produce\, plants\, clothing\, and handmade jewelry\, all offered by vendors who have been sharing their heritage here for generations. \nFamilies curious about where to start can join a guided market tour to sample Southeast Asian staples\, learn the history behind the vendors\, and get to know the people who make this place so special. \nPlease note: the market is closed for the Broad Street Run\, all Eagles home games\, and FIFA World Cup match dates.
URL:https://phillyfamily.com/event/southeast-asian-market-in-fdr-park/2026-04-12/
LOCATION:FDR Park\, 1500 Pattison Avenue\, Philadelphia\, PA\, 19145\, United States
CATEGORIES:Community Event,Family Event,Farmers Markets,For Parents,For The Whole Family,Free,Outdoor/Nature,Philadelphia Events
ATTACH;FMTTYPE=image/jpeg:https://phillyfamily.com/wp-content/uploads/2026/03/event-fdrseamarket.jpg-e1774667779974.jpg
END:VEVENT
BEGIN:VEVENT
DTSTART;TZID=America/New_York:20260412T110000
DTEND;TZID=America/New_York:20260412T160000
DTSTAMP:20260422T164151
CREATED:20260205T201057Z
LAST-MODIFIED:20260205T201057Z
UID:10034135-1775991600-1776009600@phillyfamily.com
SUMMARY:Glass Open House Event at SCC Glass Education Center
DESCRIPTION:Families are invited to experience a magical day of glassmaking at the SCC Glass Education Center on Sunday\, April 12th! Visitors can explore free glass sales featuring beautiful handmade pieces\, tour working studios\, watch artists in action\, and even try hands-on workshops to create glass flowers\, garden art\, or colorful pendants. It’s a perfect family outing where creativity comes to life. \nLearn more here.
URL:https://phillyfamily.com/event/glass-open-house-event-at-scc-glass-education-center/
LOCATION:Salem Community College\, 460 Hollywood Ave.\, Carneys Point\, NJ\, 08069\, United States
CATEGORIES:Arts & Crafts,Free
ATTACH;FMTTYPE=image/jpeg:https://phillyfamily.com/wp-content/uploads/2026/02/Apr2026-e1770322245473.jpg
END:VEVENT
BEGIN:VEVENT
DTSTART;TZID=America/New_York:20260412T120000
DTEND;TZID=America/New_York:20260412T180000
DTSTAMP:20260422T164151
CREATED:20260328T032555Z
LAST-MODIFIED:20260328T032555Z
UID:10035555-1775995200-1776016800@phillyfamily.com
SUMMARY:Made in Philadelphia Spring Market
DESCRIPTION:From April 10 to 12\, 2026\, Dilworth Park on the west side of Philadelphia City Hall welcomes the return of the Made in Philadelphia Market Series in the heart of Center City. This outdoor spring market offers a cheerful way to enjoy the season and spend time together. \nVisitors can stroll through a lively marketplace featuring favorite vendors from the tri state area and beyond. Local makers showcase handcrafted goods\, including art\, jewelry\, home décor\, skincare\, and unique gifts. A variety of food vendors offer tasty bites and sweet treats for all ages. \nFamilies and friends are invited to browse\, enjoy good food\, and take in the fresh spring air while celebrating a new season of this beloved Philadelphia tradition. The event is free to attend\, making it an easy and welcoming outing for everyone.
URL:https://phillyfamily.com/event/made-in-philadelphia-spring-market/2026-04-12/
LOCATION:Dilworth Park\, 1 S 15th St\, Philadelphia\, PA\, 19102\, United States
CATEGORIES:Community Event,Family Event,For The Whole Family,Free,Philadelphia Events
ATTACH;FMTTYPE=image/jpeg:https://phillyfamily.com/wp-content/uploads/2026/03/event-springmarket-e1774668342816.jpeg
END:VEVENT
BEGIN:VEVENT
DTSTART;TZID=America/New_York:20260412T130000
DTEND;TZID=America/New_York:20260412T160000
DTSTAMP:20260422T164151
CREATED:20250528T005420Z
LAST-MODIFIED:20250528T005420Z
UID:10026312-1775998800-1776009600@phillyfamily.com
SUMMARY:Family Funday with PopUpPlay
DESCRIPTION:Activities include boat building\, puppet making\, and even constructing a working catapult. Each week promises captivating experiences for kids of all ages with a new make-and-take activity. \nThis event is free and open to the public\, and all ages are welcome. Activities are available on a first-come\, first-served basis and are available while supplies last.
URL:https://phillyfamily.com/event/family-funday-with-popupplay/2026-04-12/
LOCATION:Spruce Street Harbor Park\, 401 S Columbus Boulevard\, Philadelphia\, PA\, 19106\, United States
CATEGORIES:Class or Workshop,Community Event,Family Event,Free,Kid Event,Philadelphia Events
ATTACH;FMTTYPE=image/jpeg:https://phillyfamily.com/wp-content/uploads/2025/05/116180032536815255-myp-5960.full_-e1748393404299.jpg
END:VEVENT
END:VCALENDAR