BEGIN:VCALENDAR
VERSION:2.0
PRODID:-//Philadelphia Family Magazine - ECPv6.15.20//NONSGML v1.0//EN
CALSCALE:GREGORIAN
METHOD:PUBLISH
X-WR-CALNAME:Philadelphia Family Magazine
X-ORIGINAL-URL:https://phillyfamily.com
X-WR-CALDESC:Events for Philadelphia Family Magazine
REFRESH-INTERVAL;VALUE=DURATION:PT1H
X-Robots-Tag:noindex
X-PUBLISHED-TTL:PT1H
BEGIN:VTIMEZONE
TZID:America/New_York
BEGIN:DAYLIGHT
TZOFFSETFROM:-0500
TZOFFSETTO:-0400
TZNAME:EDT
DTSTART:20250309T070000
END:DAYLIGHT
BEGIN:STANDARD
TZOFFSETFROM:-0400
TZOFFSETTO:-0500
TZNAME:EST
DTSTART:20251102T060000
END:STANDARD
BEGIN:DAYLIGHT
TZOFFSETFROM:-0500
TZOFFSETTO:-0400
TZNAME:EDT
DTSTART:20260308T070000
END:DAYLIGHT
BEGIN:STANDARD
TZOFFSETFROM:-0400
TZOFFSETTO:-0500
TZNAME:EST
DTSTART:20261101T060000
END:STANDARD
BEGIN:DAYLIGHT
TZOFFSETFROM:-0500
TZOFFSETTO:-0400
TZNAME:EDT
DTSTART:20270314T070000
END:DAYLIGHT
BEGIN:STANDARD
TZOFFSETFROM:-0400
TZOFFSETTO:-0500
TZNAME:EST
DTSTART:20271107T060000
END:STANDARD
END:VTIMEZONE
BEGIN:VEVENT
DTSTART;TZID=America/New_York:20260505T160000
DTEND;TZID=America/New_York:20260505T170000
DTSTAMP:20260422T200225
CREATED:20260223T193924Z
LAST-MODIFIED:20260223T193924Z
UID:10034845-1777996800-1778000400@phillyfamily.com
SUMMARY:Kids Can Bake at Cecil B. Moore Library
DESCRIPTION:Kids and caregivers of all ages are invited to bake at Cecil B. Moore Library! Come together to make and taste cookies\, brownies\, holiday treats\, and healthy veggie dishes! \nThis event runs every 1st and 3rd Tuesday.
URL:https://phillyfamily.com/event/kids-can-bake-at-cecil-b-moore-library-3/2026-05-05/
LOCATION:Cecil B. Moore Library\, 2320 Cecil B. Moore Avenue\, Philadelphia\, PA\, 19121\, United States
CATEGORIES:At the library,Food/Dining,Free,Kid Event
ATTACH;FMTTYPE=image/jpeg:https://phillyfamily.com/wp-content/uploads/2026/01/115630.jpg
END:VEVENT
BEGIN:VEVENT
DTSTART;TZID=America/New_York:20260505T180000
DTEND;TZID=America/New_York:20260505T190000
DTSTAMP:20260422T200225
CREATED:20250505T201745Z
LAST-MODIFIED:20250505T201745Z
UID:10025418-1778004000-1778007600@phillyfamily.com
SUMMARY:Yoga On The Pier
DESCRIPTION:Join Riverfront North and Roots2Rise for an all levels outdoor flow at Pennypack on the Delaware\, Tuesdays from 6-7 pm! All ages and abilities are welcome. \nThis class is made possible by the Riverfront North Partnership. Class is free but donations are welcome and will help sustain more free and low-cost yoga programming throughout the city. \nPlease bring your own mat. Pre-registration encouraged.
URL:https://phillyfamily.com/event/yoga-on-the-pier/2026-05-05/
LOCATION:Pennypack on the Delaware\, 7801 State Road\, Philadelphia\, PA\, 19136\, United States
CATEGORIES:Class or Workshop,Family Event,Free,Outdoor/Nature,Parent Event,Philadelphia Events
ATTACH;FMTTYPE=image/jpeg:https://phillyfamily.com/wp-content/uploads/2025/05/f3b7004f-2804-4e04-b894-6c85cf21c2ce-585x439-1.jpg
END:VEVENT
END:VCALENDAR