BEGIN:VCALENDAR
VERSION:2.0
PRODID:-//Philadelphia Family Magazine - ECPv6.15.20//NONSGML v1.0//EN
CALSCALE:GREGORIAN
METHOD:PUBLISH
X-ORIGINAL-URL:https://phillyfamily.com
X-WR-CALDESC:Events for Philadelphia Family Magazine
REFRESH-INTERVAL;VALUE=DURATION:PT1H
X-Robots-Tag:noindex
X-PUBLISHED-TTL:PT1H
BEGIN:VTIMEZONE
TZID:America/New_York
BEGIN:DAYLIGHT
TZOFFSETFROM:-0500
TZOFFSETTO:-0400
TZNAME:EDT
DTSTART:20250309T070000
END:DAYLIGHT
BEGIN:STANDARD
TZOFFSETFROM:-0400
TZOFFSETTO:-0500
TZNAME:EST
DTSTART:20251102T060000
END:STANDARD
BEGIN:DAYLIGHT
TZOFFSETFROM:-0500
TZOFFSETTO:-0400
TZNAME:EDT
DTSTART:20260308T070000
END:DAYLIGHT
BEGIN:STANDARD
TZOFFSETFROM:-0400
TZOFFSETTO:-0500
TZNAME:EST
DTSTART:20261101T060000
END:STANDARD
BEGIN:DAYLIGHT
TZOFFSETFROM:-0500
TZOFFSETTO:-0400
TZNAME:EDT
DTSTART:20270314T070000
END:DAYLIGHT
BEGIN:STANDARD
TZOFFSETFROM:-0400
TZOFFSETTO:-0500
TZNAME:EST
DTSTART:20271107T060000
END:STANDARD
END:VTIMEZONE
BEGIN:VEVENT
DTSTART;TZID=America/New_York:20260506T160000
DTEND;TZID=America/New_York:20260506T170000
DTSTAMP:20260422T220523
CREATED:20260205T203758Z
LAST-MODIFIED:20260205T204206Z
UID:10034169-1778083200-1778086800@phillyfamily.com
SUMMARY:Read to a Therapy Dog at Parkway Central Library
DESCRIPTION:On Wednesdays at Parkway Central Library\, independent readers and children can practice their reading skills with a certified therapy dog from Comfort Caring Canines. Dogs will be accompanied by their handler during this program\, and each child will be assigned individual time to read to the dog.
URL:https://phillyfamily.com/event/read-to-a-therapy-dog-at-parkway-central-library/2026-05-06/
LOCATION:Parkway Central Library\, 1901 Vine Street\, Children's Department Ground Floor - Room 22\, Philadelphia\, PA\, 19103\, United States
CATEGORIES:Community Event,Free,Kid Event,Philadelphia Events
ATTACH;FMTTYPE=image/jpeg:https://phillyfamily.com/wp-content/uploads/2026/02/therapy-dog.jpg
END:VEVENT
END:VCALENDAR