BEGIN:VCALENDAR
VERSION:2.0
PRODID:-//Philadelphia Family Magazine - ECPv6.15.20//NONSGML v1.0//EN
CALSCALE:GREGORIAN
METHOD:PUBLISH
X-ORIGINAL-URL:https://phillyfamily.com
X-WR-CALDESC:Events for Philadelphia Family Magazine
REFRESH-INTERVAL;VALUE=DURATION:PT1H
X-Robots-Tag:noindex
X-PUBLISHED-TTL:PT1H
BEGIN:VTIMEZONE
TZID:America/New_York
BEGIN:DAYLIGHT
TZOFFSETFROM:-0500
TZOFFSETTO:-0400
TZNAME:EDT
DTSTART:20240310T070000
END:DAYLIGHT
BEGIN:STANDARD
TZOFFSETFROM:-0400
TZOFFSETTO:-0500
TZNAME:EST
DTSTART:20241103T060000
END:STANDARD
BEGIN:DAYLIGHT
TZOFFSETFROM:-0500
TZOFFSETTO:-0400
TZNAME:EDT
DTSTART:20250309T070000
END:DAYLIGHT
BEGIN:STANDARD
TZOFFSETFROM:-0400
TZOFFSETTO:-0500
TZNAME:EST
DTSTART:20251102T060000
END:STANDARD
BEGIN:DAYLIGHT
TZOFFSETFROM:-0500
TZOFFSETTO:-0400
TZNAME:EDT
DTSTART:20260308T070000
END:DAYLIGHT
BEGIN:STANDARD
TZOFFSETFROM:-0400
TZOFFSETTO:-0500
TZNAME:EST
DTSTART:20261101T060000
END:STANDARD
BEGIN:DAYLIGHT
TZOFFSETFROM:-0500
TZOFFSETTO:-0400
TZNAME:EDT
DTSTART:20270314T070000
END:DAYLIGHT
BEGIN:STANDARD
TZOFFSETFROM:-0400
TZOFFSETTO:-0500
TZNAME:EST
DTSTART:20271107T060000
END:STANDARD
END:VTIMEZONE
BEGIN:VEVENT
DTSTART;TZID=America/New_York:20251231T160000
DTEND;TZID=America/New_York:20260101T010000
DTSTAMP:20260423T022750
CREATED:20251219T215052Z
LAST-MODIFIED:20251219T215052Z
UID:10033122-1767196800-1767229200@phillyfamily.com
SUMMARY:New Years Eve at Dave & Buster’s
DESCRIPTION:Dave & Buster’s Plymouth Meeting welcomes families and adults to celebrate New Year’s Eve with arcade games\, delicious food\, and festive fun. The Family Friendly celebration runs 4PM-7PM with an early countdown\, party favors\, and activities for all ages\, while the Late Night event (9PM-1AM) features a high-energy atmosphere perfect for adults. Both celebrations include access to hundreds of arcade games\, award-winning food and drinks\, and everything needed to ring in 2026 with excitement.
URL:https://phillyfamily.com/event/new-years-eve-at-dave-busters/
LOCATION:Dave & Busters\, 325 N. Columbus Boulevard\, Philadelphia\, PA\, 19106\, United States
CATEGORIES:Family Event,New Year
ATTACH;FMTTYPE=image/jpeg:https://phillyfamily.com/wp-content/uploads/2025/12/Screenshot-2025-12-19-140108-e1766181037513.jpg
END:VEVENT
BEGIN:VEVENT
DTSTART;TZID=America/New_York:20260101T000000
DTEND;TZID=America/New_York:20260101T010000
DTSTAMP:20260423T022750
CREATED:20251218T161723Z
LAST-MODIFIED:20251218T161723Z
UID:10033111-1767225600-1767229200@phillyfamily.com
SUMMARY:Celebrate 2026 with Visit PA's New Year's Eve Fireworks
DESCRIPTION:During Cherry Street Pier’s New Year’s Eve celebrations\, the Visit PA New Year’s Eve Fireworks on the Delaware River Waterfront will ring in the new year with two fireworks shows (at 6 p.m. and midnight) and welcome the United States’ 250th Anniversary. This event features the younger “sibling” to the Liberty Bell\, provided by the National Liberty Museum. While these firework display is free\, families can also enjoy other ticketed events in Cherry Street Pier\, with more information on their website.
URL:https://phillyfamily.com/event/celebrate-2026-with-visit-pas-new-years-eve-fireworks/2026-01-01/
LOCATION:Cherry Street Pier\, 121 N Christopher Columbus Blvd\, Philadelphia\, PA\, 19106\, United States
CATEGORIES:Community Event,Free,Kid Event,New Year
ATTACH;FMTTYPE=image/jpeg:https://phillyfamily.com/wp-content/uploads/2025/12/cherrystreetpiernye-48-e1766074398792.jpg
END:VEVENT
BEGIN:VEVENT
DTSTART;TZID=America/New_York:20260101T113000
DTEND;TZID=America/New_York:20260101T140000
DTSTAMP:20260423T022750
CREATED:20251212T041813Z
LAST-MODIFIED:20251212T041813Z
UID:10032592-1767267000-1767276000@phillyfamily.com
SUMMARY:City Cruises Philadelphia New Year's Day Signature Brunch Cruise
DESCRIPTION:Ring in the new year with City Cruises Philadelphia’s New Year’s Day Signature Brunch Cruise! Enjoy festive fun for the whole family with a chef-prepared buffet\, bottomless mimosas\, DJ entertainment\, and stunning views of the Philadelphia waterfront. Set sail with City Cruises and start off 2026 with an unforgettable brunch cruise experience!
URL:https://phillyfamily.com/event/city-cruises-philadelphia-new-years-day-signature-brunch-cruise/
LOCATION:City Cruises Philadelphia – Penn’s Landing\, 401 S Christopher Columbus Blvd\, Philadelphia\, PA\, 19106\, United States
CATEGORIES:Family Event,Food/Dining,Kid Event,New Year
ATTACH;FMTTYPE=image/jpeg:https://phillyfamily.com/wp-content/uploads/2025/12/DSC07747-e1765513087211.jpg
END:VEVENT
END:VCALENDAR