BEGIN:VCALENDAR
VERSION:2.0
PRODID:-//Philadelphia Family Magazine - ECPv6.15.20//NONSGML v1.0//EN
CALSCALE:GREGORIAN
METHOD:PUBLISH
X-WR-CALNAME:Philadelphia Family Magazine
X-ORIGINAL-URL:https://phillyfamily.com
X-WR-CALDESC:Events for Philadelphia Family Magazine
REFRESH-INTERVAL;VALUE=DURATION:PT1H
X-Robots-Tag:noindex
X-PUBLISHED-TTL:PT1H
BEGIN:VTIMEZONE
TZID:America/New_York
BEGIN:DAYLIGHT
TZOFFSETFROM:-0500
TZOFFSETTO:-0400
TZNAME:EDT
DTSTART:20250309T070000
END:DAYLIGHT
BEGIN:STANDARD
TZOFFSETFROM:-0400
TZOFFSETTO:-0500
TZNAME:EST
DTSTART:20251102T060000
END:STANDARD
BEGIN:DAYLIGHT
TZOFFSETFROM:-0500
TZOFFSETTO:-0400
TZNAME:EDT
DTSTART:20260308T070000
END:DAYLIGHT
BEGIN:STANDARD
TZOFFSETFROM:-0400
TZOFFSETTO:-0500
TZNAME:EST
DTSTART:20261101T060000
END:STANDARD
BEGIN:DAYLIGHT
TZOFFSETFROM:-0500
TZOFFSETTO:-0400
TZNAME:EDT
DTSTART:20270314T070000
END:DAYLIGHT
BEGIN:STANDARD
TZOFFSETFROM:-0400
TZOFFSETTO:-0500
TZNAME:EST
DTSTART:20271107T060000
END:STANDARD
END:VTIMEZONE
BEGIN:VEVENT
DTSTART;TZID=America/New_York:20260127T110000
DTEND;TZID=America/New_York:20260127T230000
DTSTAMP:20260422T024744
CREATED:20260106T015823Z
LAST-MODIFIED:20260130T010833Z
UID:10034040-1769511600-1769554800@phillyfamily.com
SUMMARY:Independence Blue Cross RiverRink Winter Fest
DESCRIPTION:Experience winter magic by ice skating at Independence Blue Cross RiverRink Winter Fest. \nLearn more and reserve tickets on their website.
URL:https://phillyfamily.com/event/independence-blue-cross-riverrink-winter-fest/2026-01-27/
LOCATION:Independence Blue Cross RiverRink\, 101 S Columbus Boulevard\, Philadelphia\, PA\, 19106\, United States
CATEGORIES:Community Event,Family Event,Outdoor/Nature,Philadelphia Events
ATTACH;FMTTYPE=image/jpeg:https://phillyfamily.com/wp-content/uploads/2026/01/794331576864304701-2412-drwc-winterfest-0030.full_-e1767664640515.jpg
END:VEVENT
BEGIN:VEVENT
DTSTART;VALUE=DATE:20260127
DTEND;VALUE=DATE:20260128
DTSTAMP:20260422T024744
CREATED:20260106T150423Z
LAST-MODIFIED:20260106T150423Z
UID:10033348-1769472000-1769558399@phillyfamily.com
SUMMARY:Rothman Orthopaedics Ice Rink
DESCRIPTION:Come together for some ice-skating with Rothman Orthopaedics Ice Rink at Dilworth Park\, offered seven days a week until February 22\, 2026. \nLearn more and reserve tickets on their website.
URL:https://phillyfamily.com/event/rothman-orthopaedics-ice-rink/2026-01-27/
LOCATION:Dilworth Park\, 1 S 15th St\, Philadelphia\, PA\, 19102\, United States
CATEGORIES:Community Event,Family Event,Kid Event,Outdoor/Nature,Philadelphia Events
ATTACH;FMTTYPE=image/jpeg:https://phillyfamily.com/wp-content/uploads/2026/01/cmiqjoiinhn55uzqd7dar52ta-ice-rink-2025.0.1182.1601.1001.max_-e1767711811830.jpg
END:VEVENT
BEGIN:VEVENT
DTSTART;TZID=America/New_York:20260126T110000
DTEND;TZID=America/New_York:20260126T230000
DTSTAMP:20260422T024744
CREATED:20260106T015823Z
LAST-MODIFIED:20260130T010833Z
UID:10034039-1769425200-1769468400@phillyfamily.com
SUMMARY:Independence Blue Cross RiverRink Winter Fest
DESCRIPTION:Experience winter magic by ice skating at Independence Blue Cross RiverRink Winter Fest. \nLearn more and reserve tickets on their website.
URL:https://phillyfamily.com/event/independence-blue-cross-riverrink-winter-fest/2026-01-26/
LOCATION:Independence Blue Cross RiverRink\, 101 S Columbus Boulevard\, Philadelphia\, PA\, 19106\, United States
CATEGORIES:Community Event,Family Event,Outdoor/Nature,Philadelphia Events
ATTACH;FMTTYPE=image/jpeg:https://phillyfamily.com/wp-content/uploads/2026/01/794331576864304701-2412-drwc-winterfest-0030.full_-e1767664640515.jpg
END:VEVENT
BEGIN:VEVENT
DTSTART;VALUE=DATE:20260126
DTEND;VALUE=DATE:20260127
DTSTAMP:20260422T024744
CREATED:20260106T150423Z
LAST-MODIFIED:20260106T150423Z
UID:10033347-1769385600-1769471999@phillyfamily.com
SUMMARY:Rothman Orthopaedics Ice Rink
DESCRIPTION:Come together for some ice-skating with Rothman Orthopaedics Ice Rink at Dilworth Park\, offered seven days a week until February 22\, 2026. \nLearn more and reserve tickets on their website.
URL:https://phillyfamily.com/event/rothman-orthopaedics-ice-rink/2026-01-26/
LOCATION:Dilworth Park\, 1 S 15th St\, Philadelphia\, PA\, 19102\, United States
CATEGORIES:Community Event,Family Event,Kid Event,Outdoor/Nature,Philadelphia Events
ATTACH;FMTTYPE=image/jpeg:https://phillyfamily.com/wp-content/uploads/2026/01/cmiqjoiinhn55uzqd7dar52ta-ice-rink-2025.0.1182.1601.1001.max_-e1767711811830.jpg
END:VEVENT
BEGIN:VEVENT
DTSTART;TZID=America/New_York:20260125T140000
DTEND;TZID=America/New_York:20260125T160000
DTSTAMP:20260422T024745
CREATED:20260106T014943Z
LAST-MODIFIED:20260106T015038Z
UID:10033262-1769349600-1769356800@phillyfamily.com
SUMMARY:Storytime & Skate with Characters at Independence Blue Cross RiverRink Winterfest
DESCRIPTION:Bring the family at Independence Blue Cross RiverRink Winterfest for their Storytime & Skate with Characters. Little ones can enjoy an afternoon filled with magical moments\, warm stories\, and ice skating with their favorite costumed friends. \nReserve tickets and find specific characters on their website.
URL:https://phillyfamily.com/event/storytime-skate-with-characters-at-independence-blue-cross-riverrink-winterfest/2026-01-25/
LOCATION:Independence Blue Cross RiverRink\, 101 S Columbus Boulevard\, Philadelphia\, PA\, 19106\, United States
CATEGORIES:Family Event,Kid Event,Outdoor/Nature,Philadelphia Events,Storytime
ATTACH;FMTTYPE=image/jpeg:https://phillyfamily.com/wp-content/uploads/2026/01/96363735882786941-img-3477.full_-e1767664127724.jpg
END:VEVENT
BEGIN:VEVENT
DTSTART;TZID=America/New_York:20260125T110000
DTEND;TZID=America/New_York:20260125T230000
DTSTAMP:20260422T024745
CREATED:20260106T015823Z
LAST-MODIFIED:20260130T010833Z
UID:10034038-1769338800-1769382000@phillyfamily.com
SUMMARY:Independence Blue Cross RiverRink Winter Fest
DESCRIPTION:Experience winter magic by ice skating at Independence Blue Cross RiverRink Winter Fest. \nLearn more and reserve tickets on their website.
URL:https://phillyfamily.com/event/independence-blue-cross-riverrink-winter-fest/2026-01-25/
LOCATION:Independence Blue Cross RiverRink\, 101 S Columbus Boulevard\, Philadelphia\, PA\, 19106\, United States
CATEGORIES:Community Event,Family Event,Outdoor/Nature,Philadelphia Events
ATTACH;FMTTYPE=image/jpeg:https://phillyfamily.com/wp-content/uploads/2026/01/794331576864304701-2412-drwc-winterfest-0030.full_-e1767664640515.jpg
END:VEVENT
BEGIN:VEVENT
DTSTART;VALUE=DATE:20260125
DTEND;VALUE=DATE:20260126
DTSTAMP:20260422T024745
CREATED:20260106T150423Z
LAST-MODIFIED:20260106T150423Z
UID:10033346-1769299200-1769385599@phillyfamily.com
SUMMARY:Rothman Orthopaedics Ice Rink
DESCRIPTION:Come together for some ice-skating with Rothman Orthopaedics Ice Rink at Dilworth Park\, offered seven days a week until February 22\, 2026. \nLearn more and reserve tickets on their website.
URL:https://phillyfamily.com/event/rothman-orthopaedics-ice-rink/2026-01-25/
LOCATION:Dilworth Park\, 1 S 15th St\, Philadelphia\, PA\, 19102\, United States
CATEGORIES:Community Event,Family Event,Kid Event,Outdoor/Nature,Philadelphia Events
ATTACH;FMTTYPE=image/jpeg:https://phillyfamily.com/wp-content/uploads/2026/01/cmiqjoiinhn55uzqd7dar52ta-ice-rink-2025.0.1182.1601.1001.max_-e1767711811830.jpg
END:VEVENT
BEGIN:VEVENT
DTSTART;TZID=America/New_York:20260124T110000
DTEND;TZID=America/New_York:20260124T230000
DTSTAMP:20260422T024745
CREATED:20260106T015823Z
LAST-MODIFIED:20260130T010833Z
UID:10034037-1769252400-1769295600@phillyfamily.com
SUMMARY:Independence Blue Cross RiverRink Winter Fest
DESCRIPTION:Experience winter magic by ice skating at Independence Blue Cross RiverRink Winter Fest. \nLearn more and reserve tickets on their website.
URL:https://phillyfamily.com/event/independence-blue-cross-riverrink-winter-fest/2026-01-24/
LOCATION:Independence Blue Cross RiverRink\, 101 S Columbus Boulevard\, Philadelphia\, PA\, 19106\, United States
CATEGORIES:Community Event,Family Event,Outdoor/Nature,Philadelphia Events
ATTACH;FMTTYPE=image/jpeg:https://phillyfamily.com/wp-content/uploads/2026/01/794331576864304701-2412-drwc-winterfest-0030.full_-e1767664640515.jpg
END:VEVENT
BEGIN:VEVENT
DTSTART;TZID=America/New_York:20260124T100000
DTEND;TZID=America/New_York:20260124T110000
DTSTAMP:20260422T024745
CREATED:20251216T170059Z
LAST-MODIFIED:20251216T170059Z
UID:10032616-1769248800-1769252400@phillyfamily.com
SUMMARY:Mini Makers Robotics Class with Brooklyn Robot Foundry
DESCRIPTION:Brooklyn Robot Foundry Philly’s Mini Makers program brings the joy of building and creating to young learners ages 3–6 through weekly Saturday STEAM robotics classes in Glenside\, PA\, where little hands explore engineering and creativity in a screen-free environment—and every child takes home something they built themselves each week. Families across Greater Philadelphia and Montgomery County love Mini Makers because it nurtures confidence\, problem-solving skills\, and early childhood development in a genuinely fun\, meaningful way that kids can’t wait to attend and parents can feel great about.
URL:https://phillyfamily.com/event/mini-makers-robotics-class-with-brooklyn-robot-foundry/2026-01-24/
LOCATION:SnowBot Philly East\, LLC\, 12 West Glenside Avenue\, Glenside\, PA\, 19038\, United States
CATEGORIES:Bucks County Events,Class or Workshop,Community Event,Delaware County Events,Family Event,Kid Event,Montgomery County Events,Outdoor/Nature,Philadelphia Events
ATTACH;FMTTYPE=image/jpeg:https://phillyfamily.com/wp-content/uploads/2025/12/Winter-2026-Mini-Makers-Saturday-e1765904369223.jpg
END:VEVENT
BEGIN:VEVENT
DTSTART;VALUE=DATE:20260124
DTEND;VALUE=DATE:20260125
DTSTAMP:20260422T024745
CREATED:20260106T150423Z
LAST-MODIFIED:20260106T150423Z
UID:10033345-1769212800-1769299199@phillyfamily.com
SUMMARY:Rothman Orthopaedics Ice Rink
DESCRIPTION:Come together for some ice-skating with Rothman Orthopaedics Ice Rink at Dilworth Park\, offered seven days a week until February 22\, 2026. \nLearn more and reserve tickets on their website.
URL:https://phillyfamily.com/event/rothman-orthopaedics-ice-rink/2026-01-24/
LOCATION:Dilworth Park\, 1 S 15th St\, Philadelphia\, PA\, 19102\, United States
CATEGORIES:Community Event,Family Event,Kid Event,Outdoor/Nature,Philadelphia Events
ATTACH;FMTTYPE=image/jpeg:https://phillyfamily.com/wp-content/uploads/2026/01/cmiqjoiinhn55uzqd7dar52ta-ice-rink-2025.0.1182.1601.1001.max_-e1767711811830.jpg
END:VEVENT
BEGIN:VEVENT
DTSTART;VALUE=DATE:20260124
DTEND;VALUE=DATE:20260125
DTSTAMP:20260422T024745
CREATED:20260106T020142Z
LAST-MODIFIED:20260106T020142Z
UID:10033324-1769212800-1769299199@phillyfamily.com
SUMMARY:LGBTQ+ Skate Night with Philly Black Gay Pride
DESCRIPTION:Come together and celebrate pride\, community\, and winter fun at LGBTQ+ Skate Night\, in partnership with Philly Black Gay Pride at Independence Blue Cross RiverRink Winterfest. \nLearn more on their website.
URL:https://phillyfamily.com/event/lgbtq-skate-night-with-philly-black-gay-pride/
LOCATION:PA
CATEGORIES:Community Event,Family Event,Kid Event,Outdoor/Nature,Philadelphia Events,Pride
ATTACH;FMTTYPE=image/jpeg:https://phillyfamily.com/wp-content/uploads/2026/01/713389555827253024-1902-drwc-valentines-7046-matt-stanley-45.full_-e1767664864696.jpg
END:VEVENT
BEGIN:VEVENT
DTSTART;TZID=America/New_York:20260123T110000
DTEND;TZID=America/New_York:20260123T230000
DTSTAMP:20260422T024745
CREATED:20260106T015823Z
LAST-MODIFIED:20260130T010833Z
UID:10034036-1769166000-1769209200@phillyfamily.com
SUMMARY:Independence Blue Cross RiverRink Winter Fest
DESCRIPTION:Experience winter magic by ice skating at Independence Blue Cross RiverRink Winter Fest. \nLearn more and reserve tickets on their website.
URL:https://phillyfamily.com/event/independence-blue-cross-riverrink-winter-fest/2026-01-23/
LOCATION:Independence Blue Cross RiverRink\, 101 S Columbus Boulevard\, Philadelphia\, PA\, 19106\, United States
CATEGORIES:Community Event,Family Event,Outdoor/Nature,Philadelphia Events
ATTACH;FMTTYPE=image/jpeg:https://phillyfamily.com/wp-content/uploads/2026/01/794331576864304701-2412-drwc-winterfest-0030.full_-e1767664640515.jpg
END:VEVENT
BEGIN:VEVENT
DTSTART;VALUE=DATE:20260123
DTEND;VALUE=DATE:20260124
DTSTAMP:20260422T024745
CREATED:20260106T150423Z
LAST-MODIFIED:20260106T150423Z
UID:10033344-1769126400-1769212799@phillyfamily.com
SUMMARY:Rothman Orthopaedics Ice Rink
DESCRIPTION:Come together for some ice-skating with Rothman Orthopaedics Ice Rink at Dilworth Park\, offered seven days a week until February 22\, 2026. \nLearn more and reserve tickets on their website.
URL:https://phillyfamily.com/event/rothman-orthopaedics-ice-rink/2026-01-23/
LOCATION:Dilworth Park\, 1 S 15th St\, Philadelphia\, PA\, 19102\, United States
CATEGORIES:Community Event,Family Event,Kid Event,Outdoor/Nature,Philadelphia Events
ATTACH;FMTTYPE=image/jpeg:https://phillyfamily.com/wp-content/uploads/2026/01/cmiqjoiinhn55uzqd7dar52ta-ice-rink-2025.0.1182.1601.1001.max_-e1767711811830.jpg
END:VEVENT
BEGIN:VEVENT
DTSTART;TZID=America/New_York:20260122T110000
DTEND;TZID=America/New_York:20260122T230000
DTSTAMP:20260422T024745
CREATED:20260106T015823Z
LAST-MODIFIED:20260130T010833Z
UID:10034035-1769079600-1769122800@phillyfamily.com
SUMMARY:Independence Blue Cross RiverRink Winter Fest
DESCRIPTION:Experience winter magic by ice skating at Independence Blue Cross RiverRink Winter Fest. \nLearn more and reserve tickets on their website.
URL:https://phillyfamily.com/event/independence-blue-cross-riverrink-winter-fest/2026-01-22/
LOCATION:Independence Blue Cross RiverRink\, 101 S Columbus Boulevard\, Philadelphia\, PA\, 19106\, United States
CATEGORIES:Community Event,Family Event,Outdoor/Nature,Philadelphia Events
ATTACH;FMTTYPE=image/jpeg:https://phillyfamily.com/wp-content/uploads/2026/01/794331576864304701-2412-drwc-winterfest-0030.full_-e1767664640515.jpg
END:VEVENT
BEGIN:VEVENT
DTSTART;VALUE=DATE:20260122
DTEND;VALUE=DATE:20260123
DTSTAMP:20260422T024745
CREATED:20260106T150423Z
LAST-MODIFIED:20260106T150423Z
UID:10033343-1769040000-1769126399@phillyfamily.com
SUMMARY:Rothman Orthopaedics Ice Rink
DESCRIPTION:Come together for some ice-skating with Rothman Orthopaedics Ice Rink at Dilworth Park\, offered seven days a week until February 22\, 2026. \nLearn more and reserve tickets on their website.
URL:https://phillyfamily.com/event/rothman-orthopaedics-ice-rink/2026-01-22/
LOCATION:Dilworth Park\, 1 S 15th St\, Philadelphia\, PA\, 19102\, United States
CATEGORIES:Community Event,Family Event,Kid Event,Outdoor/Nature,Philadelphia Events
ATTACH;FMTTYPE=image/jpeg:https://phillyfamily.com/wp-content/uploads/2026/01/cmiqjoiinhn55uzqd7dar52ta-ice-rink-2025.0.1182.1601.1001.max_-e1767711811830.jpg
END:VEVENT
BEGIN:VEVENT
DTSTART;TZID=America/New_York:20260121T110000
DTEND;TZID=America/New_York:20260121T230000
DTSTAMP:20260422T024745
CREATED:20260106T015823Z
LAST-MODIFIED:20260130T010833Z
UID:10034034-1768993200-1769036400@phillyfamily.com
SUMMARY:Independence Blue Cross RiverRink Winter Fest
DESCRIPTION:Experience winter magic by ice skating at Independence Blue Cross RiverRink Winter Fest. \nLearn more and reserve tickets on their website.
URL:https://phillyfamily.com/event/independence-blue-cross-riverrink-winter-fest/2026-01-21/
LOCATION:Independence Blue Cross RiverRink\, 101 S Columbus Boulevard\, Philadelphia\, PA\, 19106\, United States
CATEGORIES:Community Event,Family Event,Outdoor/Nature,Philadelphia Events
ATTACH;FMTTYPE=image/jpeg:https://phillyfamily.com/wp-content/uploads/2026/01/794331576864304701-2412-drwc-winterfest-0030.full_-e1767664640515.jpg
END:VEVENT
BEGIN:VEVENT
DTSTART;VALUE=DATE:20260121
DTEND;VALUE=DATE:20260122
DTSTAMP:20260422T024745
CREATED:20260106T150423Z
LAST-MODIFIED:20260106T150423Z
UID:10033342-1768953600-1769039999@phillyfamily.com
SUMMARY:Rothman Orthopaedics Ice Rink
DESCRIPTION:Come together for some ice-skating with Rothman Orthopaedics Ice Rink at Dilworth Park\, offered seven days a week until February 22\, 2026. \nLearn more and reserve tickets on their website.
URL:https://phillyfamily.com/event/rothman-orthopaedics-ice-rink/2026-01-21/
LOCATION:Dilworth Park\, 1 S 15th St\, Philadelphia\, PA\, 19102\, United States
CATEGORIES:Community Event,Family Event,Kid Event,Outdoor/Nature,Philadelphia Events
ATTACH;FMTTYPE=image/jpeg:https://phillyfamily.com/wp-content/uploads/2026/01/cmiqjoiinhn55uzqd7dar52ta-ice-rink-2025.0.1182.1601.1001.max_-e1767711811830.jpg
END:VEVENT
BEGIN:VEVENT
DTSTART;TZID=America/New_York:20260120T180000
DTEND;TZID=America/New_York:20260120T190000
DTSTAMP:20260422T024745
CREATED:20250505T201745Z
LAST-MODIFIED:20250505T201745Z
UID:10025403-1768932000-1768935600@phillyfamily.com
SUMMARY:Yoga On The Pier
DESCRIPTION:Join Riverfront North and Roots2Rise for an all levels outdoor flow at Pennypack on the Delaware\, Tuesdays from 6-7 pm! All ages and abilities are welcome. \nThis class is made possible by the Riverfront North Partnership. Class is free but donations are welcome and will help sustain more free and low-cost yoga programming throughout the city. \nPlease bring your own mat. Pre-registration encouraged.
URL:https://phillyfamily.com/event/yoga-on-the-pier/2026-01-20/
LOCATION:Pennypack on the Delaware\, 7801 State Road\, Philadelphia\, PA\, 19136\, United States
CATEGORIES:Class or Workshop,Family Event,Free,Outdoor/Nature,Parent Event,Philadelphia Events
ATTACH;FMTTYPE=image/jpeg:https://phillyfamily.com/wp-content/uploads/2025/05/f3b7004f-2804-4e04-b894-6c85cf21c2ce-585x439-1.jpg
END:VEVENT
BEGIN:VEVENT
DTSTART;TZID=America/New_York:20260120T110000
DTEND;TZID=America/New_York:20260120T230000
DTSTAMP:20260422T024745
CREATED:20260106T015823Z
LAST-MODIFIED:20260130T010833Z
UID:10034033-1768906800-1768950000@phillyfamily.com
SUMMARY:Independence Blue Cross RiverRink Winter Fest
DESCRIPTION:Experience winter magic by ice skating at Independence Blue Cross RiverRink Winter Fest. \nLearn more and reserve tickets on their website.
URL:https://phillyfamily.com/event/independence-blue-cross-riverrink-winter-fest/2026-01-20/
LOCATION:Independence Blue Cross RiverRink\, 101 S Columbus Boulevard\, Philadelphia\, PA\, 19106\, United States
CATEGORIES:Community Event,Family Event,Outdoor/Nature,Philadelphia Events
ATTACH;FMTTYPE=image/jpeg:https://phillyfamily.com/wp-content/uploads/2026/01/794331576864304701-2412-drwc-winterfest-0030.full_-e1767664640515.jpg
END:VEVENT
BEGIN:VEVENT
DTSTART;VALUE=DATE:20260120
DTEND;VALUE=DATE:20260121
DTSTAMP:20260422T024745
CREATED:20260106T150423Z
LAST-MODIFIED:20260106T150423Z
UID:10033341-1768867200-1768953599@phillyfamily.com
SUMMARY:Rothman Orthopaedics Ice Rink
DESCRIPTION:Come together for some ice-skating with Rothman Orthopaedics Ice Rink at Dilworth Park\, offered seven days a week until February 22\, 2026. \nLearn more and reserve tickets on their website.
URL:https://phillyfamily.com/event/rothman-orthopaedics-ice-rink/2026-01-20/
LOCATION:Dilworth Park\, 1 S 15th St\, Philadelphia\, PA\, 19102\, United States
CATEGORIES:Community Event,Family Event,Kid Event,Outdoor/Nature,Philadelphia Events
ATTACH;FMTTYPE=image/jpeg:https://phillyfamily.com/wp-content/uploads/2026/01/cmiqjoiinhn55uzqd7dar52ta-ice-rink-2025.0.1182.1601.1001.max_-e1767711811830.jpg
END:VEVENT
BEGIN:VEVENT
DTSTART;TZID=America/New_York:20260119T110000
DTEND;TZID=America/New_York:20260119T230000
DTSTAMP:20260422T024745
CREATED:20260106T015823Z
LAST-MODIFIED:20260130T010833Z
UID:10034032-1768820400-1768863600@phillyfamily.com
SUMMARY:Independence Blue Cross RiverRink Winter Fest
DESCRIPTION:Experience winter magic by ice skating at Independence Blue Cross RiverRink Winter Fest. \nLearn more and reserve tickets on their website.
URL:https://phillyfamily.com/event/independence-blue-cross-riverrink-winter-fest/2026-01-19/
LOCATION:Independence Blue Cross RiverRink\, 101 S Columbus Boulevard\, Philadelphia\, PA\, 19106\, United States
CATEGORIES:Community Event,Family Event,Outdoor/Nature,Philadelphia Events
ATTACH;FMTTYPE=image/jpeg:https://phillyfamily.com/wp-content/uploads/2026/01/794331576864304701-2412-drwc-winterfest-0030.full_-e1767664640515.jpg
END:VEVENT
BEGIN:VEVENT
DTSTART;VALUE=DATE:20260119
DTEND;VALUE=DATE:20260120
DTSTAMP:20260422T024745
CREATED:20260106T150423Z
LAST-MODIFIED:20260106T150423Z
UID:10033340-1768780800-1768867199@phillyfamily.com
SUMMARY:Rothman Orthopaedics Ice Rink
DESCRIPTION:Come together for some ice-skating with Rothman Orthopaedics Ice Rink at Dilworth Park\, offered seven days a week until February 22\, 2026. \nLearn more and reserve tickets on their website.
URL:https://phillyfamily.com/event/rothman-orthopaedics-ice-rink/2026-01-19/
LOCATION:Dilworth Park\, 1 S 15th St\, Philadelphia\, PA\, 19102\, United States
CATEGORIES:Community Event,Family Event,Kid Event,Outdoor/Nature,Philadelphia Events
ATTACH;FMTTYPE=image/jpeg:https://phillyfamily.com/wp-content/uploads/2026/01/cmiqjoiinhn55uzqd7dar52ta-ice-rink-2025.0.1182.1601.1001.max_-e1767711811830.jpg
END:VEVENT
BEGIN:VEVENT
DTSTART;TZID=America/New_York:20260118T140000
DTEND;TZID=America/New_York:20260118T160000
DTSTAMP:20260422T024745
CREATED:20260106T014943Z
LAST-MODIFIED:20260106T015038Z
UID:10033261-1768744800-1768752000@phillyfamily.com
SUMMARY:Storytime & Skate with Characters at Independence Blue Cross RiverRink Winterfest
DESCRIPTION:Bring the family at Independence Blue Cross RiverRink Winterfest for their Storytime & Skate with Characters. Little ones can enjoy an afternoon filled with magical moments\, warm stories\, and ice skating with their favorite costumed friends. \nReserve tickets and find specific characters on their website.
URL:https://phillyfamily.com/event/storytime-skate-with-characters-at-independence-blue-cross-riverrink-winterfest/2026-01-18/
LOCATION:Independence Blue Cross RiverRink\, 101 S Columbus Boulevard\, Philadelphia\, PA\, 19106\, United States
CATEGORIES:Family Event,Kid Event,Outdoor/Nature,Philadelphia Events,Storytime
ATTACH;FMTTYPE=image/jpeg:https://phillyfamily.com/wp-content/uploads/2026/01/96363735882786941-img-3477.full_-e1767664127724.jpg
END:VEVENT
BEGIN:VEVENT
DTSTART;TZID=America/New_York:20260118T110000
DTEND;TZID=America/New_York:20260118T230000
DTSTAMP:20260422T024745
CREATED:20260106T015823Z
LAST-MODIFIED:20260130T010833Z
UID:10034031-1768734000-1768777200@phillyfamily.com
SUMMARY:Independence Blue Cross RiverRink Winter Fest
DESCRIPTION:Experience winter magic by ice skating at Independence Blue Cross RiverRink Winter Fest. \nLearn more and reserve tickets on their website.
URL:https://phillyfamily.com/event/independence-blue-cross-riverrink-winter-fest/2026-01-18/
LOCATION:Independence Blue Cross RiverRink\, 101 S Columbus Boulevard\, Philadelphia\, PA\, 19106\, United States
CATEGORIES:Community Event,Family Event,Outdoor/Nature,Philadelphia Events
ATTACH;FMTTYPE=image/jpeg:https://phillyfamily.com/wp-content/uploads/2026/01/794331576864304701-2412-drwc-winterfest-0030.full_-e1767664640515.jpg
END:VEVENT
BEGIN:VEVENT
DTSTART;VALUE=DATE:20260118
DTEND;VALUE=DATE:20260119
DTSTAMP:20260422T024745
CREATED:20260106T150423Z
LAST-MODIFIED:20260106T150423Z
UID:10033339-1768694400-1768780799@phillyfamily.com
SUMMARY:Rothman Orthopaedics Ice Rink
DESCRIPTION:Come together for some ice-skating with Rothman Orthopaedics Ice Rink at Dilworth Park\, offered seven days a week until February 22\, 2026. \nLearn more and reserve tickets on their website.
URL:https://phillyfamily.com/event/rothman-orthopaedics-ice-rink/2026-01-18/
LOCATION:Dilworth Park\, 1 S 15th St\, Philadelphia\, PA\, 19102\, United States
CATEGORIES:Community Event,Family Event,Kid Event,Outdoor/Nature,Philadelphia Events
ATTACH;FMTTYPE=image/jpeg:https://phillyfamily.com/wp-content/uploads/2026/01/cmiqjoiinhn55uzqd7dar52ta-ice-rink-2025.0.1182.1601.1001.max_-e1767711811830.jpg
END:VEVENT
BEGIN:VEVENT
DTSTART;TZID=America/New_York:20260117T110000
DTEND;TZID=America/New_York:20260117T230000
DTSTAMP:20260422T024745
CREATED:20260106T015823Z
LAST-MODIFIED:20260130T010833Z
UID:10034030-1768647600-1768690800@phillyfamily.com
SUMMARY:Independence Blue Cross RiverRink Winter Fest
DESCRIPTION:Experience winter magic by ice skating at Independence Blue Cross RiverRink Winter Fest. \nLearn more and reserve tickets on their website.
URL:https://phillyfamily.com/event/independence-blue-cross-riverrink-winter-fest/2026-01-17/
LOCATION:Independence Blue Cross RiverRink\, 101 S Columbus Boulevard\, Philadelphia\, PA\, 19106\, United States
CATEGORIES:Community Event,Family Event,Outdoor/Nature,Philadelphia Events
ATTACH;FMTTYPE=image/jpeg:https://phillyfamily.com/wp-content/uploads/2026/01/794331576864304701-2412-drwc-winterfest-0030.full_-e1767664640515.jpg
END:VEVENT
BEGIN:VEVENT
DTSTART;TZID=America/New_York:20260117T100000
DTEND;TZID=America/New_York:20260117T110000
DTSTAMP:20260422T024745
CREATED:20251216T170059Z
LAST-MODIFIED:20251216T170059Z
UID:10032615-1768644000-1768647600@phillyfamily.com
SUMMARY:Mini Makers Robotics Class with Brooklyn Robot Foundry
DESCRIPTION:Brooklyn Robot Foundry Philly’s Mini Makers program brings the joy of building and creating to young learners ages 3–6 through weekly Saturday STEAM robotics classes in Glenside\, PA\, where little hands explore engineering and creativity in a screen-free environment—and every child takes home something they built themselves each week. Families across Greater Philadelphia and Montgomery County love Mini Makers because it nurtures confidence\, problem-solving skills\, and early childhood development in a genuinely fun\, meaningful way that kids can’t wait to attend and parents can feel great about.
URL:https://phillyfamily.com/event/mini-makers-robotics-class-with-brooklyn-robot-foundry/2026-01-17/
LOCATION:SnowBot Philly East\, LLC\, 12 West Glenside Avenue\, Glenside\, PA\, 19038\, United States
CATEGORIES:Bucks County Events,Class or Workshop,Community Event,Delaware County Events,Family Event,Kid Event,Montgomery County Events,Outdoor/Nature,Philadelphia Events
ATTACH;FMTTYPE=image/jpeg:https://phillyfamily.com/wp-content/uploads/2025/12/Winter-2026-Mini-Makers-Saturday-e1765904369223.jpg
END:VEVENT
BEGIN:VEVENT
DTSTART;VALUE=DATE:20260117
DTEND;VALUE=DATE:20260118
DTSTAMP:20260422T024745
CREATED:20260106T150423Z
LAST-MODIFIED:20260106T150423Z
UID:10033338-1768608000-1768694399@phillyfamily.com
SUMMARY:Rothman Orthopaedics Ice Rink
DESCRIPTION:Come together for some ice-skating with Rothman Orthopaedics Ice Rink at Dilworth Park\, offered seven days a week until February 22\, 2026. \nLearn more and reserve tickets on their website.
URL:https://phillyfamily.com/event/rothman-orthopaedics-ice-rink/2026-01-17/
LOCATION:Dilworth Park\, 1 S 15th St\, Philadelphia\, PA\, 19102\, United States
CATEGORIES:Community Event,Family Event,Kid Event,Outdoor/Nature,Philadelphia Events
ATTACH;FMTTYPE=image/jpeg:https://phillyfamily.com/wp-content/uploads/2026/01/cmiqjoiinhn55uzqd7dar52ta-ice-rink-2025.0.1182.1601.1001.max_-e1767711811830.jpg
END:VEVENT
BEGIN:VEVENT
DTSTART;TZID=America/New_York:20260116T110000
DTEND;TZID=America/New_York:20260116T230000
DTSTAMP:20260422T024745
CREATED:20260106T015823Z
LAST-MODIFIED:20260130T010833Z
UID:10034029-1768561200-1768604400@phillyfamily.com
SUMMARY:Independence Blue Cross RiverRink Winter Fest
DESCRIPTION:Experience winter magic by ice skating at Independence Blue Cross RiverRink Winter Fest. \nLearn more and reserve tickets on their website.
URL:https://phillyfamily.com/event/independence-blue-cross-riverrink-winter-fest/2026-01-16/
LOCATION:Independence Blue Cross RiverRink\, 101 S Columbus Boulevard\, Philadelphia\, PA\, 19106\, United States
CATEGORIES:Community Event,Family Event,Outdoor/Nature,Philadelphia Events
ATTACH;FMTTYPE=image/jpeg:https://phillyfamily.com/wp-content/uploads/2026/01/794331576864304701-2412-drwc-winterfest-0030.full_-e1767664640515.jpg
END:VEVENT
BEGIN:VEVENT
DTSTART;VALUE=DATE:20260116
DTEND;VALUE=DATE:20260117
DTSTAMP:20260422T024745
CREATED:20260106T150423Z
LAST-MODIFIED:20260106T150423Z
UID:10033337-1768521600-1768607999@phillyfamily.com
SUMMARY:Rothman Orthopaedics Ice Rink
DESCRIPTION:Come together for some ice-skating with Rothman Orthopaedics Ice Rink at Dilworth Park\, offered seven days a week until February 22\, 2026. \nLearn more and reserve tickets on their website.
URL:https://phillyfamily.com/event/rothman-orthopaedics-ice-rink/2026-01-16/
LOCATION:Dilworth Park\, 1 S 15th St\, Philadelphia\, PA\, 19102\, United States
CATEGORIES:Community Event,Family Event,Kid Event,Outdoor/Nature,Philadelphia Events
ATTACH;FMTTYPE=image/jpeg:https://phillyfamily.com/wp-content/uploads/2026/01/cmiqjoiinhn55uzqd7dar52ta-ice-rink-2025.0.1182.1601.1001.max_-e1767711811830.jpg
END:VEVENT
END:VCALENDAR