BEGIN:VCALENDAR
VERSION:2.0
PRODID:-//Philadelphia Family Magazine - ECPv6.15.20//NONSGML v1.0//EN
CALSCALE:GREGORIAN
METHOD:PUBLISH
X-ORIGINAL-URL:https://phillyfamily.com
X-WR-CALDESC:Events for Philadelphia Family Magazine
REFRESH-INTERVAL;VALUE=DURATION:PT1H
X-Robots-Tag:noindex
X-PUBLISHED-TTL:PT1H
BEGIN:VTIMEZONE
TZID:America/New_York
BEGIN:DAYLIGHT
TZOFFSETFROM:-0500
TZOFFSETTO:-0400
TZNAME:EDT
DTSTART:20250309T070000
END:DAYLIGHT
BEGIN:STANDARD
TZOFFSETFROM:-0400
TZOFFSETTO:-0500
TZNAME:EST
DTSTART:20251102T060000
END:STANDARD
BEGIN:DAYLIGHT
TZOFFSETFROM:-0500
TZOFFSETTO:-0400
TZNAME:EDT
DTSTART:20260308T070000
END:DAYLIGHT
BEGIN:STANDARD
TZOFFSETFROM:-0400
TZOFFSETTO:-0500
TZNAME:EST
DTSTART:20261101T060000
END:STANDARD
BEGIN:DAYLIGHT
TZOFFSETFROM:-0500
TZOFFSETTO:-0400
TZNAME:EDT
DTSTART:20270314T070000
END:DAYLIGHT
BEGIN:STANDARD
TZOFFSETFROM:-0400
TZOFFSETTO:-0500
TZNAME:EST
DTSTART:20271107T060000
END:STANDARD
END:VTIMEZONE
BEGIN:VEVENT
DTSTART;TZID=America/New_York:20260421T180000
DTEND;TZID=America/New_York:20260421T190000
DTSTAMP:20260422T022744
CREATED:20250505T201745Z
LAST-MODIFIED:20250505T201745Z
UID:10025416-1776794400-1776798000@phillyfamily.com
SUMMARY:Yoga On The Pier
DESCRIPTION:Join Riverfront North and Roots2Rise for an all levels outdoor flow at Pennypack on the Delaware\, Tuesdays from 6-7 pm! All ages and abilities are welcome. \nThis class is made possible by the Riverfront North Partnership. Class is free but donations are welcome and will help sustain more free and low-cost yoga programming throughout the city. \nPlease bring your own mat. Pre-registration encouraged.
URL:https://phillyfamily.com/event/yoga-on-the-pier/2026-04-21/
LOCATION:Pennypack on the Delaware\, 7801 State Road\, Philadelphia\, PA\, 19136\, United States
CATEGORIES:Class or Workshop,Family Event,Free,Outdoor/Nature,Parent Event,Philadelphia Events
ATTACH;FMTTYPE=image/jpeg:https://phillyfamily.com/wp-content/uploads/2025/05/f3b7004f-2804-4e04-b894-6c85cf21c2ce-585x439-1.jpg
END:VEVENT
BEGIN:VEVENT
DTSTART;TZID=America/New_York:20260425T080000
DTEND;TZID=America/New_York:20260425T110000
DTSTAMP:20260422T022744
CREATED:20260223T184833Z
LAST-MODIFIED:20260223T184833Z
UID:10034757-1777104000-1777114800@phillyfamily.com
SUMMARY:Bird Walks at Newlin Grist Mill
DESCRIPTION:Newlin Grist Mill and Wild Birds Unlimited (Glen Mills) have teamed up to explore the wonderful world of bird life! Join them for monthly naturalist-led walks through the 160-acre park at Newlin Grist Mill. They will meet year-round residents\, visit exciting migrants\, and learn the basics of bird identification and biology. \nFamilies and beginners are welcome for these free bird walks! A limited number of binoculars are available for use\, but participants are encouraged to bring their own if they have them. Participants should meet by the Log Cabin.
URL:https://phillyfamily.com/event/bird-walks-at-newlin-grist-mill/2026-04-25/
LOCATION:Newlin Grist Mill\, 219 Cheyney Road\, Glen Mills\, PA\, 19342\, United States
CATEGORIES:Community Event,Delaware County Events,Free,Outdoor/Nature
ATTACH;FMTTYPE=image/jpeg:https://phillyfamily.com/wp-content/uploads/2026/02/Bird-Walks-e1771872456725.jpg
END:VEVENT
BEGIN:VEVENT
DTSTART;TZID=America/New_York:20260425T093000
DTEND;TZID=America/New_York:20260425T163000
DTSTAMP:20260422T022744
CREATED:20260223T185724Z
LAST-MODIFIED:20260223T185724Z
UID:10034779-1777109400-1777134600@phillyfamily.com
SUMMARY:Earth Day at Newlin Grist Mill
DESCRIPTION:Help celebrate nature and protect the environment with an Earth Day volunteer event! \nEach year\, Newlin brings together diverse volunteers from the community\, including individuals\, families\, scout troops\, and youth groups\, to work on projects that improve habitat for wildlife\, protect important natural resources\, and preserve the park’s plant and animal communities. \nVolunteers will meet to plant trees\, remove invasive plant species\, and improve habitat for birds and wetland wildlife. Groups will be scheduled for 3 hour shifts. \nRegister for a shift by emailing jshahan@newlingristmill.org.
URL:https://phillyfamily.com/event/earth-day-at-newlin-grist-mill-2/
LOCATION:Newlin Grist Mill\, 219 Cheyney Road\, Glen Mills\, PA\, 19342\, United States
CATEGORIES:Community Event,Free,Outdoor/Nature,Volunteering
ATTACH;FMTTYPE=image/jpeg:https://phillyfamily.com/wp-content/uploads/2026/02/Earth-Mo.jpg
END:VEVENT
BEGIN:VEVENT
DTSTART;TZID=America/New_York:20260425T100000
DTEND;TZID=America/New_York:20260425T180000
DTSTAMP:20260422T022744
CREATED:20260328T031654Z
LAST-MODIFIED:20260328T031654Z
UID:10035497-1777111200-1777140000@phillyfamily.com
SUMMARY:Southeast Asian Market in FDR Park
DESCRIPTION:Families are warmly invited to discover the Southeast Asian Market in FDR Park\, a Philadelphia tradition over 35 years in the making\, officially opening for the 2026 season on Saturday\, April 4 and open every weekend until October 31. \nMore than a market\, this vibrant community space is rooted in the stories of Lao\, Khmer\, Thai\, Vietnamese\, and Indonesian refugee and immigrant communities who have made FDR Park their home. Browse stalls filled with authentic dishes\, culturally specific produce\, plants\, clothing\, and handmade jewelry\, all offered by vendors who have been sharing their heritage here for generations. \nFamilies curious about where to start can join a guided market tour to sample Southeast Asian staples\, learn the history behind the vendors\, and get to know the people who make this place so special. \nPlease note: the market is closed for the Broad Street Run\, all Eagles home games\, and FIFA World Cup match dates.
URL:https://phillyfamily.com/event/southeast-asian-market-in-fdr-park/2026-04-25/
LOCATION:FDR Park\, 1500 Pattison Avenue\, Philadelphia\, PA\, 19145\, United States
CATEGORIES:Community Event,Family Event,Farmers Markets,For Parents,For The Whole Family,Free,Outdoor/Nature,Philadelphia Events
ATTACH;FMTTYPE=image/jpeg:https://phillyfamily.com/wp-content/uploads/2026/03/event-fdrseamarket.jpg-e1774667779974.jpg
END:VEVENT
BEGIN:VEVENT
DTSTART;TZID=America/New_York:20260425T110000
DTEND;TZID=America/New_York:20260425T150000
DTSTAMP:20260422T022744
CREATED:20260328T031017Z
LAST-MODIFIED:20260328T031017Z
UID:10035490-1777114800-1777129200@phillyfamily.com
SUMMARY:Naturepalooza at The Schuylkill Center
DESCRIPTION:Families are invited to celebrate Earth Day with the Schuylkill Center at Naturepalooza\, one of the longest-running Earth Day celebrations in Philadelphia! This annual event offers something special for every member of the family. \nExplore the center-wide Nature Passport scavenger hunt\, get creative with nature-based crafts and activities\, and join guided hikes led by wonderful community members. Families will also have the chance to meet some amazing local organizations\, get their hands a little dirty\, and simply play in nature together\, all completely free of charge. \nRegistration is recommended to stay in the loop on event details and any weather updates.
URL:https://phillyfamily.com/event/naturepalooza-at-the-schuylkill-center/
LOCATION:The Schuylkill Center for Environmental Education\, 8480 Hagy's Mill Road\, Philadelphia\, PA\, 19128\, United States
CATEGORIES:Community Event,Family Event,For The Whole Family,Free,Outdoor/Nature
ATTACH;FMTTYPE=image/jpeg:https://phillyfamily.com/wp-content/uploads/2026/03/event-naturepalooza-e1774667410957.jpg
END:VEVENT
BEGIN:VEVENT
DTSTART;TZID=America/New_York:20260425T130000
DTEND;TZID=America/New_York:20260425T150000
DTSTAMP:20260422T022744
CREATED:20260223T185234Z
LAST-MODIFIED:20260223T185234Z
UID:10034768-1777122000-1777129200@phillyfamily.com
SUMMARY:Habitat Stewards at Newlin Grist Mill
DESCRIPTION:Volunteers can help Newlin Grist Mill and make the park a better place for wildlife and people! The Habitat Stewards group meets once a month to work on outdoor tasks related to habitat restoration and species conservation. Projects vary by month but include things like invasive plant removal\, tree planting\, garden maintenance\, trail cleanup\, and outdoor classroom care. \nPre-registration is required. To register\, please contact Jessica at jshahan@newlingristmill.org or 610-459-2359.
URL:https://phillyfamily.com/event/habitat-stewards-at-newlin-grist-mill/2026-04-25/
LOCATION:Newlin Grist Mill\, 219 Cheyney Road\, Glen Mills\, PA\, 19342\, United States
CATEGORIES:Community Event,Delaware County Events,Family Event,Free,Outdoor/Nature,Volunteering
ATTACH;FMTTYPE=image/jpeg:https://phillyfamily.com/wp-content/uploads/2026/02/Hab-Stew-e1771872730108.jpg
END:VEVENT
BEGIN:VEVENT
DTSTART;TZID=America/New_York:20260426T100000
DTEND;TZID=America/New_York:20260426T180000
DTSTAMP:20260422T022744
CREATED:20260328T031654Z
LAST-MODIFIED:20260328T031654Z
UID:10035498-1777197600-1777226400@phillyfamily.com
SUMMARY:Southeast Asian Market in FDR Park
DESCRIPTION:Families are warmly invited to discover the Southeast Asian Market in FDR Park\, a Philadelphia tradition over 35 years in the making\, officially opening for the 2026 season on Saturday\, April 4 and open every weekend until October 31. \nMore than a market\, this vibrant community space is rooted in the stories of Lao\, Khmer\, Thai\, Vietnamese\, and Indonesian refugee and immigrant communities who have made FDR Park their home. Browse stalls filled with authentic dishes\, culturally specific produce\, plants\, clothing\, and handmade jewelry\, all offered by vendors who have been sharing their heritage here for generations. \nFamilies curious about where to start can join a guided market tour to sample Southeast Asian staples\, learn the history behind the vendors\, and get to know the people who make this place so special. \nPlease note: the market is closed for the Broad Street Run\, all Eagles home games\, and FIFA World Cup match dates.
URL:https://phillyfamily.com/event/southeast-asian-market-in-fdr-park/2026-04-26/
LOCATION:FDR Park\, 1500 Pattison Avenue\, Philadelphia\, PA\, 19145\, United States
CATEGORIES:Community Event,Family Event,Farmers Markets,For Parents,For The Whole Family,Free,Outdoor/Nature,Philadelphia Events
ATTACH;FMTTYPE=image/jpeg:https://phillyfamily.com/wp-content/uploads/2026/03/event-fdrseamarket.jpg-e1774667779974.jpg
END:VEVENT
END:VCALENDAR