BEGIN:VCALENDAR
VERSION:2.0
PRODID:-//Philadelphia Family Magazine - ECPv6.15.20//NONSGML v1.0//EN
CALSCALE:GREGORIAN
METHOD:PUBLISH
X-WR-CALNAME:Philadelphia Family Magazine
X-ORIGINAL-URL:https://phillyfamily.com
X-WR-CALDESC:Events for Philadelphia Family Magazine
REFRESH-INTERVAL;VALUE=DURATION:PT1H
X-Robots-Tag:noindex
X-PUBLISHED-TTL:PT1H
BEGIN:VTIMEZONE
TZID:America/New_York
BEGIN:DAYLIGHT
TZOFFSETFROM:-0500
TZOFFSETTO:-0400
TZNAME:EDT
DTSTART:20250309T070000
END:DAYLIGHT
BEGIN:STANDARD
TZOFFSETFROM:-0400
TZOFFSETTO:-0500
TZNAME:EST
DTSTART:20251102T060000
END:STANDARD
BEGIN:DAYLIGHT
TZOFFSETFROM:-0500
TZOFFSETTO:-0400
TZNAME:EDT
DTSTART:20260308T070000
END:DAYLIGHT
BEGIN:STANDARD
TZOFFSETFROM:-0400
TZOFFSETTO:-0500
TZNAME:EST
DTSTART:20261101T060000
END:STANDARD
BEGIN:DAYLIGHT
TZOFFSETFROM:-0500
TZOFFSETTO:-0400
TZNAME:EDT
DTSTART:20270314T070000
END:DAYLIGHT
BEGIN:STANDARD
TZOFFSETFROM:-0400
TZOFFSETTO:-0500
TZNAME:EST
DTSTART:20271107T060000
END:STANDARD
END:VTIMEZONE
BEGIN:VEVENT
DTSTART;TZID=America/New_York:20260421T100000
DTEND;TZID=America/New_York:20260421T170000
DTSTAMP:20260420T174542
CREATED:20260227T150447Z
LAST-MODIFIED:20260227T150447Z
UID:10034892-1776765600-1776790800@phillyfamily.com
SUMMARY:(Daily) The Declaration's Journey at the Museum of the American Revolution
DESCRIPTION:At the Museum of the American Revolution\, families can view The Declaration’s Journey exhibit\, presented by Griffin Catalyst\, which marks the 250th anniversary of the nation’s founding. Come together to explore the history and global impact of the Declaration of Independence from 1776 to current times. All in all\, this exhibition showcases how American Declaration of Independence has become one of the most influential political documents in modern history. \nLearn more here.
URL:https://phillyfamily.com/event/daily-the-declarations-journey-at-the-museum-of-the-american-revolution/2026-04-21/
LOCATION:Museum of the American Revolution\, 101 S 3rd St\, Philadelphia\, PA\, 19106\, United States
CATEGORIES:Community Event,Exhibit,Philadelphia Events
ATTACH;FMTTYPE=image/jpeg:https://phillyfamily.com/wp-content/uploads/2026/02/event-declarationsjourney-e1772204647792.jpg
END:VEVENT
BEGIN:VEVENT
DTSTART;TZID=America/New_York:20260421T100000
DTEND;TZID=America/New_York:20260421T200000
DTSTAMP:20260420T174542
CREATED:20260328T033146Z
LAST-MODIFIED:20260328T033146Z
UID:10035560-1776765600-1776801600@phillyfamily.com
SUMMARY:Philadelphia Film Society's Springfest 2026
DESCRIPTION:SpringFest returns April 17 to 23\, 2026\, for a full week of storytelling that highlights the future of filmmaking. With more screens and an expanded lineup\, the festival features a wide range of films from emerging voices\, including creators from around the world and the Philadelphia region. \nCurated by the Philadelphia Film Society\, SpringFest focuses on new ideas and fresh perspectives in film. The program includes premieres\, conversations with filmmakers\, and events designed to bring the community together. \nHeld at Film Society East\, the festival offers a welcoming space for audiences to discover new stories and connect with the people behind them. \nLearn more about their programming on their website.
URL:https://phillyfamily.com/event/philadelphia-film-societys-springfest-2026/2026-04-21/
LOCATION:film society east\, 125 S 2nd St\, Philadelphia\, PA\, 19106\, United States
CATEGORIES:Arts & Film,Community Event,For Parents,For The Whole Family,Philadelphia Events
ATTACH;FMTTYPE=image/jpeg:https://phillyfamily.com/wp-content/uploads/2026/03/event-pfsspringfest-e1774668626359.jpg
END:VEVENT
BEGIN:VEVENT
DTSTART;TZID=America/New_York:20260421T180000
DTEND;TZID=America/New_York:20260421T190000
DTSTAMP:20260420T174542
CREATED:20250505T201745Z
LAST-MODIFIED:20250505T201745Z
UID:10025416-1776794400-1776798000@phillyfamily.com
SUMMARY:Yoga On The Pier
DESCRIPTION:Join Riverfront North and Roots2Rise for an all levels outdoor flow at Pennypack on the Delaware\, Tuesdays from 6-7 pm! All ages and abilities are welcome. \nThis class is made possible by the Riverfront North Partnership. Class is free but donations are welcome and will help sustain more free and low-cost yoga programming throughout the city. \nPlease bring your own mat. Pre-registration encouraged.
URL:https://phillyfamily.com/event/yoga-on-the-pier/2026-04-21/
LOCATION:Pennypack on the Delaware\, 7801 State Road\, Philadelphia\, PA\, 19136\, United States
CATEGORIES:Class or Workshop,Family Event,Free,Outdoor/Nature,Parent Event,Philadelphia Events
ATTACH;FMTTYPE=image/jpeg:https://phillyfamily.com/wp-content/uploads/2025/05/f3b7004f-2804-4e04-b894-6c85cf21c2ce-585x439-1.jpg
END:VEVENT
END:VCALENDAR