BEGIN:VCALENDAR
VERSION:2.0
PRODID:-//Philadelphia Family Magazine - ECPv6.15.20//NONSGML v1.0//EN
CALSCALE:GREGORIAN
METHOD:PUBLISH
X-WR-CALNAME:Philadelphia Family Magazine
X-ORIGINAL-URL:https://phillyfamily.com
X-WR-CALDESC:Events for Philadelphia Family Magazine
REFRESH-INTERVAL;VALUE=DURATION:PT1H
X-Robots-Tag:noindex
X-PUBLISHED-TTL:PT1H
BEGIN:VTIMEZONE
TZID:America/New_York
BEGIN:DAYLIGHT
TZOFFSETFROM:-0500
TZOFFSETTO:-0400
TZNAME:EDT
DTSTART:20250309T070000
END:DAYLIGHT
BEGIN:STANDARD
TZOFFSETFROM:-0400
TZOFFSETTO:-0500
TZNAME:EST
DTSTART:20251102T060000
END:STANDARD
BEGIN:DAYLIGHT
TZOFFSETFROM:-0500
TZOFFSETTO:-0400
TZNAME:EDT
DTSTART:20260308T070000
END:DAYLIGHT
BEGIN:STANDARD
TZOFFSETFROM:-0400
TZOFFSETTO:-0500
TZNAME:EST
DTSTART:20261101T060000
END:STANDARD
BEGIN:DAYLIGHT
TZOFFSETFROM:-0500
TZOFFSETTO:-0400
TZNAME:EDT
DTSTART:20270314T070000
END:DAYLIGHT
BEGIN:STANDARD
TZOFFSETFROM:-0400
TZOFFSETTO:-0500
TZNAME:EST
DTSTART:20271107T060000
END:STANDARD
END:VTIMEZONE
BEGIN:VEVENT
DTSTART;TZID=America/New_York:20260413T100000
DTEND;TZID=America/New_York:20260413T170000
DTSTAMP:20260421T011255
CREATED:20260227T150447Z
LAST-MODIFIED:20260227T150447Z
UID:10034888-1776074400-1776099600@phillyfamily.com
SUMMARY:(Daily) The Declaration's Journey at the Museum of the American Revolution
DESCRIPTION:At the Museum of the American Revolution\, families can view The Declaration’s Journey exhibit\, presented by Griffin Catalyst\, which marks the 250th anniversary of the nation’s founding. Come together to explore the history and global impact of the Declaration of Independence from 1776 to current times. All in all\, this exhibition showcases how American Declaration of Independence has become one of the most influential political documents in modern history. \nLearn more here.
URL:https://phillyfamily.com/event/daily-the-declarations-journey-at-the-museum-of-the-american-revolution/2026-04-13/
LOCATION:Museum of the American Revolution\, 101 S 3rd St\, Philadelphia\, PA\, 19106\, United States
CATEGORIES:Community Event,Exhibit,Philadelphia Events
ATTACH;FMTTYPE=image/jpeg:https://phillyfamily.com/wp-content/uploads/2026/02/event-declarationsjourney-e1772204647792.jpg
END:VEVENT
BEGIN:VEVENT
DTSTART;TZID=America/New_York:20260414T100000
DTEND;TZID=America/New_York:20260414T170000
DTSTAMP:20260421T011255
CREATED:20260227T150447Z
LAST-MODIFIED:20260227T150447Z
UID:10034889-1776160800-1776186000@phillyfamily.com
SUMMARY:(Daily) The Declaration's Journey at the Museum of the American Revolution
DESCRIPTION:At the Museum of the American Revolution\, families can view The Declaration’s Journey exhibit\, presented by Griffin Catalyst\, which marks the 250th anniversary of the nation’s founding. Come together to explore the history and global impact of the Declaration of Independence from 1776 to current times. All in all\, this exhibition showcases how American Declaration of Independence has become one of the most influential political documents in modern history. \nLearn more here.
URL:https://phillyfamily.com/event/daily-the-declarations-journey-at-the-museum-of-the-american-revolution/2026-04-14/
LOCATION:Museum of the American Revolution\, 101 S 3rd St\, Philadelphia\, PA\, 19106\, United States
CATEGORIES:Community Event,Exhibit,Philadelphia Events
ATTACH;FMTTYPE=image/jpeg:https://phillyfamily.com/wp-content/uploads/2026/02/event-declarationsjourney-e1772204647792.jpg
END:VEVENT
BEGIN:VEVENT
DTSTART;TZID=America/New_York:20260414T180000
DTEND;TZID=America/New_York:20260414T190000
DTSTAMP:20260421T011255
CREATED:20250505T201745Z
LAST-MODIFIED:20250505T201745Z
UID:10025415-1776189600-1776193200@phillyfamily.com
SUMMARY:Yoga On The Pier
DESCRIPTION:Join Riverfront North and Roots2Rise for an all levels outdoor flow at Pennypack on the Delaware\, Tuesdays from 6-7 pm! All ages and abilities are welcome. \nThis class is made possible by the Riverfront North Partnership. Class is free but donations are welcome and will help sustain more free and low-cost yoga programming throughout the city. \nPlease bring your own mat. Pre-registration encouraged.
URL:https://phillyfamily.com/event/yoga-on-the-pier/2026-04-14/
LOCATION:Pennypack on the Delaware\, 7801 State Road\, Philadelphia\, PA\, 19136\, United States
CATEGORIES:Class or Workshop,Family Event,Free,Outdoor/Nature,Parent Event,Philadelphia Events
ATTACH;FMTTYPE=image/jpeg:https://phillyfamily.com/wp-content/uploads/2025/05/f3b7004f-2804-4e04-b894-6c85cf21c2ce-585x439-1.jpg
END:VEVENT
BEGIN:VEVENT
DTSTART;TZID=America/New_York:20260415T110000
DTEND;TZID=America/New_York:20260415T120000
DTSTAMP:20260421T011255
CREATED:20260122T021214Z
LAST-MODIFIED:20260122T021214Z
UID:10033700-1776250800-1776254400@phillyfamily.com
SUMMARY:Kids Play at Springfield Mall
DESCRIPTION:Come together at Springfield Mall for a free kids event on every third Wednesday of each month\, beginning Wednesday\, January 21st through Wednesday\, August 19th. Kids Play provides free entertainment and discounts for toddlers and their caretakers. Events include a variety of fun activities\, entertainment\, arts & crafts\, music and more! \nEvent Dates & Information:\nJanuary 21: Jump and dance around with Go With Yoyo!\nFebruary 18: Music and fun with Lolly Hopwood!\nMarch 18: Jump and dance around with Go With Yoyo!\nApril 15: Jump and dance around with Go With Yoyo!\nMay 20: Jump and dance around with Go With Yoyo!\nJune 17: Jump and dance around with Go With Yoyo!\nJuly 15: Music and fun with Lolly Hopwood!\nAugust 19: Music and fun with Lolly Hopwood!
URL:https://phillyfamily.com/event/kids-play-at-springfield-mall/2026-04-15/
LOCATION:Springfield Mall\, 1250 Baltimore Pike\, Springfield\, PA\, 19064\, United States
CATEGORIES:Community Event,Delaware County Events,Family Event,Philadelphia Events
ATTACH;FMTTYPE=image/jpeg:https://phillyfamily.com/wp-content/uploads/2026/01/486064539_1055384493285792_6935864799332208790_n-e1769047854200.jpg
END:VEVENT
BEGIN:VEVENT
DTSTART;TZID=America/New_York:20260415T160000
DTEND;TZID=America/New_York:20260415T170000
DTSTAMP:20260421T011255
CREATED:20260205T203758Z
LAST-MODIFIED:20260205T204206Z
UID:10034166-1776268800-1776272400@phillyfamily.com
SUMMARY:Read to a Therapy Dog at Parkway Central Library
DESCRIPTION:On Wednesdays at Parkway Central Library\, independent readers and children can practice their reading skills with a certified therapy dog from Comfort Caring Canines. Dogs will be accompanied by their handler during this program\, and each child will be assigned individual time to read to the dog.
URL:https://phillyfamily.com/event/read-to-a-therapy-dog-at-parkway-central-library/2026-04-15/
LOCATION:Parkway Central Library\, 1901 Vine Street\, Children's Department Ground Floor - Room 22\, Philadelphia\, PA\, 19103\, United States
CATEGORIES:Community Event,Free,Kid Event,Philadelphia Events
ATTACH;FMTTYPE=image/jpeg:https://phillyfamily.com/wp-content/uploads/2026/02/therapy-dog.jpg
END:VEVENT
BEGIN:VEVENT
DTSTART;TZID=America/New_York:20260416T100000
DTEND;TZID=America/New_York:20260416T170000
DTSTAMP:20260421T011255
CREATED:20260227T150447Z
LAST-MODIFIED:20260227T150447Z
UID:10034890-1776333600-1776358800@phillyfamily.com
SUMMARY:(Daily) The Declaration's Journey at the Museum of the American Revolution
DESCRIPTION:At the Museum of the American Revolution\, families can view The Declaration’s Journey exhibit\, presented by Griffin Catalyst\, which marks the 250th anniversary of the nation’s founding. Come together to explore the history and global impact of the Declaration of Independence from 1776 to current times. All in all\, this exhibition showcases how American Declaration of Independence has become one of the most influential political documents in modern history. \nLearn more here.
URL:https://phillyfamily.com/event/daily-the-declarations-journey-at-the-museum-of-the-american-revolution/2026-04-16/
LOCATION:Museum of the American Revolution\, 101 S 3rd St\, Philadelphia\, PA\, 19106\, United States
CATEGORIES:Community Event,Exhibit,Philadelphia Events
ATTACH;FMTTYPE=image/jpeg:https://phillyfamily.com/wp-content/uploads/2026/02/event-declarationsjourney-e1772204647792.jpg
END:VEVENT
BEGIN:VEVENT
DTSTART;TZID=America/New_York:20260417T100000
DTEND;TZID=America/New_York:20260417T200000
DTSTAMP:20260421T011255
CREATED:20260328T033146Z
LAST-MODIFIED:20260328T033146Z
UID:10035556-1776420000-1776456000@phillyfamily.com
SUMMARY:Philadelphia Film Society's Springfest 2026
DESCRIPTION:SpringFest returns April 17 to 23\, 2026\, for a full week of storytelling that highlights the future of filmmaking. With more screens and an expanded lineup\, the festival features a wide range of films from emerging voices\, including creators from around the world and the Philadelphia region. \nCurated by the Philadelphia Film Society\, SpringFest focuses on new ideas and fresh perspectives in film. The program includes premieres\, conversations with filmmakers\, and events designed to bring the community together. \nHeld at Film Society East\, the festival offers a welcoming space for audiences to discover new stories and connect with the people behind them. \nLearn more about their programming on their website.
URL:https://phillyfamily.com/event/philadelphia-film-societys-springfest-2026/2026-04-17/
LOCATION:film society east\, 125 S 2nd St\, Philadelphia\, PA\, 19106\, United States
CATEGORIES:Arts & Film,Community Event,For Parents,For The Whole Family,Philadelphia Events
ATTACH;FMTTYPE=image/jpeg:https://phillyfamily.com/wp-content/uploads/2026/03/event-pfsspringfest-e1774668626359.jpg
END:VEVENT
BEGIN:VEVENT
DTSTART;TZID=America/New_York:20260418T100000
DTEND;TZID=America/New_York:20260418T150000
DTSTAMP:20260421T011255
CREATED:20260414T230247Z
LAST-MODIFIED:20260414T230302Z
UID:10035638-1776506400-1776524400@phillyfamily.com
SUMMARY:In Bloom Block Party at the Piazza Alta Courtyard
DESCRIPTION:Come together for a full day of spring fun! The In Bloom Block Party features dozens of local vendors\, live music\, and delicious food throughout the day. This event also has family-friendly games\, crafts\, and playful activations for all ages. \nRSVP to enter their curated raffle for free. This event is free to attend and pay-as-you-go.
URL:https://phillyfamily.com/event/in-bloom-block-party-at-the-piazza-courtyard/
LOCATION:Piazza Alta Courtyard\, 1099 Germantown Ave\, Philadelphia\, PA\, 19123\, United States
CATEGORIES:Community Event,Family Event,Food/Dining,For New & Expecting Parents,For Parents,For The Whole Family,Free,Philadelphia Events
ATTACH;FMTTYPE=image/jpeg:https://phillyfamily.com/wp-content/uploads/2026/04/event-inbloomblockparty-e1776207762949.jpg
END:VEVENT
BEGIN:VEVENT
DTSTART;TZID=America/New_York:20260418T100000
DTEND;TZID=America/New_York:20260418T180000
DTSTAMP:20260421T011255
CREATED:20260328T031654Z
LAST-MODIFIED:20260328T031654Z
UID:10035495-1776506400-1776535200@phillyfamily.com
SUMMARY:Southeast Asian Market in FDR Park
DESCRIPTION:Families are warmly invited to discover the Southeast Asian Market in FDR Park\, a Philadelphia tradition over 35 years in the making\, officially opening for the 2026 season on Saturday\, April 4 and open every weekend until October 31. \nMore than a market\, this vibrant community space is rooted in the stories of Lao\, Khmer\, Thai\, Vietnamese\, and Indonesian refugee and immigrant communities who have made FDR Park their home. Browse stalls filled with authentic dishes\, culturally specific produce\, plants\, clothing\, and handmade jewelry\, all offered by vendors who have been sharing their heritage here for generations. \nFamilies curious about where to start can join a guided market tour to sample Southeast Asian staples\, learn the history behind the vendors\, and get to know the people who make this place so special. \nPlease note: the market is closed for the Broad Street Run\, all Eagles home games\, and FIFA World Cup match dates.
URL:https://phillyfamily.com/event/southeast-asian-market-in-fdr-park/2026-04-18/
LOCATION:FDR Park\, 1500 Pattison Avenue\, Philadelphia\, PA\, 19145\, United States
CATEGORIES:Community Event,Family Event,Farmers Markets,For Parents,For The Whole Family,Free,Outdoor/Nature,Philadelphia Events
ATTACH;FMTTYPE=image/jpeg:https://phillyfamily.com/wp-content/uploads/2026/03/event-fdrseamarket.jpg-e1774667779974.jpg
END:VEVENT
BEGIN:VEVENT
DTSTART;TZID=America/New_York:20260418T100000
DTEND;TZID=America/New_York:20260418T200000
DTSTAMP:20260421T011255
CREATED:20260328T033146Z
LAST-MODIFIED:20260328T033146Z
UID:10035557-1776506400-1776542400@phillyfamily.com
SUMMARY:Philadelphia Film Society's Springfest 2026
DESCRIPTION:SpringFest returns April 17 to 23\, 2026\, for a full week of storytelling that highlights the future of filmmaking. With more screens and an expanded lineup\, the festival features a wide range of films from emerging voices\, including creators from around the world and the Philadelphia region. \nCurated by the Philadelphia Film Society\, SpringFest focuses on new ideas and fresh perspectives in film. The program includes premieres\, conversations with filmmakers\, and events designed to bring the community together. \nHeld at Film Society East\, the festival offers a welcoming space for audiences to discover new stories and connect with the people behind them. \nLearn more about their programming on their website.
URL:https://phillyfamily.com/event/philadelphia-film-societys-springfest-2026/2026-04-18/
LOCATION:film society east\, 125 S 2nd St\, Philadelphia\, PA\, 19106\, United States
CATEGORIES:Arts & Film,Community Event,For Parents,For The Whole Family,Philadelphia Events
ATTACH;FMTTYPE=image/jpeg:https://phillyfamily.com/wp-content/uploads/2026/03/event-pfsspringfest-e1774668626359.jpg
END:VEVENT
BEGIN:VEVENT
DTSTART;TZID=America/New_York:20260418T110000
DTEND;TZID=America/New_York:20260418T170000
DTSTAMP:20260421T011255
CREATED:20260404T120253Z
LAST-MODIFIED:20260404T120253Z
UID:10035589-1776510000-1776531600@phillyfamily.com
SUMMARY:Now + Then Ready\, Set\, Bloom Market
DESCRIPTION:Taking over North Front Street for the third time\, Now + Then Marketplace’s Ready\, Set\, Bloom Market returns to Star|Bolt and Five Sisters with 50 local vendors. Vendors are springing up inside and outside Star|Bolt\, where shoppers can find food & drink specials all day. Vendors range from vintage clothing to local artwork and so much more. The market is free to attend\, dog & kid friendly!
URL:https://phillyfamily.com/event/now-then-ready-set-bloom-market/
LOCATION:1900 N Front St\, 1900 N Front St\, Philadelphia\, PA\, 19122\, United States
CATEGORIES:Community Event,Family Event,For Parents,For The Whole Family,Philadelphia Events
ATTACH;FMTTYPE=image/jpeg:https://phillyfamily.com/wp-content/uploads/2026/04/event-nowandthenmarketbloom-scaled-e1775304152981.jpg
END:VEVENT
BEGIN:VEVENT
DTSTART;TZID=America/New_York:20260418T120000
DTEND;TZID=America/New_York:20260418T150000
DTSTAMP:20260421T011255
CREATED:20250826T165518Z
LAST-MODIFIED:20250826T165518Z
UID:10030095-1776513600-1776524400@phillyfamily.com
SUMMARY:Family Fun Saturdays at Historic Fair Hill
DESCRIPTION:Join Historic Fair Hill each Saturday afternoon for storytimes\, games\, arts & crafts\, gardening\, scavenger hunts\, and more!
URL:https://phillyfamily.com/event/family-fun-saturdays-at-historic-fair-hill/2026-04-18/
LOCATION:Historic Fair Hill\, 2901 Germantown Avenue\, Philadelphia\, PA\, 19133\, United States
CATEGORIES:Arts & Crafts,Community Event,Family Event,Philadelphia Events,Storytime
ATTACH;FMTTYPE=image/png:https://phillyfamily.com/wp-content/uploads/2025/08/Family-Fun-Days-2025-6-1-1.png
END:VEVENT
BEGIN:VEVENT
DTSTART;TZID=America/New_York:20260418T120000
DTEND;TZID=America/New_York:20260418T170000
DTSTAMP:20260421T011255
CREATED:20260409T005811Z
LAST-MODIFIED:20260409T005811Z
UID:10035621-1776513600-1776531600@phillyfamily.com
SUMMARY:El Mercado Cultural in collaboration with Fleisher Art Memorial at Cherry Street Pier
DESCRIPTION:El Mercado Cultural returns to Cherry Street Pier this spring and summer\, brought to life in collaboration with Fleisher Art Memorial. Free and open to all ages\, the market features local vendors\, food and drinks\, and rotating entertainment across three dates — with market items available on a pay-as-you-go basis.
URL:https://phillyfamily.com/event/el-mercado-cultural-in-collaboration-with-fleisher-art-memorial-at-cherry-street-pier/2026-04-18/
LOCATION:Cherry Street Pier\, 121 N Christopher Columbus Blvd\, Philadelphia\, PA\, 19106\, United States
CATEGORIES:Community Event,Family Event,For Kids Ages 1 – 3,For Kids Ages 11 – 14,For Kids Ages 15+,For Kids Ages 4 – 6,For Kids Ages 8 – 10,For New & Expecting Parents,For Parents,For The Whole Family,Free,Philadelphia Events
ATTACH;FMTTYPE=image/jpeg:https://phillyfamily.com/wp-content/uploads/2026/04/event-elmercadocherry-e1775696276154.jpg
END:VEVENT
BEGIN:VEVENT
DTSTART;TZID=America/New_York:20260419T100000
DTEND;TZID=America/New_York:20260419T160000
DTSTAMP:20260421T011255
CREATED:20260409T010401Z
LAST-MODIFIED:20260409T010401Z
UID:10035624-1776592800-1776614400@phillyfamily.com
SUMMARY:Maker Faire Philadelphia 2026 at Cherry Street Pier
DESCRIPTION:Cherry Street Pier is once again home to Maker Faire Philadelphia\, a family-friendly celebration of creativity\, invention\, and hands-on learning from 10 am – 4 pm. All ages are welcome to explore innovative projects\, take part in interactive activities\, and watch makers of all backgrounds bring their ideas to life. Registration is required through a pay-what-you-can model.
URL:https://phillyfamily.com/event/maker-faire-philadelphia-2026-at-cherry-street-pier/
LOCATION:Cherry Street Pier\, 121 N Christopher Columbus Blvd\, Philadelphia\, PA\, 19106\, United States
CATEGORIES:Community Event,Family Event,For Kids Ages 1 – 3,For Kids Ages 11 – 14,For Kids Ages 15+,For Kids Ages 4 – 6,For Kids Ages 7 – 10,For Kids Ages 8 – 10,For New & Expecting Parents,For Parents,For The Whole Family,Philadelphia Events
ATTACH;FMTTYPE=image/jpeg:https://phillyfamily.com/wp-content/uploads/2026/04/event-makefaire-e1775696631142.jpg
END:VEVENT
BEGIN:VEVENT
DTSTART;TZID=America/New_York:20260419T100000
DTEND;TZID=America/New_York:20260419T180000
DTSTAMP:20260421T011255
CREATED:20260328T031654Z
LAST-MODIFIED:20260328T031654Z
UID:10035496-1776592800-1776621600@phillyfamily.com
SUMMARY:Southeast Asian Market in FDR Park
DESCRIPTION:Families are warmly invited to discover the Southeast Asian Market in FDR Park\, a Philadelphia tradition over 35 years in the making\, officially opening for the 2026 season on Saturday\, April 4 and open every weekend until October 31. \nMore than a market\, this vibrant community space is rooted in the stories of Lao\, Khmer\, Thai\, Vietnamese\, and Indonesian refugee and immigrant communities who have made FDR Park their home. Browse stalls filled with authentic dishes\, culturally specific produce\, plants\, clothing\, and handmade jewelry\, all offered by vendors who have been sharing their heritage here for generations. \nFamilies curious about where to start can join a guided market tour to sample Southeast Asian staples\, learn the history behind the vendors\, and get to know the people who make this place so special. \nPlease note: the market is closed for the Broad Street Run\, all Eagles home games\, and FIFA World Cup match dates.
URL:https://phillyfamily.com/event/southeast-asian-market-in-fdr-park/2026-04-19/
LOCATION:FDR Park\, 1500 Pattison Avenue\, Philadelphia\, PA\, 19145\, United States
CATEGORIES:Community Event,Family Event,Farmers Markets,For Parents,For The Whole Family,Free,Outdoor/Nature,Philadelphia Events
ATTACH;FMTTYPE=image/jpeg:https://phillyfamily.com/wp-content/uploads/2026/03/event-fdrseamarket.jpg-e1774667779974.jpg
END:VEVENT
BEGIN:VEVENT
DTSTART;TZID=America/New_York:20260419T100000
DTEND;TZID=America/New_York:20260419T200000
DTSTAMP:20260421T011255
CREATED:20260328T033146Z
LAST-MODIFIED:20260328T033146Z
UID:10035558-1776592800-1776628800@phillyfamily.com
SUMMARY:Philadelphia Film Society's Springfest 2026
DESCRIPTION:SpringFest returns April 17 to 23\, 2026\, for a full week of storytelling that highlights the future of filmmaking. With more screens and an expanded lineup\, the festival features a wide range of films from emerging voices\, including creators from around the world and the Philadelphia region. \nCurated by the Philadelphia Film Society\, SpringFest focuses on new ideas and fresh perspectives in film. The program includes premieres\, conversations with filmmakers\, and events designed to bring the community together. \nHeld at Film Society East\, the festival offers a welcoming space for audiences to discover new stories and connect with the people behind them. \nLearn more about their programming on their website.
URL:https://phillyfamily.com/event/philadelphia-film-societys-springfest-2026/2026-04-19/
LOCATION:film society east\, 125 S 2nd St\, Philadelphia\, PA\, 19106\, United States
CATEGORIES:Arts & Film,Community Event,For Parents,For The Whole Family,Philadelphia Events
ATTACH;FMTTYPE=image/jpeg:https://phillyfamily.com/wp-content/uploads/2026/03/event-pfsspringfest-e1774668626359.jpg
END:VEVENT
BEGIN:VEVENT
DTSTART;TZID=America/New_York:20260419T130000
DTEND;TZID=America/New_York:20260419T160000
DTSTAMP:20260421T011255
CREATED:20250528T005420Z
LAST-MODIFIED:20250528T005420Z
UID:10026313-1776603600-1776614400@phillyfamily.com
SUMMARY:Family Funday with PopUpPlay
DESCRIPTION:Activities include boat building\, puppet making\, and even constructing a working catapult. Each week promises captivating experiences for kids of all ages with a new make-and-take activity. \nThis event is free and open to the public\, and all ages are welcome. Activities are available on a first-come\, first-served basis and are available while supplies last.
URL:https://phillyfamily.com/event/family-funday-with-popupplay/2026-04-19/
LOCATION:Spruce Street Harbor Park\, 401 S Columbus Boulevard\, Philadelphia\, PA\, 19106\, United States
CATEGORIES:Class or Workshop,Community Event,Family Event,Free,Kid Event,Philadelphia Events
ATTACH;FMTTYPE=image/jpeg:https://phillyfamily.com/wp-content/uploads/2025/05/116180032536815255-myp-5960.full_-e1748393404299.jpg
END:VEVENT
END:VCALENDAR