BEGIN:VCALENDAR
VERSION:2.0
PRODID:-//Philadelphia Family Magazine - ECPv6.15.20//NONSGML v1.0//EN
CALSCALE:GREGORIAN
METHOD:PUBLISH
X-ORIGINAL-URL:https://phillyfamily.com
X-WR-CALDESC:Events for Philadelphia Family Magazine
REFRESH-INTERVAL;VALUE=DURATION:PT1H
X-Robots-Tag:noindex
X-PUBLISHED-TTL:PT1H
BEGIN:VTIMEZONE
TZID:America/New_York
BEGIN:DAYLIGHT
TZOFFSETFROM:-0500
TZOFFSETTO:-0400
TZNAME:EDT
DTSTART:20250309T070000
END:DAYLIGHT
BEGIN:STANDARD
TZOFFSETFROM:-0400
TZOFFSETTO:-0500
TZNAME:EST
DTSTART:20251102T060000
END:STANDARD
BEGIN:DAYLIGHT
TZOFFSETFROM:-0500
TZOFFSETTO:-0400
TZNAME:EDT
DTSTART:20260308T070000
END:DAYLIGHT
BEGIN:STANDARD
TZOFFSETFROM:-0400
TZOFFSETTO:-0500
TZNAME:EST
DTSTART:20261101T060000
END:STANDARD
BEGIN:DAYLIGHT
TZOFFSETFROM:-0500
TZOFFSETTO:-0400
TZNAME:EDT
DTSTART:20270314T070000
END:DAYLIGHT
BEGIN:STANDARD
TZOFFSETFROM:-0400
TZOFFSETTO:-0500
TZNAME:EST
DTSTART:20271107T060000
END:STANDARD
END:VTIMEZONE
BEGIN:VEVENT
DTSTART;TZID=America/New_York:20260216T100000
DTEND;TZID=America/New_York:20260216T170000
DTSTAMP:20260419T095218
CREATED:20260127T234622Z
LAST-MODIFIED:20260203T174548Z
UID:10033947-1771236000-1771261200@phillyfamily.com
SUMMARY:Presidents Day Celebration at the National Constitution Center
DESCRIPTION:Celebrate Presidents Day Weekend at the National Constitution Center by exploring the role of the executive branch through the lives of the presidents. Be the first to explore the Centers’ newest permanent gallery America’s Founding\, which takes visitors on a journey from the colonies’ growing tensions with Great Britain through the drafting\, ratification\, and adoption of the Constitution and Bill of Rights. \nThe National Constitution Center is open\, 10 a.m.–5 p.m.\, all weekend. Admission is free on Presidents Day\, Monday\, February 16\, thanks to the generous support of Citizen Travelers\, the nonpartisan civic engagement initiative of Travelers.
URL:https://phillyfamily.com/event/presidents-day-celebration-at-the-national-constitution-center/2026-02-16/
LOCATION:National Constitution Center\, 525 Arch Street\, Philadelphia\, PA\, 19106\, United States
CATEGORIES:Exhibit,Family Event,Free,Presidents' Day
ATTACH;FMTTYPE=image/png:https://phillyfamily.com/wp-content/uploads/2026/01/Presidents-Day-Costume-Contest.png
END:VEVENT
BEGIN:VEVENT
DTSTART;TZID=America/New_York:20260216T090000
DTEND;TZID=America/New_York:20260216T130000
DTSTAMP:20260419T095218
CREATED:20260205T201926Z
LAST-MODIFIED:20260205T201926Z
UID:10034155-1771232400-1771246800@phillyfamily.com
SUMMARY:President's Day Play at Kith + Kin
DESCRIPTION:With schools off for President’s Day\, Kith + Kin offers playtime for little ones. This event requires registration beforehand with limited availability. \nLearn more and register here.
URL:https://phillyfamily.com/event/presidents-day-play-at-kith-kin/
LOCATION:kith + kin\, 3060 west jefferson street\, Philadelphia\, PA\, 19121\, United States
CATEGORIES:Kid Event,Presidents' Day
ATTACH;FMTTYPE=image/jpeg:https://phillyfamily.com/wp-content/uploads/2026/02/627498880_18361305646203543_8074128978289433642_n-e1770322733624.jpg
END:VEVENT
BEGIN:VEVENT
DTSTART;TZID=America/New_York:20260216T080000
DTEND;TZID=America/New_York:20260216T170000
DTSTAMP:20260419T095218
CREATED:20260123T002550Z
LAST-MODIFIED:20260130T011212Z
UID:10033829-1771228800-1771261200@phillyfamily.com
SUMMARY:Presidents Day Weekend at the Museum of the American Revolution
DESCRIPTION:Families can spend Presidents Day Weekend at the Museum of the American Revolution by exploring the lives of George Washington and Abraham Lincoln. Through hands-on demonstrations\, discovery carts\, pop-up talks\, crafts\, and more\, discover lesser-known stories from their legacies.
URL:https://phillyfamily.com/event/presidents-day-weekend-at-the-museum-of-the-american-revolution-2/2026-02-16/
LOCATION:Museum of the American Revolution\, 101 S 3rd St\, Philadelphia\, PA\, 19106\, United States
CATEGORIES:Family Event,Kid Event,Presidents' Day
ATTACH;FMTTYPE=image/avif:https://phillyfamily.com/wp-content/uploads/2026/01/WashingtonsWarTent.CreditMoAR.avif
END:VEVENT
BEGIN:VEVENT
DTSTART;TZID=America/New_York:20260215T100000
DTEND;TZID=America/New_York:20260215T170000
DTSTAMP:20260419T095218
CREATED:20260127T234622Z
LAST-MODIFIED:20260203T174548Z
UID:10033946-1771149600-1771174800@phillyfamily.com
SUMMARY:Presidents Day Celebration at the National Constitution Center
DESCRIPTION:Celebrate Presidents Day Weekend at the National Constitution Center by exploring the role of the executive branch through the lives of the presidents. Be the first to explore the Centers’ newest permanent gallery America’s Founding\, which takes visitors on a journey from the colonies’ growing tensions with Great Britain through the drafting\, ratification\, and adoption of the Constitution and Bill of Rights. \nThe National Constitution Center is open\, 10 a.m.–5 p.m.\, all weekend. Admission is free on Presidents Day\, Monday\, February 16\, thanks to the generous support of Citizen Travelers\, the nonpartisan civic engagement initiative of Travelers.
URL:https://phillyfamily.com/event/presidents-day-celebration-at-the-national-constitution-center/2026-02-15/
LOCATION:National Constitution Center\, 525 Arch Street\, Philadelphia\, PA\, 19106\, United States
CATEGORIES:Exhibit,Family Event,Free,Presidents' Day
ATTACH;FMTTYPE=image/png:https://phillyfamily.com/wp-content/uploads/2026/01/Presidents-Day-Costume-Contest.png
END:VEVENT
BEGIN:VEVENT
DTSTART;TZID=America/New_York:20260215T080000
DTEND;TZID=America/New_York:20260215T170000
DTSTAMP:20260419T095218
CREATED:20260123T002550Z
LAST-MODIFIED:20260130T011212Z
UID:10033828-1771142400-1771174800@phillyfamily.com
SUMMARY:Presidents Day Weekend at the Museum of the American Revolution
DESCRIPTION:Families can spend Presidents Day Weekend at the Museum of the American Revolution by exploring the lives of George Washington and Abraham Lincoln. Through hands-on demonstrations\, discovery carts\, pop-up talks\, crafts\, and more\, discover lesser-known stories from their legacies.
URL:https://phillyfamily.com/event/presidents-day-weekend-at-the-museum-of-the-american-revolution-2/2026-02-15/
LOCATION:Museum of the American Revolution\, 101 S 3rd St\, Philadelphia\, PA\, 19106\, United States
CATEGORIES:Family Event,Kid Event,Presidents' Day
ATTACH;FMTTYPE=image/avif:https://phillyfamily.com/wp-content/uploads/2026/01/WashingtonsWarTent.CreditMoAR.avif
END:VEVENT
BEGIN:VEVENT
DTSTART;TZID=America/New_York:20260214T100000
DTEND;TZID=America/New_York:20260214T170000
DTSTAMP:20260419T095218
CREATED:20260127T234622Z
LAST-MODIFIED:20260203T174548Z
UID:10033945-1771063200-1771088400@phillyfamily.com
SUMMARY:Presidents Day Celebration at the National Constitution Center
DESCRIPTION:Celebrate Presidents Day Weekend at the National Constitution Center by exploring the role of the executive branch through the lives of the presidents. Be the first to explore the Centers’ newest permanent gallery America’s Founding\, which takes visitors on a journey from the colonies’ growing tensions with Great Britain through the drafting\, ratification\, and adoption of the Constitution and Bill of Rights. \nThe National Constitution Center is open\, 10 a.m.–5 p.m.\, all weekend. Admission is free on Presidents Day\, Monday\, February 16\, thanks to the generous support of Citizen Travelers\, the nonpartisan civic engagement initiative of Travelers.
URL:https://phillyfamily.com/event/presidents-day-celebration-at-the-national-constitution-center/2026-02-14/
LOCATION:National Constitution Center\, 525 Arch Street\, Philadelphia\, PA\, 19106\, United States
CATEGORIES:Exhibit,Family Event,Free,Presidents' Day
ATTACH;FMTTYPE=image/png:https://phillyfamily.com/wp-content/uploads/2026/01/Presidents-Day-Costume-Contest.png
END:VEVENT
BEGIN:VEVENT
DTSTART;TZID=America/New_York:20260214T100000
DTEND;TZID=America/New_York:20260214T170000
DTSTAMP:20260419T095218
CREATED:20260123T002550Z
LAST-MODIFIED:20260130T011212Z
UID:10034074-1771063200-1771088400@phillyfamily.com
SUMMARY:Presidents Day Weekend at the Museum of the American Revolution
DESCRIPTION:Families can spend Presidents Day Weekend at the Museum of the American Revolution by exploring the lives of George Washington and Abraham Lincoln. Through hands-on demonstrations\, discovery carts\, pop-up talks\, crafts\, and more\, discover lesser-known stories from their legacies.
URL:https://phillyfamily.com/event/presidents-day-weekend-at-the-museum-of-the-american-revolution-2/2026-02-14/
LOCATION:Museum of the American Revolution\, 101 S 3rd St\, Philadelphia\, PA\, 19106\, United States
CATEGORIES:Family Event,Kid Event,Presidents' Day
ATTACH;FMTTYPE=image/avif:https://phillyfamily.com/wp-content/uploads/2026/01/WashingtonsWarTent.CreditMoAR.avif
END:VEVENT
BEGIN:VEVENT
DTSTART;TZID=America/New_York:20260213T100000
DTEND;TZID=America/New_York:20260213T170000
DTSTAMP:20260419T095218
CREATED:20260127T234622Z
LAST-MODIFIED:20260203T174548Z
UID:10033944-1770976800-1771002000@phillyfamily.com
SUMMARY:Presidents Day Celebration at the National Constitution Center
DESCRIPTION:Celebrate Presidents Day Weekend at the National Constitution Center by exploring the role of the executive branch through the lives of the presidents. Be the first to explore the Centers’ newest permanent gallery America’s Founding\, which takes visitors on a journey from the colonies’ growing tensions with Great Britain through the drafting\, ratification\, and adoption of the Constitution and Bill of Rights. \nThe National Constitution Center is open\, 10 a.m.–5 p.m.\, all weekend. Admission is free on Presidents Day\, Monday\, February 16\, thanks to the generous support of Citizen Travelers\, the nonpartisan civic engagement initiative of Travelers.
URL:https://phillyfamily.com/event/presidents-day-celebration-at-the-national-constitution-center/2026-02-13/
LOCATION:National Constitution Center\, 525 Arch Street\, Philadelphia\, PA\, 19106\, United States
CATEGORIES:Exhibit,Family Event,Free,Presidents' Day
ATTACH;FMTTYPE=image/png:https://phillyfamily.com/wp-content/uploads/2026/01/Presidents-Day-Costume-Contest.png
END:VEVENT
END:VCALENDAR