BEGIN:VCALENDAR
VERSION:2.0
PRODID:-//Philadelphia Family Magazine - ECPv6.15.20//NONSGML v1.0//EN
CALSCALE:GREGORIAN
METHOD:PUBLISH
X-ORIGINAL-URL:https://phillyfamily.com
X-WR-CALDESC:Events for Philadelphia Family Magazine
REFRESH-INTERVAL;VALUE=DURATION:PT1H
X-Robots-Tag:noindex
X-PUBLISHED-TTL:PT1H
BEGIN:VTIMEZONE
TZID:America/New_York
BEGIN:DAYLIGHT
TZOFFSETFROM:-0500
TZOFFSETTO:-0400
TZNAME:EDT
DTSTART:20250309T070000
END:DAYLIGHT
BEGIN:STANDARD
TZOFFSETFROM:-0400
TZOFFSETTO:-0500
TZNAME:EST
DTSTART:20251102T060000
END:STANDARD
BEGIN:DAYLIGHT
TZOFFSETFROM:-0500
TZOFFSETTO:-0400
TZNAME:EDT
DTSTART:20260308T070000
END:DAYLIGHT
BEGIN:STANDARD
TZOFFSETFROM:-0400
TZOFFSETTO:-0500
TZNAME:EST
DTSTART:20261101T060000
END:STANDARD
BEGIN:DAYLIGHT
TZOFFSETFROM:-0500
TZOFFSETTO:-0400
TZNAME:EDT
DTSTART:20270314T070000
END:DAYLIGHT
BEGIN:STANDARD
TZOFFSETFROM:-0400
TZOFFSETTO:-0500
TZNAME:EST
DTSTART:20271107T060000
END:STANDARD
END:VTIMEZONE
BEGIN:VEVENT
DTSTART;TZID=America/New_York:20260307T120000
DTEND;TZID=America/New_York:20260307T140000
DTSTAMP:20260421T205132
CREATED:20260204T012600Z
LAST-MODIFIED:20260204T013550Z
UID:10034122-1772884800-1772892000@phillyfamily.com
SUMMARY:Lion Dance Workshop & Mini Parade
DESCRIPTION:Families can celebrate the Lunar New Year by learning the fundamentals of traditional lion dance! This hands-on workshop introduces basic movements\, rhythms (drumming and cymbals)\, and the cultural meaning behind lion dance. The also includes a short demonstration by the Philly Suns team and practice. The workshop will conclude with a brief parade through Chinatown\, giving participants a chance to experience the vibrant spirit of the New Year firsthand. Children under 14 must be accompanied by an adult\, but there is no prior experience required. \nRegister for this event here.
URL:https://phillyfamily.com/event/lion-dance-workshop-mini-parade/2026-03-07/
LOCATION:Chinese Christian Church & Center Playground\, 933 Spring St\, Philadelphia\, PA\, 19107\, United States
CATEGORIES:Class or Workshop,Family Event,Lunar New Year,Theatre and Performance Art
ATTACH;FMTTYPE=image/png:https://phillyfamily.com/wp-content/uploads/2026/02/5-e1770168942449.png
END:VEVENT
BEGIN:VEVENT
DTSTART;TZID=America/New_York:20260325T170000
DTEND;TZID=America/New_York:20260325T200000
DTSTAMP:20260421T205132
CREATED:20260319T143341Z
LAST-MODIFIED:20260319T143341Z
UID:10035307-1774458000-1774468800@phillyfamily.com
SUMMARY:Sesame Street Live!: Elmo’s Got The Moves
DESCRIPTION:Create magical moments with your little ones at Elmo’s Got the Moves—the brand‑new Sesame Street Live adventure! Join Elmo and all his Sesame Street friends for an upbeat\, joy‑filled show packed with singing\, dancing\, and beloved tunes like “Sunny Days\,” “Elmo’s Got the Moves\,” and “Letter of the Day.” It’s a lively\, heartwarming experience where families can laugh\, learn\, and play together\, making memories that will last long after the final bow. \nSensory Notice: This performance includes flashing lights\, haze (fog)\, and confetti. \nThe show is approximately 80 minutes in length\, including one 20-minute intermission. Audience participation is encouraged—it’s a fun\, interactive experience from start to finish! \nGet tickets here.
URL:https://phillyfamily.com/event/sesame-street-live-elmos-got-the-moves/
LOCATION:Keswick Theatre\, 291 N Keswick Avenue\, Glenside\, PA\, 19038\, United States
CATEGORIES:For The Whole Family,Theatre and Performance Art
ATTACH;FMTTYPE=image/jpeg:https://phillyfamily.com/wp-content/uploads/2026/03/EVENT-Sesame-Street-Live-Elmos-Got-The-Moves.jpg
END:VEVENT
END:VCALENDAR