BEGIN:VCALENDAR
VERSION:2.0
PRODID:-//Philadelphia Family Magazine - ECPv6.15.20//NONSGML v1.0//EN
CALSCALE:GREGORIAN
METHOD:PUBLISH
X-WR-CALNAME:Philadelphia Family Magazine
X-ORIGINAL-URL:https://phillyfamily.com
X-WR-CALDESC:Events for Philadelphia Family Magazine
REFRESH-INTERVAL;VALUE=DURATION:PT1H
X-Robots-Tag:noindex
X-PUBLISHED-TTL:PT1H
BEGIN:VTIMEZONE
TZID:America/New_York
BEGIN:DAYLIGHT
TZOFFSETFROM:-0500
TZOFFSETTO:-0400
TZNAME:EDT
DTSTART:20250309T070000
END:DAYLIGHT
BEGIN:STANDARD
TZOFFSETFROM:-0400
TZOFFSETTO:-0500
TZNAME:EST
DTSTART:20251102T060000
END:STANDARD
BEGIN:DAYLIGHT
TZOFFSETFROM:-0500
TZOFFSETTO:-0400
TZNAME:EDT
DTSTART:20260308T070000
END:DAYLIGHT
BEGIN:STANDARD
TZOFFSETFROM:-0400
TZOFFSETTO:-0500
TZNAME:EST
DTSTART:20261101T060000
END:STANDARD
BEGIN:DAYLIGHT
TZOFFSETFROM:-0500
TZOFFSETTO:-0400
TZNAME:EDT
DTSTART:20270314T070000
END:DAYLIGHT
BEGIN:STANDARD
TZOFFSETFROM:-0400
TZOFFSETTO:-0500
TZNAME:EST
DTSTART:20271107T060000
END:STANDARD
END:VTIMEZONE
BEGIN:VEVENT
DTSTART;TZID=America/New_York:20260417T193000
DTEND;TZID=America/New_York:20260417T210000
DTSTAMP:20260421T210320
CREATED:20260327T204028Z
LAST-MODIFIED:20260327T204028Z
UID:10035354-1776454200-1776459600@phillyfamily.com
SUMMARY:"Never/Mind" by Koresh Dance Company
DESCRIPTION:Koresh Dance Company proudly presents its 2026 Spring Home Season at FringeArts! \nThis program features the world premiere of Never/Mind\, a new work choreographed by Artistic Director Roni Koresh with an original score by Sage DeAgro-Ruopp. \nNever/Mind is a state of mind in which your creativity is reached free from external opinions\, expectations\, and distractions. In this unfiltered mental space\, the artist cannot be swayed — focused solely on instinct\, individuality\, and authentic expression. Through Koresh’s signature physicality and DeAgro-Ruopp’s evocative composition\, the work invites audiences to consider what becomes possible when we silence the noise and trust our own voice.
URL:https://phillyfamily.com/event/never-mind-by-koresh-dance-company/2026-04-17/
LOCATION:Fringe Arts\, 140 N. Columbus Blvd.\, Philadelphia\, PA\, 19106\, United States
CATEGORIES:Community Event,For Parents,For The Whole Family,Theatre and Performance Art
ATTACH;FMTTYPE=image/jpeg:https://phillyfamily.com/wp-content/uploads/2026/03/event-nevermind-e1774644019403.jpg
END:VEVENT
END:VCALENDAR