BEGIN:VCALENDAR
VERSION:2.0
PRODID:-//Philadelphia Family Magazine - ECPv6.15.20//NONSGML v1.0//EN
CALSCALE:GREGORIAN
METHOD:PUBLISH
X-WR-CALNAME:Philadelphia Family Magazine
X-ORIGINAL-URL:https://phillyfamily.com
X-WR-CALDESC:Events for Philadelphia Family Magazine
REFRESH-INTERVAL;VALUE=DURATION:PT1H
X-Robots-Tag:noindex
X-PUBLISHED-TTL:PT1H
BEGIN:VTIMEZONE
TZID:America/New_York
BEGIN:DAYLIGHT
TZOFFSETFROM:-0500
TZOFFSETTO:-0400
TZNAME:EDT
DTSTART:20250309T070000
END:DAYLIGHT
BEGIN:STANDARD
TZOFFSETFROM:-0400
TZOFFSETTO:-0500
TZNAME:EST
DTSTART:20251102T060000
END:STANDARD
BEGIN:DAYLIGHT
TZOFFSETFROM:-0500
TZOFFSETTO:-0400
TZNAME:EDT
DTSTART:20260308T070000
END:DAYLIGHT
BEGIN:STANDARD
TZOFFSETFROM:-0400
TZOFFSETTO:-0500
TZNAME:EST
DTSTART:20261101T060000
END:STANDARD
BEGIN:DAYLIGHT
TZOFFSETFROM:-0500
TZOFFSETTO:-0400
TZNAME:EDT
DTSTART:20270314T070000
END:DAYLIGHT
BEGIN:STANDARD
TZOFFSETFROM:-0400
TZOFFSETTO:-0500
TZNAME:EST
DTSTART:20271107T060000
END:STANDARD
END:VTIMEZONE
BEGIN:VEVENT
DTSTART;TZID=America/New_York:20260502T143000
DTEND;TZID=America/New_York:20260502T170000
DTSTAMP:20260421T210033
CREATED:20260327T205234Z
LAST-MODIFIED:20260327T205234Z
UID:10035359-1777732200-1777741200@phillyfamily.com
SUMMARY:Contemporary West Dance Theatre "Spring Concert Series"
DESCRIPTION:Contemporary West Dance Theatre\, (CWDT) one of the country’s leading Contemporary Modern\, ballet dance company\, is excited to announce its 19th Year Anniversary. This May\, they will present “Have a Spring Concert Series with CWDT” at the Fringe Arts Theatre. CWDT will present three performances featuring works by Founder and Artistic Director Bernard H. Gaddis\, including “Starburst\,” a world premiere celebrating the 250th anniversary of the United States and Philadelphia\, “L’amore L’amore L’amore\,” and excerpts from his ballets “Sacrifus\,” “Steel & Bones\,” and “Liaison.” \nFor more information about the relocation\, upcoming events and how to get involved\, please visit their website.
URL:https://phillyfamily.com/event/contemporary-west-dance-theatre-spring-concert-series/2026-05-02/1/
LOCATION:Fringe Arts\, 140 N. Columbus Blvd.\, Philadelphia\, PA\, 19106\, United States
CATEGORIES:Community Event,For Kids Ages 1 – 3,For Kids Ages 11 – 14,For Kids Ages 15+,For Kids Ages 4 – 6,For Kids Ages 8 – 10,For New & Expecting Parents,For Parents,For The Whole Family,Theatre and Performance Art
ATTACH;FMTTYPE=image/jpeg:https://phillyfamily.com/wp-content/uploads/2026/03/event-cwconcert-e1774644717585.jpeg
END:VEVENT
BEGIN:VEVENT
DTSTART;TZID=America/New_York:20260502T193000
DTEND;TZID=America/New_York:20260502T210000
DTSTAMP:20260421T210033
CREATED:20260327T205234Z
LAST-MODIFIED:20260327T205234Z
UID:10035360-1777750200-1777755600@phillyfamily.com
SUMMARY:Contemporary West Dance Theatre "Spring Concert Series"
DESCRIPTION:Contemporary West Dance Theatre\, (CWDT) one of the country’s leading Contemporary Modern\, ballet dance company\, is excited to announce its 19th Year Anniversary. This May\, they will present “Have a Spring Concert Series with CWDT” at the Fringe Arts Theatre. CWDT will present three performances featuring works by Founder and Artistic Director Bernard H. Gaddis\, including “Starburst\,” a world premiere celebrating the 250th anniversary of the United States and Philadelphia\, “L’amore L’amore L’amore\,” and excerpts from his ballets “Sacrifus\,” “Steel & Bones\,” and “Liaison.” \nFor more information about the relocation\, upcoming events and how to get involved\, please visit their website.
URL:https://phillyfamily.com/event/contemporary-west-dance-theatre-spring-concert-series/2026-05-02/2/
LOCATION:Fringe Arts\, 140 N. Columbus Blvd.\, Philadelphia\, PA\, 19106\, United States
CATEGORIES:Community Event,For Kids Ages 1 – 3,For Kids Ages 11 – 14,For Kids Ages 15+,For Kids Ages 4 – 6,For Kids Ages 8 – 10,For New & Expecting Parents,For Parents,For The Whole Family,Theatre and Performance Art
ATTACH;FMTTYPE=image/jpeg:https://phillyfamily.com/wp-content/uploads/2026/03/event-cwconcert-e1774644717585.jpeg
END:VEVENT
END:VCALENDAR