BEGIN:VCALENDAR
VERSION:2.0
PRODID:-//Philadelphia Family Magazine - ECPv6.15.20//NONSGML v1.0//EN
CALSCALE:GREGORIAN
METHOD:PUBLISH
X-ORIGINAL-URL:https://phillyfamily.com
X-WR-CALDESC:Events for Philadelphia Family Magazine
REFRESH-INTERVAL;VALUE=DURATION:PT1H
X-Robots-Tag:noindex
X-PUBLISHED-TTL:PT1H
BEGIN:VTIMEZONE
TZID:America/New_York
BEGIN:DAYLIGHT
TZOFFSETFROM:-0500
TZOFFSETTO:-0400
TZNAME:EDT
DTSTART:20250309T070000
END:DAYLIGHT
BEGIN:STANDARD
TZOFFSETFROM:-0400
TZOFFSETTO:-0500
TZNAME:EST
DTSTART:20251102T060000
END:STANDARD
BEGIN:DAYLIGHT
TZOFFSETFROM:-0500
TZOFFSETTO:-0400
TZNAME:EDT
DTSTART:20260308T070000
END:DAYLIGHT
BEGIN:STANDARD
TZOFFSETFROM:-0400
TZOFFSETTO:-0500
TZNAME:EST
DTSTART:20261101T060000
END:STANDARD
BEGIN:DAYLIGHT
TZOFFSETFROM:-0500
TZOFFSETTO:-0400
TZNAME:EDT
DTSTART:20270314T070000
END:DAYLIGHT
BEGIN:STANDARD
TZOFFSETFROM:-0400
TZOFFSETTO:-0500
TZNAME:EST
DTSTART:20271107T060000
END:STANDARD
END:VTIMEZONE
BEGIN:VEVENT
DTSTART;VALUE=DATE:20260622
DTEND;VALUE=DATE:20260623
DTSTAMP:20260422T041307
CREATED:20260120T010322Z
LAST-MODIFIED:20260120T010322Z
UID:10033688-1782086400-1782172799@phillyfamily.com
SUMMARY:Nutcracker Half-Day Dance Camp
DESCRIPTION:Young dancers ages 4–6 are invited to step into the enchanting world of The Nutcracker! This half-day camp explores Ballet\, Theater Dance\, and Pilates as children twirl through the Land of Sweets and bring beloved characters to life. A perfect balance of structure\, creativity\, and fun that nurtures imagination and movement.
URL:https://phillyfamily.com/event/nutcracker-half-day-dance-camp/2026-06-22/
LOCATION:The Philadelphia Dance Academy\, 219 Cuthbert Street\, 3rd Floor\, Philadelphia\, PA\, 19106\, United States
CATEGORIES:Class or Workshop,Kid Event,Nutrcracker Performances,Theatre and Performance Art
ATTACH;FMTTYPE=image/jpeg:https://phillyfamily.com/wp-content/uploads/2026/01/612400469_18552013654016794_880305703240760578_n-e1768870908220.jpg
END:VEVENT
BEGIN:VEVENT
DTSTART;VALUE=DATE:20260623
DTEND;VALUE=DATE:20260624
DTSTAMP:20260422T041307
CREATED:20260120T010322Z
LAST-MODIFIED:20260120T010322Z
UID:10033689-1782172800-1782259199@phillyfamily.com
SUMMARY:Nutcracker Half-Day Dance Camp
DESCRIPTION:Young dancers ages 4–6 are invited to step into the enchanting world of The Nutcracker! This half-day camp explores Ballet\, Theater Dance\, and Pilates as children twirl through the Land of Sweets and bring beloved characters to life. A perfect balance of structure\, creativity\, and fun that nurtures imagination and movement.
URL:https://phillyfamily.com/event/nutcracker-half-day-dance-camp/2026-06-23/
LOCATION:The Philadelphia Dance Academy\, 219 Cuthbert Street\, 3rd Floor\, Philadelphia\, PA\, 19106\, United States
CATEGORIES:Class or Workshop,Kid Event,Nutrcracker Performances,Theatre and Performance Art
ATTACH;FMTTYPE=image/jpeg:https://phillyfamily.com/wp-content/uploads/2026/01/612400469_18552013654016794_880305703240760578_n-e1768870908220.jpg
END:VEVENT
BEGIN:VEVENT
DTSTART;VALUE=DATE:20260624
DTEND;VALUE=DATE:20260625
DTSTAMP:20260422T041307
CREATED:20260120T010322Z
LAST-MODIFIED:20260120T010322Z
UID:10033690-1782259200-1782345599@phillyfamily.com
SUMMARY:Nutcracker Half-Day Dance Camp
DESCRIPTION:Young dancers ages 4–6 are invited to step into the enchanting world of The Nutcracker! This half-day camp explores Ballet\, Theater Dance\, and Pilates as children twirl through the Land of Sweets and bring beloved characters to life. A perfect balance of structure\, creativity\, and fun that nurtures imagination and movement.
URL:https://phillyfamily.com/event/nutcracker-half-day-dance-camp/2026-06-24/
LOCATION:The Philadelphia Dance Academy\, 219 Cuthbert Street\, 3rd Floor\, Philadelphia\, PA\, 19106\, United States
CATEGORIES:Class or Workshop,Kid Event,Nutrcracker Performances,Theatre and Performance Art
ATTACH;FMTTYPE=image/jpeg:https://phillyfamily.com/wp-content/uploads/2026/01/612400469_18552013654016794_880305703240760578_n-e1768870908220.jpg
END:VEVENT
BEGIN:VEVENT
DTSTART;VALUE=DATE:20260625
DTEND;VALUE=DATE:20260626
DTSTAMP:20260422T041307
CREATED:20260120T010322Z
LAST-MODIFIED:20260120T010322Z
UID:10033691-1782345600-1782431999@phillyfamily.com
SUMMARY:Nutcracker Half-Day Dance Camp
DESCRIPTION:Young dancers ages 4–6 are invited to step into the enchanting world of The Nutcracker! This half-day camp explores Ballet\, Theater Dance\, and Pilates as children twirl through the Land of Sweets and bring beloved characters to life. A perfect balance of structure\, creativity\, and fun that nurtures imagination and movement.
URL:https://phillyfamily.com/event/nutcracker-half-day-dance-camp/2026-06-25/
LOCATION:The Philadelphia Dance Academy\, 219 Cuthbert Street\, 3rd Floor\, Philadelphia\, PA\, 19106\, United States
CATEGORIES:Class or Workshop,Kid Event,Nutrcracker Performances,Theatre and Performance Art
ATTACH;FMTTYPE=image/jpeg:https://phillyfamily.com/wp-content/uploads/2026/01/612400469_18552013654016794_880305703240760578_n-e1768870908220.jpg
END:VEVENT
BEGIN:VEVENT
DTSTART;VALUE=DATE:20260626
DTEND;VALUE=DATE:20260627
DTSTAMP:20260422T041307
CREATED:20260120T010322Z
LAST-MODIFIED:20260120T010322Z
UID:10033692-1782432000-1782518399@phillyfamily.com
SUMMARY:Nutcracker Half-Day Dance Camp
DESCRIPTION:Young dancers ages 4–6 are invited to step into the enchanting world of The Nutcracker! This half-day camp explores Ballet\, Theater Dance\, and Pilates as children twirl through the Land of Sweets and bring beloved characters to life. A perfect balance of structure\, creativity\, and fun that nurtures imagination and movement.
URL:https://phillyfamily.com/event/nutcracker-half-day-dance-camp/2026-06-26/
LOCATION:The Philadelphia Dance Academy\, 219 Cuthbert Street\, 3rd Floor\, Philadelphia\, PA\, 19106\, United States
CATEGORIES:Class or Workshop,Kid Event,Nutrcracker Performances,Theatre and Performance Art
ATTACH;FMTTYPE=image/jpeg:https://phillyfamily.com/wp-content/uploads/2026/01/612400469_18552013654016794_880305703240760578_n-e1768870908220.jpg
END:VEVENT
BEGIN:VEVENT
DTSTART;TZID=America/New_York:20261219T180000
DTEND;TZID=America/New_York:20261219T200000
DTSTAMP:20260422T041307
CREATED:20251112T065206Z
LAST-MODIFIED:20251112T065206Z
UID:10031854-1797703200-1797710400@phillyfamily.com
SUMMARY:Hansel and Gretel
DESCRIPTION:This holiday season\, Curio Theatre Company invites families to step into the story with HANSEL & GRETEL\, a brand new Make & Partake Theatre Experience written by Paul Kuhn and directed by Mya Flood. Following the success of Jack and the Beanstalk and The Three Little Pigs\, Curio continues its joyful\, hands-on approach to storytelling that lets young audiences help create the magic live on stage. \nPurchase tickets here.
URL:https://phillyfamily.com/event/hansel-and-gretel/2026-12-19/
LOCATION:Curio Theatre Company\, 4740 Baltimore Ave\, Philadelphia\, PA 19143\, Philadelphia\, PA\, 19143\, United States
CATEGORIES:Family Event,Theatre and Performance Art
ATTACH;FMTTYPE=image/jpeg:https://phillyfamily.com/wp-content/uploads/2025/11/RMGCurioJackandtheBeanstalkEarly-10-scaled-e1762930318107.jpg
END:VEVENT
END:VCALENDAR