BEGIN:VCALENDAR
VERSION:2.0
PRODID:-//Philadelphia Family Magazine - ECPv6.15.20//NONSGML v1.0//EN
CALSCALE:GREGORIAN
METHOD:PUBLISH
X-ORIGINAL-URL:https://phillyfamily.com
X-WR-CALDESC:Events for Philadelphia Family Magazine
REFRESH-INTERVAL;VALUE=DURATION:PT1H
X-Robots-Tag:noindex
X-PUBLISHED-TTL:PT1H
BEGIN:VTIMEZONE
TZID:America/New_York
BEGIN:DAYLIGHT
TZOFFSETFROM:-0500
TZOFFSETTO:-0400
TZNAME:EDT
DTSTART:20250309T070000
END:DAYLIGHT
BEGIN:STANDARD
TZOFFSETFROM:-0400
TZOFFSETTO:-0500
TZNAME:EST
DTSTART:20251102T060000
END:STANDARD
BEGIN:DAYLIGHT
TZOFFSETFROM:-0500
TZOFFSETTO:-0400
TZNAME:EDT
DTSTART:20260308T070000
END:DAYLIGHT
BEGIN:STANDARD
TZOFFSETFROM:-0400
TZOFFSETTO:-0500
TZNAME:EST
DTSTART:20261101T060000
END:STANDARD
BEGIN:DAYLIGHT
TZOFFSETFROM:-0500
TZOFFSETTO:-0400
TZNAME:EDT
DTSTART:20270314T070000
END:DAYLIGHT
BEGIN:STANDARD
TZOFFSETFROM:-0400
TZOFFSETTO:-0500
TZNAME:EST
DTSTART:20271107T060000
END:STANDARD
END:VTIMEZONE
BEGIN:VEVENT
DTSTART;TZID=America/New_York:20260228T120000
DTEND;TZID=America/New_York:20260228T140000
DTSTAMP:20260421T224549
CREATED:20260204T012600Z
LAST-MODIFIED:20260204T013550Z
UID:10034121-1772280000-1772287200@phillyfamily.com
SUMMARY:Lion Dance Workshop & Mini Parade
DESCRIPTION:Families can celebrate the Lunar New Year by learning the fundamentals of traditional lion dance! This hands-on workshop introduces basic movements\, rhythms (drumming and cymbals)\, and the cultural meaning behind lion dance. The also includes a short demonstration by the Philly Suns team and practice. The workshop will conclude with a brief parade through Chinatown\, giving participants a chance to experience the vibrant spirit of the New Year firsthand. Children under 14 must be accompanied by an adult\, but there is no prior experience required. \nRegister for this event here.
URL:https://phillyfamily.com/event/lion-dance-workshop-mini-parade/2026-02-28/
LOCATION:Chinese Christian Church & Center Playground\, 933 Spring St\, Philadelphia\, PA\, 19107\, United States
CATEGORIES:Class or Workshop,Family Event,Lunar New Year,Theatre and Performance Art
ATTACH;FMTTYPE=image/png:https://phillyfamily.com/wp-content/uploads/2026/02/5-e1770168942449.png
END:VEVENT
END:VCALENDAR