BEGIN:VCALENDAR
VERSION:2.0
PRODID:-//Philadelphia Family Magazine - ECPv6.15.20//NONSGML v1.0//EN
CALSCALE:GREGORIAN
METHOD:PUBLISH
X-ORIGINAL-URL:https://phillyfamily.com
X-WR-CALDESC:Events for Philadelphia Family Magazine
REFRESH-INTERVAL;VALUE=DURATION:PT1H
X-Robots-Tag:noindex
X-PUBLISHED-TTL:PT1H
BEGIN:VTIMEZONE
TZID:America/New_York
BEGIN:DAYLIGHT
TZOFFSETFROM:-0500
TZOFFSETTO:-0400
TZNAME:EDT
DTSTART:20250309T070000
END:DAYLIGHT
BEGIN:STANDARD
TZOFFSETFROM:-0400
TZOFFSETTO:-0500
TZNAME:EST
DTSTART:20251102T060000
END:STANDARD
BEGIN:DAYLIGHT
TZOFFSETFROM:-0500
TZOFFSETTO:-0400
TZNAME:EDT
DTSTART:20260308T070000
END:DAYLIGHT
BEGIN:STANDARD
TZOFFSETFROM:-0400
TZOFFSETTO:-0500
TZNAME:EST
DTSTART:20261101T060000
END:STANDARD
BEGIN:DAYLIGHT
TZOFFSETFROM:-0500
TZOFFSETTO:-0400
TZNAME:EDT
DTSTART:20270314T070000
END:DAYLIGHT
BEGIN:STANDARD
TZOFFSETFROM:-0400
TZOFFSETTO:-0500
TZNAME:EST
DTSTART:20271107T060000
END:STANDARD
END:VTIMEZONE
BEGIN:VEVENT
DTSTART;TZID=America/New_York:20260328T130000
DTEND;TZID=America/New_York:20260328T150000
DTSTAMP:20260423T052610
CREATED:20260223T185234Z
LAST-MODIFIED:20260223T185234Z
UID:10034767-1774702800-1774710000@phillyfamily.com
SUMMARY:Habitat Stewards at Newlin Grist Mill
DESCRIPTION:Volunteers can help Newlin Grist Mill and make the park a better place for wildlife and people! The Habitat Stewards group meets once a month to work on outdoor tasks related to habitat restoration and species conservation. Projects vary by month but include things like invasive plant removal\, tree planting\, garden maintenance\, trail cleanup\, and outdoor classroom care. \nPre-registration is required. To register\, please contact Jessica at jshahan@newlingristmill.org or 610-459-2359.
URL:https://phillyfamily.com/event/habitat-stewards-at-newlin-grist-mill/2026-03-28/
LOCATION:Newlin Grist Mill\, 219 Cheyney Road\, Glen Mills\, PA\, 19342\, United States
CATEGORIES:Community Event,Delaware County Events,Family Event,Free,Outdoor/Nature,Volunteering
ATTACH;FMTTYPE=image/jpeg:https://phillyfamily.com/wp-content/uploads/2026/02/Hab-Stew-e1771872730108.jpg
END:VEVENT
END:VCALENDAR