BEGIN:VCALENDAR
VERSION:2.0
PRODID:-//Philadelphia Family Magazine - ECPv6.15.20//NONSGML v1.0//EN
CALSCALE:GREGORIAN
METHOD:PUBLISH
X-WR-CALNAME:Philadelphia Family Magazine
X-ORIGINAL-URL:https://phillyfamily.com
X-WR-CALDESC:Events for Philadelphia Family Magazine
REFRESH-INTERVAL;VALUE=DURATION:PT1H
X-Robots-Tag:noindex
X-PUBLISHED-TTL:PT1H
BEGIN:VTIMEZONE
TZID:America/New_York
BEGIN:DAYLIGHT
TZOFFSETFROM:-0500
TZOFFSETTO:-0400
TZNAME:EDT
DTSTART:20250309T070000
END:DAYLIGHT
BEGIN:STANDARD
TZOFFSETFROM:-0400
TZOFFSETTO:-0500
TZNAME:EST
DTSTART:20251102T060000
END:STANDARD
BEGIN:DAYLIGHT
TZOFFSETFROM:-0500
TZOFFSETTO:-0400
TZNAME:EDT
DTSTART:20260308T070000
END:DAYLIGHT
BEGIN:STANDARD
TZOFFSETFROM:-0400
TZOFFSETTO:-0500
TZNAME:EST
DTSTART:20261101T060000
END:STANDARD
BEGIN:DAYLIGHT
TZOFFSETFROM:-0500
TZOFFSETTO:-0400
TZNAME:EDT
DTSTART:20270314T070000
END:DAYLIGHT
BEGIN:STANDARD
TZOFFSETFROM:-0400
TZOFFSETTO:-0500
TZNAME:EST
DTSTART:20271107T060000
END:STANDARD
END:VTIMEZONE
BEGIN:VEVENT
DTSTART;TZID=America/New_York:20260423T170000
DTEND;TZID=America/New_York:20260423T180000
DTSTAMP:20260422T010246
CREATED:20260304T021027Z
LAST-MODIFIED:20260304T021027Z
UID:10035139-1776963600-1776967200@phillyfamily.com
SUMMARY:Bop and Cha Cha Classes at Greater Olney Library
DESCRIPTION:Get ready to move and groove with at Greater Olney Library with their high-energy Bop and Cha Cha class. This is perfect for all ages because these fun-filled sessions will have people dancing to the rhythm and smiling every step of the way. \nIn collaboration with the Olney Community Collaborative.
URL:https://phillyfamily.com/event/bop-and-cha-cha-classes-at-greater-olney-library/2026-04-23/
LOCATION:Greater Olney Library\, 5501 N 5th Street\, Philadelphia\, PA\, 19120\, United States
CATEGORIES:At the library,Community Event,Free
ATTACH;FMTTYPE=image/png:https://phillyfamily.com/wp-content/uploads/2026/03/event-bopchachaclass.png
END:VEVENT
BEGIN:VEVENT
DTSTART;TZID=America/New_York:20260425T110000
DTEND;TZID=America/New_York:20260425T120000
DTSTAMP:20260422T010246
CREATED:20260304T021027Z
LAST-MODIFIED:20260304T021027Z
UID:10035140-1777114800-1777118400@phillyfamily.com
SUMMARY:Bop and Cha Cha Classes at Greater Olney Library
DESCRIPTION:Get ready to move and groove with at Greater Olney Library with their high-energy Bop and Cha Cha class. This is perfect for all ages because these fun-filled sessions will have people dancing to the rhythm and smiling every step of the way. \nIn collaboration with the Olney Community Collaborative.
URL:https://phillyfamily.com/event/bop-and-cha-cha-classes-at-greater-olney-library/2026-04-25/
LOCATION:Greater Olney Library\, 5501 N 5th Street\, Philadelphia\, PA\, 19120\, United States
CATEGORIES:At the library,Community Event,Free
ATTACH;FMTTYPE=image/png:https://phillyfamily.com/wp-content/uploads/2026/03/event-bopchachaclass.png
END:VEVENT
END:VCALENDAR