BEGIN:VCALENDAR
VERSION:2.0
PRODID:-//Philadelphia Family Magazine - ECPv6.15.20//NONSGML v1.0//EN
CALSCALE:GREGORIAN
METHOD:PUBLISH
X-WR-CALNAME:Philadelphia Family Magazine
X-ORIGINAL-URL:https://phillyfamily.com
X-WR-CALDESC:Events for Philadelphia Family Magazine
REFRESH-INTERVAL;VALUE=DURATION:PT1H
X-Robots-Tag:noindex
X-PUBLISHED-TTL:PT1H
BEGIN:VTIMEZONE
TZID:America/New_York
BEGIN:DAYLIGHT
TZOFFSETFROM:-0500
TZOFFSETTO:-0400
TZNAME:EDT
DTSTART:20250309T070000
END:DAYLIGHT
BEGIN:STANDARD
TZOFFSETFROM:-0400
TZOFFSETTO:-0500
TZNAME:EST
DTSTART:20251102T060000
END:STANDARD
BEGIN:DAYLIGHT
TZOFFSETFROM:-0500
TZOFFSETTO:-0400
TZNAME:EDT
DTSTART:20260308T070000
END:DAYLIGHT
BEGIN:STANDARD
TZOFFSETFROM:-0400
TZOFFSETTO:-0500
TZNAME:EST
DTSTART:20261101T060000
END:STANDARD
BEGIN:DAYLIGHT
TZOFFSETFROM:-0500
TZOFFSETTO:-0400
TZNAME:EDT
DTSTART:20270314T070000
END:DAYLIGHT
BEGIN:STANDARD
TZOFFSETFROM:-0400
TZOFFSETTO:-0500
TZNAME:EST
DTSTART:20271107T060000
END:STANDARD
END:VTIMEZONE
BEGIN:VEVENT
DTSTART;TZID=America/New_York:20260509T110000
DTEND;TZID=America/New_York:20260509T170000
DTSTAMP:20260422T100345
CREATED:20260422T085943Z
LAST-MODIFIED:20260422T085943Z
UID:10035658-1778324400-1778346000@phillyfamily.com
SUMMARY:Spring Art Star Craft Bazaar at Cherry Street Pier
DESCRIPTION:Families are welcome to enjoy free admission and bring their leashed pets along for the fun! The event is held at Cherry Street Pier\, which is covered and protected from the elements\, making it a guaranteed rain or shine experience. Vendors will be set up indoors\, with an outdoor seating area and large windows that open up on a nice day. \nThe first 75 families each day will receive a free event tote\, given out at 11am and again at 3pm. Browse 80+ curated craft vendors\, enjoy Make + Takes by Project Joy Studio and Second State Press\, and try Fabiola Lara’s Mini Print Vending Machine for just $1 in quarters per print. Grab a bite from Philly Taco\, Irv’s Ice Cream\, and Tokio Sushi Truck\, or stop by the full cash bar for a drink while shopping.
URL:https://phillyfamily.com/event/spring-art-star-craft-bazaar-at-cherry-street-pier/2026-05-09/
LOCATION:Cherry Street Pier\, 121 N Christopher Columbus Blvd\, Philadelphia\, PA\, 19106\, United States
CATEGORIES:Community Event,Family Event,For Parents,For The Whole Family,Free,Mother's Day
ATTACH;FMTTYPE=image/jpeg:https://phillyfamily.com/wp-content/uploads/2026/04/ASCB_Spring_26-1593x2048-1-e1776848359997.jpg
END:VEVENT
BEGIN:VEVENT
DTSTART;TZID=America/New_York:20260510T110000
DTEND;TZID=America/New_York:20260510T170000
DTSTAMP:20260422T100345
CREATED:20260422T085943Z
LAST-MODIFIED:20260422T085943Z
UID:10035659-1778410800-1778432400@phillyfamily.com
SUMMARY:Spring Art Star Craft Bazaar at Cherry Street Pier
DESCRIPTION:Families are welcome to enjoy free admission and bring their leashed pets along for the fun! The event is held at Cherry Street Pier\, which is covered and protected from the elements\, making it a guaranteed rain or shine experience. Vendors will be set up indoors\, with an outdoor seating area and large windows that open up on a nice day. \nThe first 75 families each day will receive a free event tote\, given out at 11am and again at 3pm. Browse 80+ curated craft vendors\, enjoy Make + Takes by Project Joy Studio and Second State Press\, and try Fabiola Lara’s Mini Print Vending Machine for just $1 in quarters per print. Grab a bite from Philly Taco\, Irv’s Ice Cream\, and Tokio Sushi Truck\, or stop by the full cash bar for a drink while shopping.
URL:https://phillyfamily.com/event/spring-art-star-craft-bazaar-at-cherry-street-pier/2026-05-10/
LOCATION:Cherry Street Pier\, 121 N Christopher Columbus Blvd\, Philadelphia\, PA\, 19106\, United States
CATEGORIES:Community Event,Family Event,For Parents,For The Whole Family,Free,Mother's Day
ATTACH;FMTTYPE=image/jpeg:https://phillyfamily.com/wp-content/uploads/2026/04/ASCB_Spring_26-1593x2048-1-e1776848359997.jpg
END:VEVENT
END:VCALENDAR