BEGIN:VCALENDAR
VERSION:2.0
PRODID:-//Philadelphia Family Magazine - ECPv6.15.20//NONSGML v1.0//EN
CALSCALE:GREGORIAN
METHOD:PUBLISH
X-ORIGINAL-URL:https://phillyfamily.com
X-WR-CALDESC:Events for Philadelphia Family Magazine
REFRESH-INTERVAL;VALUE=DURATION:PT1H
X-Robots-Tag:noindex
X-PUBLISHED-TTL:PT1H
BEGIN:VTIMEZONE
TZID:America/New_York
BEGIN:DAYLIGHT
TZOFFSETFROM:-0500
TZOFFSETTO:-0400
TZNAME:EDT
DTSTART:20250309T070000
END:DAYLIGHT
BEGIN:STANDARD
TZOFFSETFROM:-0400
TZOFFSETTO:-0500
TZNAME:EST
DTSTART:20251102T060000
END:STANDARD
BEGIN:DAYLIGHT
TZOFFSETFROM:-0500
TZOFFSETTO:-0400
TZNAME:EDT
DTSTART:20260308T070000
END:DAYLIGHT
BEGIN:STANDARD
TZOFFSETFROM:-0400
TZOFFSETTO:-0500
TZNAME:EST
DTSTART:20261101T060000
END:STANDARD
BEGIN:DAYLIGHT
TZOFFSETFROM:-0500
TZOFFSETTO:-0400
TZNAME:EDT
DTSTART:20270314T070000
END:DAYLIGHT
BEGIN:STANDARD
TZOFFSETFROM:-0400
TZOFFSETTO:-0500
TZNAME:EST
DTSTART:20271107T060000
END:STANDARD
END:VTIMEZONE
BEGIN:VEVENT
DTSTART;TZID=America/New_York:20260425T103000
DTEND;TZID=America/New_York:20260425T113000
DTSTAMP:20260422T183708
CREATED:20260213T201423Z
LAST-MODIFIED:20260213T201637Z
UID:10034537-1777113000-1777116600@phillyfamily.com
SUMMARY:Beginner-Friendly Yoga at Lawncrest Library
DESCRIPTION:Practice beginner-friendly yoga on Saturdays at Lawncrest Library! Stretch the body and mind with yoga led by Elizabeth from Yoga4Philly. Mats provided but feel free to bring own mats. Please wear comfortable\, warm clothes. All ages welcome.
URL:https://phillyfamily.com/event/beginner-friendly-yoga-at-lawncrest-library/2026-04-25/
LOCATION:Lawncrest Library\, 6098 Rising Sun Avenue\, Philadelphia\, PA\, 19111\, United States
CATEGORIES:Community Event,Free
ATTACH;FMTTYPE=image/jpeg:https://phillyfamily.com/wp-content/uploads/2026/02/yoga-lawncrest.jpg
END:VEVENT
BEGIN:VEVENT
DTSTART;TZID=America/New_York:20260502T103000
DTEND;TZID=America/New_York:20260502T113000
DTSTAMP:20260422T183708
CREATED:20260213T201423Z
LAST-MODIFIED:20260213T201637Z
UID:10034538-1777717800-1777721400@phillyfamily.com
SUMMARY:Beginner-Friendly Yoga at Lawncrest Library
DESCRIPTION:Practice beginner-friendly yoga on Saturdays at Lawncrest Library! Stretch the body and mind with yoga led by Elizabeth from Yoga4Philly. Mats provided but feel free to bring own mats. Please wear comfortable\, warm clothes. All ages welcome.
URL:https://phillyfamily.com/event/beginner-friendly-yoga-at-lawncrest-library/2026-05-02/
LOCATION:Lawncrest Library\, 6098 Rising Sun Avenue\, Philadelphia\, PA\, 19111\, United States
CATEGORIES:Community Event,Free
ATTACH;FMTTYPE=image/jpeg:https://phillyfamily.com/wp-content/uploads/2026/02/yoga-lawncrest.jpg
END:VEVENT
BEGIN:VEVENT
DTSTART;TZID=America/New_York:20260509T103000
DTEND;TZID=America/New_York:20260509T113000
DTSTAMP:20260422T183708
CREATED:20260213T201423Z
LAST-MODIFIED:20260213T201637Z
UID:10034539-1778322600-1778326200@phillyfamily.com
SUMMARY:Beginner-Friendly Yoga at Lawncrest Library
DESCRIPTION:Practice beginner-friendly yoga on Saturdays at Lawncrest Library! Stretch the body and mind with yoga led by Elizabeth from Yoga4Philly. Mats provided but feel free to bring own mats. Please wear comfortable\, warm clothes. All ages welcome.
URL:https://phillyfamily.com/event/beginner-friendly-yoga-at-lawncrest-library/2026-05-09/
LOCATION:Lawncrest Library\, 6098 Rising Sun Avenue\, Philadelphia\, PA\, 19111\, United States
CATEGORIES:Community Event,Free
ATTACH;FMTTYPE=image/jpeg:https://phillyfamily.com/wp-content/uploads/2026/02/yoga-lawncrest.jpg
END:VEVENT
BEGIN:VEVENT
DTSTART;TZID=America/New_York:20260516T103000
DTEND;TZID=America/New_York:20260516T113000
DTSTAMP:20260422T183708
CREATED:20260213T201423Z
LAST-MODIFIED:20260213T201637Z
UID:10034540-1778927400-1778931000@phillyfamily.com
SUMMARY:Beginner-Friendly Yoga at Lawncrest Library
DESCRIPTION:Practice beginner-friendly yoga on Saturdays at Lawncrest Library! Stretch the body and mind with yoga led by Elizabeth from Yoga4Philly. Mats provided but feel free to bring own mats. Please wear comfortable\, warm clothes. All ages welcome.
URL:https://phillyfamily.com/event/beginner-friendly-yoga-at-lawncrest-library/2026-05-16/
LOCATION:Lawncrest Library\, 6098 Rising Sun Avenue\, Philadelphia\, PA\, 19111\, United States
CATEGORIES:Community Event,Free
ATTACH;FMTTYPE=image/jpeg:https://phillyfamily.com/wp-content/uploads/2026/02/yoga-lawncrest.jpg
END:VEVENT
BEGIN:VEVENT
DTSTART;TZID=America/New_York:20260523T103000
DTEND;TZID=America/New_York:20260523T113000
DTSTAMP:20260422T183708
CREATED:20260213T201423Z
LAST-MODIFIED:20260213T201637Z
UID:10034541-1779532200-1779535800@phillyfamily.com
SUMMARY:Beginner-Friendly Yoga at Lawncrest Library
DESCRIPTION:Practice beginner-friendly yoga on Saturdays at Lawncrest Library! Stretch the body and mind with yoga led by Elizabeth from Yoga4Philly. Mats provided but feel free to bring own mats. Please wear comfortable\, warm clothes. All ages welcome.
URL:https://phillyfamily.com/event/beginner-friendly-yoga-at-lawncrest-library/2026-05-23/
LOCATION:Lawncrest Library\, 6098 Rising Sun Avenue\, Philadelphia\, PA\, 19111\, United States
CATEGORIES:Community Event,Free
ATTACH;FMTTYPE=image/jpeg:https://phillyfamily.com/wp-content/uploads/2026/02/yoga-lawncrest.jpg
END:VEVENT
BEGIN:VEVENT
DTSTART;TZID=America/New_York:20260530T103000
DTEND;TZID=America/New_York:20260530T113000
DTSTAMP:20260422T183708
CREATED:20260213T201423Z
LAST-MODIFIED:20260213T201637Z
UID:10034542-1780137000-1780140600@phillyfamily.com
SUMMARY:Beginner-Friendly Yoga at Lawncrest Library
DESCRIPTION:Practice beginner-friendly yoga on Saturdays at Lawncrest Library! Stretch the body and mind with yoga led by Elizabeth from Yoga4Philly. Mats provided but feel free to bring own mats. Please wear comfortable\, warm clothes. All ages welcome.
URL:https://phillyfamily.com/event/beginner-friendly-yoga-at-lawncrest-library/2026-05-30/
LOCATION:Lawncrest Library\, 6098 Rising Sun Avenue\, Philadelphia\, PA\, 19111\, United States
CATEGORIES:Community Event,Free
ATTACH;FMTTYPE=image/jpeg:https://phillyfamily.com/wp-content/uploads/2026/02/yoga-lawncrest.jpg
END:VEVENT
BEGIN:VEVENT
DTSTART;TZID=America/New_York:20260606T103000
DTEND;TZID=America/New_York:20260606T113000
DTSTAMP:20260422T183708
CREATED:20260213T201423Z
LAST-MODIFIED:20260213T201637Z
UID:10034543-1780741800-1780745400@phillyfamily.com
SUMMARY:Beginner-Friendly Yoga at Lawncrest Library
DESCRIPTION:Practice beginner-friendly yoga on Saturdays at Lawncrest Library! Stretch the body and mind with yoga led by Elizabeth from Yoga4Philly. Mats provided but feel free to bring own mats. Please wear comfortable\, warm clothes. All ages welcome.
URL:https://phillyfamily.com/event/beginner-friendly-yoga-at-lawncrest-library/2026-06-06/
LOCATION:Lawncrest Library\, 6098 Rising Sun Avenue\, Philadelphia\, PA\, 19111\, United States
CATEGORIES:Community Event,Free
ATTACH;FMTTYPE=image/jpeg:https://phillyfamily.com/wp-content/uploads/2026/02/yoga-lawncrest.jpg
END:VEVENT
BEGIN:VEVENT
DTSTART;TZID=America/New_York:20260613T103000
DTEND;TZID=America/New_York:20260613T113000
DTSTAMP:20260422T183708
CREATED:20260213T201423Z
LAST-MODIFIED:20260213T201637Z
UID:10034544-1781346600-1781350200@phillyfamily.com
SUMMARY:Beginner-Friendly Yoga at Lawncrest Library
DESCRIPTION:Practice beginner-friendly yoga on Saturdays at Lawncrest Library! Stretch the body and mind with yoga led by Elizabeth from Yoga4Philly. Mats provided but feel free to bring own mats. Please wear comfortable\, warm clothes. All ages welcome.
URL:https://phillyfamily.com/event/beginner-friendly-yoga-at-lawncrest-library/2026-06-13/
LOCATION:Lawncrest Library\, 6098 Rising Sun Avenue\, Philadelphia\, PA\, 19111\, United States
CATEGORIES:Community Event,Free
ATTACH;FMTTYPE=image/jpeg:https://phillyfamily.com/wp-content/uploads/2026/02/yoga-lawncrest.jpg
END:VEVENT
BEGIN:VEVENT
DTSTART;TZID=America/New_York:20260620T103000
DTEND;TZID=America/New_York:20260620T113000
DTSTAMP:20260422T183708
CREATED:20260213T201423Z
LAST-MODIFIED:20260213T201637Z
UID:10034545-1781951400-1781955000@phillyfamily.com
SUMMARY:Beginner-Friendly Yoga at Lawncrest Library
DESCRIPTION:Practice beginner-friendly yoga on Saturdays at Lawncrest Library! Stretch the body and mind with yoga led by Elizabeth from Yoga4Philly. Mats provided but feel free to bring own mats. Please wear comfortable\, warm clothes. All ages welcome.
URL:https://phillyfamily.com/event/beginner-friendly-yoga-at-lawncrest-library/2026-06-20/
LOCATION:Lawncrest Library\, 6098 Rising Sun Avenue\, Philadelphia\, PA\, 19111\, United States
CATEGORIES:Community Event,Free
ATTACH;FMTTYPE=image/jpeg:https://phillyfamily.com/wp-content/uploads/2026/02/yoga-lawncrest.jpg
END:VEVENT
BEGIN:VEVENT
DTSTART;TZID=America/New_York:20260627T103000
DTEND;TZID=America/New_York:20260627T113000
DTSTAMP:20260422T183708
CREATED:20260213T201423Z
LAST-MODIFIED:20260213T201637Z
UID:10034546-1782556200-1782559800@phillyfamily.com
SUMMARY:Beginner-Friendly Yoga at Lawncrest Library
DESCRIPTION:Practice beginner-friendly yoga on Saturdays at Lawncrest Library! Stretch the body and mind with yoga led by Elizabeth from Yoga4Philly. Mats provided but feel free to bring own mats. Please wear comfortable\, warm clothes. All ages welcome.
URL:https://phillyfamily.com/event/beginner-friendly-yoga-at-lawncrest-library/2026-06-27/
LOCATION:Lawncrest Library\, 6098 Rising Sun Avenue\, Philadelphia\, PA\, 19111\, United States
CATEGORIES:Community Event,Free
ATTACH;FMTTYPE=image/jpeg:https://phillyfamily.com/wp-content/uploads/2026/02/yoga-lawncrest.jpg
END:VEVENT
BEGIN:VEVENT
DTSTART;TZID=America/New_York:20260704T103000
DTEND;TZID=America/New_York:20260704T113000
DTSTAMP:20260422T183708
CREATED:20260213T201423Z
LAST-MODIFIED:20260213T201637Z
UID:10034547-1783161000-1783164600@phillyfamily.com
SUMMARY:Beginner-Friendly Yoga at Lawncrest Library
DESCRIPTION:Practice beginner-friendly yoga on Saturdays at Lawncrest Library! Stretch the body and mind with yoga led by Elizabeth from Yoga4Philly. Mats provided but feel free to bring own mats. Please wear comfortable\, warm clothes. All ages welcome.
URL:https://phillyfamily.com/event/beginner-friendly-yoga-at-lawncrest-library/2026-07-04/
LOCATION:Lawncrest Library\, 6098 Rising Sun Avenue\, Philadelphia\, PA\, 19111\, United States
CATEGORIES:Community Event,Free
ATTACH;FMTTYPE=image/jpeg:https://phillyfamily.com/wp-content/uploads/2026/02/yoga-lawncrest.jpg
END:VEVENT
BEGIN:VEVENT
DTSTART;TZID=America/New_York:20260711T103000
DTEND;TZID=America/New_York:20260711T113000
DTSTAMP:20260422T183708
CREATED:20260213T201423Z
LAST-MODIFIED:20260213T201637Z
UID:10034548-1783765800-1783769400@phillyfamily.com
SUMMARY:Beginner-Friendly Yoga at Lawncrest Library
DESCRIPTION:Practice beginner-friendly yoga on Saturdays at Lawncrest Library! Stretch the body and mind with yoga led by Elizabeth from Yoga4Philly. Mats provided but feel free to bring own mats. Please wear comfortable\, warm clothes. All ages welcome.
URL:https://phillyfamily.com/event/beginner-friendly-yoga-at-lawncrest-library/2026-07-11/
LOCATION:Lawncrest Library\, 6098 Rising Sun Avenue\, Philadelphia\, PA\, 19111\, United States
CATEGORIES:Community Event,Free
ATTACH;FMTTYPE=image/jpeg:https://phillyfamily.com/wp-content/uploads/2026/02/yoga-lawncrest.jpg
END:VEVENT
BEGIN:VEVENT
DTSTART;TZID=America/New_York:20260718T103000
DTEND;TZID=America/New_York:20260718T113000
DTSTAMP:20260422T183708
CREATED:20260213T201423Z
LAST-MODIFIED:20260213T201637Z
UID:10034549-1784370600-1784374200@phillyfamily.com
SUMMARY:Beginner-Friendly Yoga at Lawncrest Library
DESCRIPTION:Practice beginner-friendly yoga on Saturdays at Lawncrest Library! Stretch the body and mind with yoga led by Elizabeth from Yoga4Philly. Mats provided but feel free to bring own mats. Please wear comfortable\, warm clothes. All ages welcome.
URL:https://phillyfamily.com/event/beginner-friendly-yoga-at-lawncrest-library/2026-07-18/
LOCATION:Lawncrest Library\, 6098 Rising Sun Avenue\, Philadelphia\, PA\, 19111\, United States
CATEGORIES:Community Event,Free
ATTACH;FMTTYPE=image/jpeg:https://phillyfamily.com/wp-content/uploads/2026/02/yoga-lawncrest.jpg
END:VEVENT
BEGIN:VEVENT
DTSTART;TZID=America/New_York:20260725T103000
DTEND;TZID=America/New_York:20260725T113000
DTSTAMP:20260422T183708
CREATED:20260213T201423Z
LAST-MODIFIED:20260213T201637Z
UID:10034550-1784975400-1784979000@phillyfamily.com
SUMMARY:Beginner-Friendly Yoga at Lawncrest Library
DESCRIPTION:Practice beginner-friendly yoga on Saturdays at Lawncrest Library! Stretch the body and mind with yoga led by Elizabeth from Yoga4Philly. Mats provided but feel free to bring own mats. Please wear comfortable\, warm clothes. All ages welcome.
URL:https://phillyfamily.com/event/beginner-friendly-yoga-at-lawncrest-library/2026-07-25/
LOCATION:Lawncrest Library\, 6098 Rising Sun Avenue\, Philadelphia\, PA\, 19111\, United States
CATEGORIES:Community Event,Free
ATTACH;FMTTYPE=image/jpeg:https://phillyfamily.com/wp-content/uploads/2026/02/yoga-lawncrest.jpg
END:VEVENT
BEGIN:VEVENT
DTSTART;TZID=America/New_York:20260801T103000
DTEND;TZID=America/New_York:20260801T113000
DTSTAMP:20260422T183708
CREATED:20260213T201423Z
LAST-MODIFIED:20260213T201637Z
UID:10034551-1785580200-1785583800@phillyfamily.com
SUMMARY:Beginner-Friendly Yoga at Lawncrest Library
DESCRIPTION:Practice beginner-friendly yoga on Saturdays at Lawncrest Library! Stretch the body and mind with yoga led by Elizabeth from Yoga4Philly. Mats provided but feel free to bring own mats. Please wear comfortable\, warm clothes. All ages welcome.
URL:https://phillyfamily.com/event/beginner-friendly-yoga-at-lawncrest-library/2026-08-01/
LOCATION:Lawncrest Library\, 6098 Rising Sun Avenue\, Philadelphia\, PA\, 19111\, United States
CATEGORIES:Community Event,Free
ATTACH;FMTTYPE=image/jpeg:https://phillyfamily.com/wp-content/uploads/2026/02/yoga-lawncrest.jpg
END:VEVENT
BEGIN:VEVENT
DTSTART;TZID=America/New_York:20260808T103000
DTEND;TZID=America/New_York:20260808T113000
DTSTAMP:20260422T183708
CREATED:20260213T201423Z
LAST-MODIFIED:20260213T201637Z
UID:10034552-1786185000-1786188600@phillyfamily.com
SUMMARY:Beginner-Friendly Yoga at Lawncrest Library
DESCRIPTION:Practice beginner-friendly yoga on Saturdays at Lawncrest Library! Stretch the body and mind with yoga led by Elizabeth from Yoga4Philly. Mats provided but feel free to bring own mats. Please wear comfortable\, warm clothes. All ages welcome.
URL:https://phillyfamily.com/event/beginner-friendly-yoga-at-lawncrest-library/2026-08-08/
LOCATION:Lawncrest Library\, 6098 Rising Sun Avenue\, Philadelphia\, PA\, 19111\, United States
CATEGORIES:Community Event,Free
ATTACH;FMTTYPE=image/jpeg:https://phillyfamily.com/wp-content/uploads/2026/02/yoga-lawncrest.jpg
END:VEVENT
BEGIN:VEVENT
DTSTART;TZID=America/New_York:20260815T103000
DTEND;TZID=America/New_York:20260815T113000
DTSTAMP:20260422T183708
CREATED:20260213T201423Z
LAST-MODIFIED:20260213T201637Z
UID:10034553-1786789800-1786793400@phillyfamily.com
SUMMARY:Beginner-Friendly Yoga at Lawncrest Library
DESCRIPTION:Practice beginner-friendly yoga on Saturdays at Lawncrest Library! Stretch the body and mind with yoga led by Elizabeth from Yoga4Philly. Mats provided but feel free to bring own mats. Please wear comfortable\, warm clothes. All ages welcome.
URL:https://phillyfamily.com/event/beginner-friendly-yoga-at-lawncrest-library/2026-08-15/
LOCATION:Lawncrest Library\, 6098 Rising Sun Avenue\, Philadelphia\, PA\, 19111\, United States
CATEGORIES:Community Event,Free
ATTACH;FMTTYPE=image/jpeg:https://phillyfamily.com/wp-content/uploads/2026/02/yoga-lawncrest.jpg
END:VEVENT
BEGIN:VEVENT
DTSTART;TZID=America/New_York:20260822T103000
DTEND;TZID=America/New_York:20260822T113000
DTSTAMP:20260422T183708
CREATED:20260213T201423Z
LAST-MODIFIED:20260213T201637Z
UID:10034554-1787394600-1787398200@phillyfamily.com
SUMMARY:Beginner-Friendly Yoga at Lawncrest Library
DESCRIPTION:Practice beginner-friendly yoga on Saturdays at Lawncrest Library! Stretch the body and mind with yoga led by Elizabeth from Yoga4Philly. Mats provided but feel free to bring own mats. Please wear comfortable\, warm clothes. All ages welcome.
URL:https://phillyfamily.com/event/beginner-friendly-yoga-at-lawncrest-library/2026-08-22/
LOCATION:Lawncrest Library\, 6098 Rising Sun Avenue\, Philadelphia\, PA\, 19111\, United States
CATEGORIES:Community Event,Free
ATTACH;FMTTYPE=image/jpeg:https://phillyfamily.com/wp-content/uploads/2026/02/yoga-lawncrest.jpg
END:VEVENT
BEGIN:VEVENT
DTSTART;TZID=America/New_York:20260829T103000
DTEND;TZID=America/New_York:20260829T113000
DTSTAMP:20260422T183708
CREATED:20260213T201423Z
LAST-MODIFIED:20260213T201637Z
UID:10034555-1787999400-1788003000@phillyfamily.com
SUMMARY:Beginner-Friendly Yoga at Lawncrest Library
DESCRIPTION:Practice beginner-friendly yoga on Saturdays at Lawncrest Library! Stretch the body and mind with yoga led by Elizabeth from Yoga4Philly. Mats provided but feel free to bring own mats. Please wear comfortable\, warm clothes. All ages welcome.
URL:https://phillyfamily.com/event/beginner-friendly-yoga-at-lawncrest-library/2026-08-29/
LOCATION:Lawncrest Library\, 6098 Rising Sun Avenue\, Philadelphia\, PA\, 19111\, United States
CATEGORIES:Community Event,Free
ATTACH;FMTTYPE=image/jpeg:https://phillyfamily.com/wp-content/uploads/2026/02/yoga-lawncrest.jpg
END:VEVENT
BEGIN:VEVENT
DTSTART;TZID=America/New_York:20260905T103000
DTEND;TZID=America/New_York:20260905T113000
DTSTAMP:20260422T183708
CREATED:20260213T201423Z
LAST-MODIFIED:20260213T201637Z
UID:10034556-1788604200-1788607800@phillyfamily.com
SUMMARY:Beginner-Friendly Yoga at Lawncrest Library
DESCRIPTION:Practice beginner-friendly yoga on Saturdays at Lawncrest Library! Stretch the body and mind with yoga led by Elizabeth from Yoga4Philly. Mats provided but feel free to bring own mats. Please wear comfortable\, warm clothes. All ages welcome.
URL:https://phillyfamily.com/event/beginner-friendly-yoga-at-lawncrest-library/2026-09-05/
LOCATION:Lawncrest Library\, 6098 Rising Sun Avenue\, Philadelphia\, PA\, 19111\, United States
CATEGORIES:Community Event,Free
ATTACH;FMTTYPE=image/jpeg:https://phillyfamily.com/wp-content/uploads/2026/02/yoga-lawncrest.jpg
END:VEVENT
BEGIN:VEVENT
DTSTART;TZID=America/New_York:20260912T103000
DTEND;TZID=America/New_York:20260912T113000
DTSTAMP:20260422T183708
CREATED:20260213T201423Z
LAST-MODIFIED:20260213T201637Z
UID:10034557-1789209000-1789212600@phillyfamily.com
SUMMARY:Beginner-Friendly Yoga at Lawncrest Library
DESCRIPTION:Practice beginner-friendly yoga on Saturdays at Lawncrest Library! Stretch the body and mind with yoga led by Elizabeth from Yoga4Philly. Mats provided but feel free to bring own mats. Please wear comfortable\, warm clothes. All ages welcome.
URL:https://phillyfamily.com/event/beginner-friendly-yoga-at-lawncrest-library/2026-09-12/
LOCATION:Lawncrest Library\, 6098 Rising Sun Avenue\, Philadelphia\, PA\, 19111\, United States
CATEGORIES:Community Event,Free
ATTACH;FMTTYPE=image/jpeg:https://phillyfamily.com/wp-content/uploads/2026/02/yoga-lawncrest.jpg
END:VEVENT
BEGIN:VEVENT
DTSTART;TZID=America/New_York:20260919T103000
DTEND;TZID=America/New_York:20260919T113000
DTSTAMP:20260422T183708
CREATED:20260213T201423Z
LAST-MODIFIED:20260213T201637Z
UID:10034558-1789813800-1789817400@phillyfamily.com
SUMMARY:Beginner-Friendly Yoga at Lawncrest Library
DESCRIPTION:Practice beginner-friendly yoga on Saturdays at Lawncrest Library! Stretch the body and mind with yoga led by Elizabeth from Yoga4Philly. Mats provided but feel free to bring own mats. Please wear comfortable\, warm clothes. All ages welcome.
URL:https://phillyfamily.com/event/beginner-friendly-yoga-at-lawncrest-library/2026-09-19/
LOCATION:Lawncrest Library\, 6098 Rising Sun Avenue\, Philadelphia\, PA\, 19111\, United States
CATEGORIES:Community Event,Free
ATTACH;FMTTYPE=image/jpeg:https://phillyfamily.com/wp-content/uploads/2026/02/yoga-lawncrest.jpg
END:VEVENT
BEGIN:VEVENT
DTSTART;TZID=America/New_York:20260926T103000
DTEND;TZID=America/New_York:20260926T113000
DTSTAMP:20260422T183708
CREATED:20260213T201423Z
LAST-MODIFIED:20260213T201637Z
UID:10034559-1790418600-1790422200@phillyfamily.com
SUMMARY:Beginner-Friendly Yoga at Lawncrest Library
DESCRIPTION:Practice beginner-friendly yoga on Saturdays at Lawncrest Library! Stretch the body and mind with yoga led by Elizabeth from Yoga4Philly. Mats provided but feel free to bring own mats. Please wear comfortable\, warm clothes. All ages welcome.
URL:https://phillyfamily.com/event/beginner-friendly-yoga-at-lawncrest-library/2026-09-26/
LOCATION:Lawncrest Library\, 6098 Rising Sun Avenue\, Philadelphia\, PA\, 19111\, United States
CATEGORIES:Community Event,Free
ATTACH;FMTTYPE=image/jpeg:https://phillyfamily.com/wp-content/uploads/2026/02/yoga-lawncrest.jpg
END:VEVENT
BEGIN:VEVENT
DTSTART;TZID=America/New_York:20261003T103000
DTEND;TZID=America/New_York:20261003T113000
DTSTAMP:20260422T183708
CREATED:20260213T201423Z
LAST-MODIFIED:20260213T201637Z
UID:10034560-1791023400-1791027000@phillyfamily.com
SUMMARY:Beginner-Friendly Yoga at Lawncrest Library
DESCRIPTION:Practice beginner-friendly yoga on Saturdays at Lawncrest Library! Stretch the body and mind with yoga led by Elizabeth from Yoga4Philly. Mats provided but feel free to bring own mats. Please wear comfortable\, warm clothes. All ages welcome.
URL:https://phillyfamily.com/event/beginner-friendly-yoga-at-lawncrest-library/2026-10-03/
LOCATION:Lawncrest Library\, 6098 Rising Sun Avenue\, Philadelphia\, PA\, 19111\, United States
CATEGORIES:Community Event,Free
ATTACH;FMTTYPE=image/jpeg:https://phillyfamily.com/wp-content/uploads/2026/02/yoga-lawncrest.jpg
END:VEVENT
BEGIN:VEVENT
DTSTART;TZID=America/New_York:20261010T103000
DTEND;TZID=America/New_York:20261010T113000
DTSTAMP:20260422T183708
CREATED:20260213T201423Z
LAST-MODIFIED:20260213T201637Z
UID:10034561-1791628200-1791631800@phillyfamily.com
SUMMARY:Beginner-Friendly Yoga at Lawncrest Library
DESCRIPTION:Practice beginner-friendly yoga on Saturdays at Lawncrest Library! Stretch the body and mind with yoga led by Elizabeth from Yoga4Philly. Mats provided but feel free to bring own mats. Please wear comfortable\, warm clothes. All ages welcome.
URL:https://phillyfamily.com/event/beginner-friendly-yoga-at-lawncrest-library/2026-10-10/
LOCATION:Lawncrest Library\, 6098 Rising Sun Avenue\, Philadelphia\, PA\, 19111\, United States
CATEGORIES:Community Event,Free
ATTACH;FMTTYPE=image/jpeg:https://phillyfamily.com/wp-content/uploads/2026/02/yoga-lawncrest.jpg
END:VEVENT
BEGIN:VEVENT
DTSTART;TZID=America/New_York:20261017T103000
DTEND;TZID=America/New_York:20261017T113000
DTSTAMP:20260422T183708
CREATED:20260213T201423Z
LAST-MODIFIED:20260213T201637Z
UID:10034562-1792233000-1792236600@phillyfamily.com
SUMMARY:Beginner-Friendly Yoga at Lawncrest Library
DESCRIPTION:Practice beginner-friendly yoga on Saturdays at Lawncrest Library! Stretch the body and mind with yoga led by Elizabeth from Yoga4Philly. Mats provided but feel free to bring own mats. Please wear comfortable\, warm clothes. All ages welcome.
URL:https://phillyfamily.com/event/beginner-friendly-yoga-at-lawncrest-library/2026-10-17/
LOCATION:Lawncrest Library\, 6098 Rising Sun Avenue\, Philadelphia\, PA\, 19111\, United States
CATEGORIES:Community Event,Free
ATTACH;FMTTYPE=image/jpeg:https://phillyfamily.com/wp-content/uploads/2026/02/yoga-lawncrest.jpg
END:VEVENT
BEGIN:VEVENT
DTSTART;TZID=America/New_York:20261024T103000
DTEND;TZID=America/New_York:20261024T113000
DTSTAMP:20260422T183708
CREATED:20260213T201423Z
LAST-MODIFIED:20260213T201637Z
UID:10034563-1792837800-1792841400@phillyfamily.com
SUMMARY:Beginner-Friendly Yoga at Lawncrest Library
DESCRIPTION:Practice beginner-friendly yoga on Saturdays at Lawncrest Library! Stretch the body and mind with yoga led by Elizabeth from Yoga4Philly. Mats provided but feel free to bring own mats. Please wear comfortable\, warm clothes. All ages welcome.
URL:https://phillyfamily.com/event/beginner-friendly-yoga-at-lawncrest-library/2026-10-24/
LOCATION:Lawncrest Library\, 6098 Rising Sun Avenue\, Philadelphia\, PA\, 19111\, United States
CATEGORIES:Community Event,Free
ATTACH;FMTTYPE=image/jpeg:https://phillyfamily.com/wp-content/uploads/2026/02/yoga-lawncrest.jpg
END:VEVENT
BEGIN:VEVENT
DTSTART;TZID=America/New_York:20261031T103000
DTEND;TZID=America/New_York:20261031T113000
DTSTAMP:20260422T183708
CREATED:20260213T201423Z
LAST-MODIFIED:20260213T201637Z
UID:10034564-1793442600-1793446200@phillyfamily.com
SUMMARY:Beginner-Friendly Yoga at Lawncrest Library
DESCRIPTION:Practice beginner-friendly yoga on Saturdays at Lawncrest Library! Stretch the body and mind with yoga led by Elizabeth from Yoga4Philly. Mats provided but feel free to bring own mats. Please wear comfortable\, warm clothes. All ages welcome.
URL:https://phillyfamily.com/event/beginner-friendly-yoga-at-lawncrest-library/2026-10-31/
LOCATION:Lawncrest Library\, 6098 Rising Sun Avenue\, Philadelphia\, PA\, 19111\, United States
CATEGORIES:Community Event,Free
ATTACH;FMTTYPE=image/jpeg:https://phillyfamily.com/wp-content/uploads/2026/02/yoga-lawncrest.jpg
END:VEVENT
BEGIN:VEVENT
DTSTART;TZID=America/New_York:20261107T103000
DTEND;TZID=America/New_York:20261107T113000
DTSTAMP:20260422T183708
CREATED:20260213T201423Z
LAST-MODIFIED:20260213T201637Z
UID:10034565-1794047400-1794051000@phillyfamily.com
SUMMARY:Beginner-Friendly Yoga at Lawncrest Library
DESCRIPTION:Practice beginner-friendly yoga on Saturdays at Lawncrest Library! Stretch the body and mind with yoga led by Elizabeth from Yoga4Philly. Mats provided but feel free to bring own mats. Please wear comfortable\, warm clothes. All ages welcome.
URL:https://phillyfamily.com/event/beginner-friendly-yoga-at-lawncrest-library/2026-11-07/
LOCATION:Lawncrest Library\, 6098 Rising Sun Avenue\, Philadelphia\, PA\, 19111\, United States
CATEGORIES:Community Event,Free
ATTACH;FMTTYPE=image/jpeg:https://phillyfamily.com/wp-content/uploads/2026/02/yoga-lawncrest.jpg
END:VEVENT
BEGIN:VEVENT
DTSTART;TZID=America/New_York:20261114T103000
DTEND;TZID=America/New_York:20261114T113000
DTSTAMP:20260422T183708
CREATED:20260213T201423Z
LAST-MODIFIED:20260213T201637Z
UID:10034566-1794652200-1794655800@phillyfamily.com
SUMMARY:Beginner-Friendly Yoga at Lawncrest Library
DESCRIPTION:Practice beginner-friendly yoga on Saturdays at Lawncrest Library! Stretch the body and mind with yoga led by Elizabeth from Yoga4Philly. Mats provided but feel free to bring own mats. Please wear comfortable\, warm clothes. All ages welcome.
URL:https://phillyfamily.com/event/beginner-friendly-yoga-at-lawncrest-library/2026-11-14/
LOCATION:Lawncrest Library\, 6098 Rising Sun Avenue\, Philadelphia\, PA\, 19111\, United States
CATEGORIES:Community Event,Free
ATTACH;FMTTYPE=image/jpeg:https://phillyfamily.com/wp-content/uploads/2026/02/yoga-lawncrest.jpg
END:VEVENT
END:VCALENDAR