BEGIN:VCALENDAR
VERSION:2.0
PRODID:-//Philadelphia Family Magazine - ECPv6.15.20//NONSGML v1.0//EN
CALSCALE:GREGORIAN
METHOD:PUBLISH
X-ORIGINAL-URL:https://phillyfamily.com
X-WR-CALDESC:Events for Philadelphia Family Magazine
REFRESH-INTERVAL;VALUE=DURATION:PT1H
X-Robots-Tag:noindex
X-PUBLISHED-TTL:PT1H
BEGIN:VTIMEZONE
TZID:America/New_York
BEGIN:DAYLIGHT
TZOFFSETFROM:-0500
TZOFFSETTO:-0400
TZNAME:EDT
DTSTART:20250309T070000
END:DAYLIGHT
BEGIN:STANDARD
TZOFFSETFROM:-0400
TZOFFSETTO:-0500
TZNAME:EST
DTSTART:20251102T060000
END:STANDARD
BEGIN:DAYLIGHT
TZOFFSETFROM:-0500
TZOFFSETTO:-0400
TZNAME:EDT
DTSTART:20260308T070000
END:DAYLIGHT
BEGIN:STANDARD
TZOFFSETFROM:-0400
TZOFFSETTO:-0500
TZNAME:EST
DTSTART:20261101T060000
END:STANDARD
BEGIN:DAYLIGHT
TZOFFSETFROM:-0500
TZOFFSETTO:-0400
TZNAME:EDT
DTSTART:20270314T070000
END:DAYLIGHT
BEGIN:STANDARD
TZOFFSETFROM:-0400
TZOFFSETTO:-0500
TZNAME:EST
DTSTART:20271107T060000
END:STANDARD
END:VTIMEZONE
BEGIN:VEVENT
DTSTART;TZID=America/New_York:20261004T080000
DTEND;TZID=America/New_York:20261004T170000
DTSTAMP:20260423T131617
CREATED:20260223T191919Z
LAST-MODIFIED:20260223T191919Z
UID:10034785-1791100800-1791133200@phillyfamily.com
SUMMARY:Art and Auction at Newlin Grist Mill
DESCRIPTION:Enjoy a week of open air painting demos and exhibits\, with an evening reception and auction on October 8. \nLearn more on the website.
URL:https://phillyfamily.com/event/art-and-auction-at-newlin-grist-mill/2026-10-04/
LOCATION:Newlin Grist Mill\, 219 Cheyney Road\, Glen Mills\, PA\, 19342\, United States
CATEGORIES:Arts & Crafts,Community Event,Exhibit
ATTACH;FMTTYPE=image/jpeg:https://phillyfamily.com/wp-content/uploads/2026/02/DSC_8614.jpg
ORGANIZER;CN="Newlin Grist Mill":MAILTO:info@newlingristmill.org
END:VEVENT
BEGIN:VEVENT
DTSTART;TZID=America/New_York:20261005T080000
DTEND;TZID=America/New_York:20261005T170000
DTSTAMP:20260423T131617
CREATED:20260223T191919Z
LAST-MODIFIED:20260223T191919Z
UID:10034793-1791187200-1791219600@phillyfamily.com
SUMMARY:Art and Auction at Newlin Grist Mill
DESCRIPTION:Enjoy a week of open air painting demos and exhibits\, with an evening reception and auction on October 8. \nLearn more on the website.
URL:https://phillyfamily.com/event/art-and-auction-at-newlin-grist-mill/2026-10-05/
LOCATION:Newlin Grist Mill\, 219 Cheyney Road\, Glen Mills\, PA\, 19342\, United States
CATEGORIES:Arts & Crafts,Community Event,Exhibit
ATTACH;FMTTYPE=image/jpeg:https://phillyfamily.com/wp-content/uploads/2026/02/DSC_8614.jpg
ORGANIZER;CN="Newlin Grist Mill":MAILTO:info@newlingristmill.org
END:VEVENT
BEGIN:VEVENT
DTSTART;TZID=America/New_York:20261006T080000
DTEND;TZID=America/New_York:20261006T170000
DTSTAMP:20260423T131617
CREATED:20260223T191919Z
LAST-MODIFIED:20260223T191919Z
UID:10034794-1791273600-1791306000@phillyfamily.com
SUMMARY:Art and Auction at Newlin Grist Mill
DESCRIPTION:Enjoy a week of open air painting demos and exhibits\, with an evening reception and auction on October 8. \nLearn more on the website.
URL:https://phillyfamily.com/event/art-and-auction-at-newlin-grist-mill/2026-10-06/
LOCATION:Newlin Grist Mill\, 219 Cheyney Road\, Glen Mills\, PA\, 19342\, United States
CATEGORIES:Arts & Crafts,Community Event,Exhibit
ATTACH;FMTTYPE=image/jpeg:https://phillyfamily.com/wp-content/uploads/2026/02/DSC_8614.jpg
ORGANIZER;CN="Newlin Grist Mill":MAILTO:info@newlingristmill.org
END:VEVENT
BEGIN:VEVENT
DTSTART;TZID=America/New_York:20261007T080000
DTEND;TZID=America/New_York:20261007T170000
DTSTAMP:20260423T131617
CREATED:20260223T191919Z
LAST-MODIFIED:20260223T191919Z
UID:10034795-1791360000-1791392400@phillyfamily.com
SUMMARY:Art and Auction at Newlin Grist Mill
DESCRIPTION:Enjoy a week of open air painting demos and exhibits\, with an evening reception and auction on October 8. \nLearn more on the website.
URL:https://phillyfamily.com/event/art-and-auction-at-newlin-grist-mill/2026-10-07/
LOCATION:Newlin Grist Mill\, 219 Cheyney Road\, Glen Mills\, PA\, 19342\, United States
CATEGORIES:Arts & Crafts,Community Event,Exhibit
ATTACH;FMTTYPE=image/jpeg:https://phillyfamily.com/wp-content/uploads/2026/02/DSC_8614.jpg
ORGANIZER;CN="Newlin Grist Mill":MAILTO:info@newlingristmill.org
END:VEVENT
BEGIN:VEVENT
DTSTART;TZID=America/New_York:20261008T080000
DTEND;TZID=America/New_York:20261008T170000
DTSTAMP:20260423T131617
CREATED:20260223T191919Z
LAST-MODIFIED:20260223T191919Z
UID:10034796-1791446400-1791478800@phillyfamily.com
SUMMARY:Art and Auction at Newlin Grist Mill
DESCRIPTION:Enjoy a week of open air painting demos and exhibits\, with an evening reception and auction on October 8. \nLearn more on the website.
URL:https://phillyfamily.com/event/art-and-auction-at-newlin-grist-mill/2026-10-08/
LOCATION:Newlin Grist Mill\, 219 Cheyney Road\, Glen Mills\, PA\, 19342\, United States
CATEGORIES:Arts & Crafts,Community Event,Exhibit
ATTACH;FMTTYPE=image/jpeg:https://phillyfamily.com/wp-content/uploads/2026/02/DSC_8614.jpg
ORGANIZER;CN="Newlin Grist Mill":MAILTO:info@newlingristmill.org
END:VEVENT
END:VCALENDAR