BEGIN:VCALENDAR
VERSION:2.0
PRODID:-//Philadelphia Family Magazine - ECPv6.15.20//NONSGML v1.0//EN
CALSCALE:GREGORIAN
METHOD:PUBLISH
X-ORIGINAL-URL:https://phillyfamily.com
X-WR-CALDESC:Events for Philadelphia Family Magazine
REFRESH-INTERVAL;VALUE=DURATION:PT1H
X-Robots-Tag:noindex
X-PUBLISHED-TTL:PT1H
BEGIN:VTIMEZONE
TZID:America/New_York
BEGIN:DAYLIGHT
TZOFFSETFROM:-0500
TZOFFSETTO:-0400
TZNAME:EDT
DTSTART:20250309T070000
END:DAYLIGHT
BEGIN:STANDARD
TZOFFSETFROM:-0400
TZOFFSETTO:-0500
TZNAME:EST
DTSTART:20251102T060000
END:STANDARD
BEGIN:DAYLIGHT
TZOFFSETFROM:-0500
TZOFFSETTO:-0400
TZNAME:EDT
DTSTART:20260308T070000
END:DAYLIGHT
BEGIN:STANDARD
TZOFFSETFROM:-0400
TZOFFSETTO:-0500
TZNAME:EST
DTSTART:20261101T060000
END:STANDARD
BEGIN:DAYLIGHT
TZOFFSETFROM:-0500
TZOFFSETTO:-0400
TZNAME:EDT
DTSTART:20270314T070000
END:DAYLIGHT
BEGIN:STANDARD
TZOFFSETFROM:-0400
TZOFFSETTO:-0500
TZNAME:EST
DTSTART:20271107T060000
END:STANDARD
END:VTIMEZONE
BEGIN:VEVENT
DTSTART;TZID=America/New_York:20260605T110000
DTEND;TZID=America/New_York:20260605T160000
DTSTAMP:20260419T123816
CREATED:20260417T064511Z
LAST-MODIFIED:20260417T064511Z
UID:10035649-1780657200-1780675200@phillyfamily.com
SUMMARY:The American Kennel Club Celebrates USA 250
DESCRIPTION:The American Kennel Club Celebrates USA 250 is a multi-day event taking place June 5th through June 7th at the Philadelphia Navy Yard. Part of the AKC on ESPN Sports Series\, this event will showcase elite AKC competition across Diving Dogs and Agility\, bring together top canine athletes and handlers in a patriotic setting that combines dog sports with this historic American anniversary.
URL:https://phillyfamily.com/event/the-american-kennel-club-celebrates-usa-250/2026-06-05/
LOCATION:Navy Yard\, 4701 Intrepid Avenue\, Philadelphia\, PA\, 19112\, United States
CATEGORIES:Community Event,For The Whole Family,Free,Sporting Events
ATTACH;FMTTYPE=image/jpeg:https://phillyfamily.com/wp-content/uploads/2026/04/event-akc250-e1776408305392.jpg
END:VEVENT
BEGIN:VEVENT
DTSTART;TZID=America/New_York:20260606T110000
DTEND;TZID=America/New_York:20260606T160000
DTSTAMP:20260419T123816
CREATED:20260417T064511Z
LAST-MODIFIED:20260417T064511Z
UID:10035650-1780743600-1780761600@phillyfamily.com
SUMMARY:The American Kennel Club Celebrates USA 250
DESCRIPTION:The American Kennel Club Celebrates USA 250 is a multi-day event taking place June 5th through June 7th at the Philadelphia Navy Yard. Part of the AKC on ESPN Sports Series\, this event will showcase elite AKC competition across Diving Dogs and Agility\, bring together top canine athletes and handlers in a patriotic setting that combines dog sports with this historic American anniversary.
URL:https://phillyfamily.com/event/the-american-kennel-club-celebrates-usa-250/2026-06-06/
LOCATION:Navy Yard\, 4701 Intrepid Avenue\, Philadelphia\, PA\, 19112\, United States
CATEGORIES:Community Event,For The Whole Family,Free,Sporting Events
ATTACH;FMTTYPE=image/jpeg:https://phillyfamily.com/wp-content/uploads/2026/04/event-akc250-e1776408305392.jpg
END:VEVENT
BEGIN:VEVENT
DTSTART;TZID=America/New_York:20260607T110000
DTEND;TZID=America/New_York:20260607T160000
DTSTAMP:20260419T123816
CREATED:20260417T064511Z
LAST-MODIFIED:20260417T064511Z
UID:10035651-1780830000-1780848000@phillyfamily.com
SUMMARY:The American Kennel Club Celebrates USA 250
DESCRIPTION:The American Kennel Club Celebrates USA 250 is a multi-day event taking place June 5th through June 7th at the Philadelphia Navy Yard. Part of the AKC on ESPN Sports Series\, this event will showcase elite AKC competition across Diving Dogs and Agility\, bring together top canine athletes and handlers in a patriotic setting that combines dog sports with this historic American anniversary.
URL:https://phillyfamily.com/event/the-american-kennel-club-celebrates-usa-250/2026-06-07/
LOCATION:Navy Yard\, 4701 Intrepid Avenue\, Philadelphia\, PA\, 19112\, United States
CATEGORIES:Community Event,For The Whole Family,Free,Sporting Events
ATTACH;FMTTYPE=image/jpeg:https://phillyfamily.com/wp-content/uploads/2026/04/event-akc250-e1776408305392.jpg
END:VEVENT
END:VCALENDAR