BEGIN:VCALENDAR
VERSION:2.0
PRODID:-//Philadelphia Family Magazine - ECPv6.15.20//NONSGML v1.0//EN
CALSCALE:GREGORIAN
METHOD:PUBLISH
X-WR-CALNAME:Philadelphia Family Magazine
X-ORIGINAL-URL:https://phillyfamily.com
X-WR-CALDESC:Events for Philadelphia Family Magazine
REFRESH-INTERVAL;VALUE=DURATION:PT1H
X-Robots-Tag:noindex
X-PUBLISHED-TTL:PT1H
BEGIN:VTIMEZONE
TZID:America/New_York
BEGIN:DAYLIGHT
TZOFFSETFROM:-0500
TZOFFSETTO:-0400
TZNAME:EDT
DTSTART:20250309T070000
END:DAYLIGHT
BEGIN:STANDARD
TZOFFSETFROM:-0400
TZOFFSETTO:-0500
TZNAME:EST
DTSTART:20251102T060000
END:STANDARD
BEGIN:DAYLIGHT
TZOFFSETFROM:-0500
TZOFFSETTO:-0400
TZNAME:EDT
DTSTART:20260308T070000
END:DAYLIGHT
BEGIN:STANDARD
TZOFFSETFROM:-0400
TZOFFSETTO:-0500
TZNAME:EST
DTSTART:20261101T060000
END:STANDARD
BEGIN:DAYLIGHT
TZOFFSETFROM:-0500
TZOFFSETTO:-0400
TZNAME:EDT
DTSTART:20270314T070000
END:DAYLIGHT
BEGIN:STANDARD
TZOFFSETFROM:-0400
TZOFFSETTO:-0500
TZNAME:EST
DTSTART:20271107T060000
END:STANDARD
END:VTIMEZONE
BEGIN:VEVENT
DTSTART;TZID=America/New_York:20260426T130000
DTEND;TZID=America/New_York:20260426T160000
DTSTAMP:20260420T052718
CREATED:20250528T005420Z
LAST-MODIFIED:20250528T005420Z
UID:10026314-1777208400-1777219200@phillyfamily.com
SUMMARY:Family Funday with PopUpPlay
DESCRIPTION:Activities include boat building\, puppet making\, and even constructing a working catapult. Each week promises captivating experiences for kids of all ages with a new make-and-take activity. \nThis event is free and open to the public\, and all ages are welcome. Activities are available on a first-come\, first-served basis and are available while supplies last.
URL:https://phillyfamily.com/event/family-funday-with-popupplay/2026-04-26/
LOCATION:Spruce Street Harbor Park\, 401 S Columbus Boulevard\, Philadelphia\, PA\, 19106\, United States
CATEGORIES:Class or Workshop,Community Event,Family Event,Free,Kid Event,Philadelphia Events
ATTACH;FMTTYPE=image/jpeg:https://phillyfamily.com/wp-content/uploads/2025/05/116180032536815255-myp-5960.full_-e1748393404299.jpg
END:VEVENT
BEGIN:VEVENT
DTSTART;TZID=America/New_York:20260503T130000
DTEND;TZID=America/New_York:20260503T160000
DTSTAMP:20260420T052718
CREATED:20250528T005420Z
LAST-MODIFIED:20250528T005420Z
UID:10026315-1777813200-1777824000@phillyfamily.com
SUMMARY:Family Funday with PopUpPlay
DESCRIPTION:Activities include boat building\, puppet making\, and even constructing a working catapult. Each week promises captivating experiences for kids of all ages with a new make-and-take activity. \nThis event is free and open to the public\, and all ages are welcome. Activities are available on a first-come\, first-served basis and are available while supplies last.
URL:https://phillyfamily.com/event/family-funday-with-popupplay/2026-05-03/
LOCATION:Spruce Street Harbor Park\, 401 S Columbus Boulevard\, Philadelphia\, PA\, 19106\, United States
CATEGORIES:Class or Workshop,Community Event,Family Event,Free,Kid Event,Philadelphia Events
ATTACH;FMTTYPE=image/jpeg:https://phillyfamily.com/wp-content/uploads/2025/05/116180032536815255-myp-5960.full_-e1748393404299.jpg
END:VEVENT
BEGIN:VEVENT
DTSTART;TZID=America/New_York:20260510T130000
DTEND;TZID=America/New_York:20260510T160000
DTSTAMP:20260420T052718
CREATED:20250528T005420Z
LAST-MODIFIED:20250528T005420Z
UID:10026316-1778418000-1778428800@phillyfamily.com
SUMMARY:Family Funday with PopUpPlay
DESCRIPTION:Activities include boat building\, puppet making\, and even constructing a working catapult. Each week promises captivating experiences for kids of all ages with a new make-and-take activity. \nThis event is free and open to the public\, and all ages are welcome. Activities are available on a first-come\, first-served basis and are available while supplies last.
URL:https://phillyfamily.com/event/family-funday-with-popupplay/2026-05-10/
LOCATION:Spruce Street Harbor Park\, 401 S Columbus Boulevard\, Philadelphia\, PA\, 19106\, United States
CATEGORIES:Class or Workshop,Community Event,Family Event,Free,Kid Event,Philadelphia Events
ATTACH;FMTTYPE=image/jpeg:https://phillyfamily.com/wp-content/uploads/2025/05/116180032536815255-myp-5960.full_-e1748393404299.jpg
END:VEVENT
BEGIN:VEVENT
DTSTART;TZID=America/New_York:20260517T130000
DTEND;TZID=America/New_York:20260517T160000
DTSTAMP:20260420T052718
CREATED:20250528T005420Z
LAST-MODIFIED:20250528T005420Z
UID:10026317-1779022800-1779033600@phillyfamily.com
SUMMARY:Family Funday with PopUpPlay
DESCRIPTION:Activities include boat building\, puppet making\, and even constructing a working catapult. Each week promises captivating experiences for kids of all ages with a new make-and-take activity. \nThis event is free and open to the public\, and all ages are welcome. Activities are available on a first-come\, first-served basis and are available while supplies last.
URL:https://phillyfamily.com/event/family-funday-with-popupplay/2026-05-17/
LOCATION:Spruce Street Harbor Park\, 401 S Columbus Boulevard\, Philadelphia\, PA\, 19106\, United States
CATEGORIES:Class or Workshop,Community Event,Family Event,Free,Kid Event,Philadelphia Events
ATTACH;FMTTYPE=image/jpeg:https://phillyfamily.com/wp-content/uploads/2025/05/116180032536815255-myp-5960.full_-e1748393404299.jpg
END:VEVENT
BEGIN:VEVENT
DTSTART;TZID=America/New_York:20260524T130000
DTEND;TZID=America/New_York:20260524T160000
DTSTAMP:20260420T052718
CREATED:20250528T005420Z
LAST-MODIFIED:20250528T005420Z
UID:10026318-1779627600-1779638400@phillyfamily.com
SUMMARY:Family Funday with PopUpPlay
DESCRIPTION:Activities include boat building\, puppet making\, and even constructing a working catapult. Each week promises captivating experiences for kids of all ages with a new make-and-take activity. \nThis event is free and open to the public\, and all ages are welcome. Activities are available on a first-come\, first-served basis and are available while supplies last.
URL:https://phillyfamily.com/event/family-funday-with-popupplay/2026-05-24/
LOCATION:Spruce Street Harbor Park\, 401 S Columbus Boulevard\, Philadelphia\, PA\, 19106\, United States
CATEGORIES:Class or Workshop,Community Event,Family Event,Free,Kid Event,Philadelphia Events
ATTACH;FMTTYPE=image/jpeg:https://phillyfamily.com/wp-content/uploads/2025/05/116180032536815255-myp-5960.full_-e1748393404299.jpg
END:VEVENT
BEGIN:VEVENT
DTSTART;TZID=America/New_York:20260531T130000
DTEND;TZID=America/New_York:20260531T160000
DTSTAMP:20260420T052718
CREATED:20250528T005420Z
LAST-MODIFIED:20250528T005420Z
UID:10026319-1780232400-1780243200@phillyfamily.com
SUMMARY:Family Funday with PopUpPlay
DESCRIPTION:Activities include boat building\, puppet making\, and even constructing a working catapult. Each week promises captivating experiences for kids of all ages with a new make-and-take activity. \nThis event is free and open to the public\, and all ages are welcome. Activities are available on a first-come\, first-served basis and are available while supplies last.
URL:https://phillyfamily.com/event/family-funday-with-popupplay/2026-05-31/
LOCATION:Spruce Street Harbor Park\, 401 S Columbus Boulevard\, Philadelphia\, PA\, 19106\, United States
CATEGORIES:Class or Workshop,Community Event,Family Event,Free,Kid Event,Philadelphia Events
ATTACH;FMTTYPE=image/jpeg:https://phillyfamily.com/wp-content/uploads/2025/05/116180032536815255-myp-5960.full_-e1748393404299.jpg
END:VEVENT
BEGIN:VEVENT
DTSTART;TZID=America/New_York:20260607T130000
DTEND;TZID=America/New_York:20260607T160000
DTSTAMP:20260420T052718
CREATED:20250528T005420Z
LAST-MODIFIED:20250528T005420Z
UID:10026320-1780837200-1780848000@phillyfamily.com
SUMMARY:Family Funday with PopUpPlay
DESCRIPTION:Activities include boat building\, puppet making\, and even constructing a working catapult. Each week promises captivating experiences for kids of all ages with a new make-and-take activity. \nThis event is free and open to the public\, and all ages are welcome. Activities are available on a first-come\, first-served basis and are available while supplies last.
URL:https://phillyfamily.com/event/family-funday-with-popupplay/2026-06-07/
LOCATION:Spruce Street Harbor Park\, 401 S Columbus Boulevard\, Philadelphia\, PA\, 19106\, United States
CATEGORIES:Class or Workshop,Community Event,Family Event,Free,Kid Event,Philadelphia Events
ATTACH;FMTTYPE=image/jpeg:https://phillyfamily.com/wp-content/uploads/2025/05/116180032536815255-myp-5960.full_-e1748393404299.jpg
END:VEVENT
BEGIN:VEVENT
DTSTART;TZID=America/New_York:20260614T130000
DTEND;TZID=America/New_York:20260614T160000
DTSTAMP:20260420T052718
CREATED:20250528T005420Z
LAST-MODIFIED:20250528T005420Z
UID:10026321-1781442000-1781452800@phillyfamily.com
SUMMARY:Family Funday with PopUpPlay
DESCRIPTION:Activities include boat building\, puppet making\, and even constructing a working catapult. Each week promises captivating experiences for kids of all ages with a new make-and-take activity. \nThis event is free and open to the public\, and all ages are welcome. Activities are available on a first-come\, first-served basis and are available while supplies last.
URL:https://phillyfamily.com/event/family-funday-with-popupplay/2026-06-14/
LOCATION:Spruce Street Harbor Park\, 401 S Columbus Boulevard\, Philadelphia\, PA\, 19106\, United States
CATEGORIES:Class or Workshop,Community Event,Family Event,Free,Kid Event,Philadelphia Events
ATTACH;FMTTYPE=image/jpeg:https://phillyfamily.com/wp-content/uploads/2025/05/116180032536815255-myp-5960.full_-e1748393404299.jpg
END:VEVENT
BEGIN:VEVENT
DTSTART;TZID=America/New_York:20260620T130000
DTEND;TZID=America/New_York:20260620T180000
DTSTAMP:20260420T052718
CREATED:20251223T022016Z
LAST-MODIFIED:20251223T022016Z
UID:10033129-1781960400-1781978400@phillyfamily.com
SUMMARY:Juneteenth Wellness & Arts Festival 2026 (#JWAF)
DESCRIPTION:The Juneteenth Wellness & Arts Festival #JWAF is a vibrant\, community-centered celebration honoring the legacy of Juneteenth through a unique blend of cultural arts\, wellness\, and education. (A zero-proof experience for the entire family). \nDesigned to uplift Black culture and promote holistic well-being\, the festival features live performances\, interactive art installations\, health screenings\, fitness sessions\, and engaging panel discussions. This year\, in place of traditional alcohol service\, we’re proudly offering signature mocktails inspired by classic spirits\, a safer\, healthier way to celebrate freedom and joy. \nIn partnership with local mocktail artisans and alcohol-free beverage providers\, this fresh twist promotes wellness without compromising flavor or festivity. By creating a space where art\, culture\, and wellness intersect\, the festival aims to foster healing\, empowerment\, and deeper community connections in honor of freedom and forward progress.
URL:https://phillyfamily.com/event/juneteenth-wellness-arts-festival-2026-jwaf/
LOCATION:Cherry Street Pier\, 121 N Christopher Columbus Blvd\, Philadelphia\, PA\, 19106\, United States
CATEGORIES:Arts & Crafts,Community Event,Family Event,Farmers Markets,Festivals Fairs Carnivals,Food/Dining,Free,Juneteenth,Kid Event,Musical Performance,Philadelphia Events,Sensory Friendly
ATTACH;FMTTYPE=image/jpeg:https://phillyfamily.com/wp-content/uploads/2025/12/JWAF-2026-Flyer-1920-x-1080-e1766456401262.jpg
END:VEVENT
BEGIN:VEVENT
DTSTART;TZID=America/New_York:20260621T130000
DTEND;TZID=America/New_York:20260621T160000
DTSTAMP:20260420T052718
CREATED:20250528T005420Z
LAST-MODIFIED:20250528T005420Z
UID:10026322-1782046800-1782057600@phillyfamily.com
SUMMARY:Family Funday with PopUpPlay
DESCRIPTION:Activities include boat building\, puppet making\, and even constructing a working catapult. Each week promises captivating experiences for kids of all ages with a new make-and-take activity. \nThis event is free and open to the public\, and all ages are welcome. Activities are available on a first-come\, first-served basis and are available while supplies last.
URL:https://phillyfamily.com/event/family-funday-with-popupplay/2026-06-21/
LOCATION:Spruce Street Harbor Park\, 401 S Columbus Boulevard\, Philadelphia\, PA\, 19106\, United States
CATEGORIES:Class or Workshop,Community Event,Family Event,Free,Kid Event,Philadelphia Events
ATTACH;FMTTYPE=image/jpeg:https://phillyfamily.com/wp-content/uploads/2025/05/116180032536815255-myp-5960.full_-e1748393404299.jpg
END:VEVENT
BEGIN:VEVENT
DTSTART;TZID=America/New_York:20260628T130000
DTEND;TZID=America/New_York:20260628T160000
DTSTAMP:20260420T052718
CREATED:20250528T005420Z
LAST-MODIFIED:20250528T005420Z
UID:10026323-1782651600-1782662400@phillyfamily.com
SUMMARY:Family Funday with PopUpPlay
DESCRIPTION:Activities include boat building\, puppet making\, and even constructing a working catapult. Each week promises captivating experiences for kids of all ages with a new make-and-take activity. \nThis event is free and open to the public\, and all ages are welcome. Activities are available on a first-come\, first-served basis and are available while supplies last.
URL:https://phillyfamily.com/event/family-funday-with-popupplay/2026-06-28/
LOCATION:Spruce Street Harbor Park\, 401 S Columbus Boulevard\, Philadelphia\, PA\, 19106\, United States
CATEGORIES:Class or Workshop,Community Event,Family Event,Free,Kid Event,Philadelphia Events
ATTACH;FMTTYPE=image/jpeg:https://phillyfamily.com/wp-content/uploads/2025/05/116180032536815255-myp-5960.full_-e1748393404299.jpg
END:VEVENT
BEGIN:VEVENT
DTSTART;TZID=America/New_York:20260705T130000
DTEND;TZID=America/New_York:20260705T160000
DTSTAMP:20260420T052718
CREATED:20250528T005420Z
LAST-MODIFIED:20250528T005420Z
UID:10026324-1783256400-1783267200@phillyfamily.com
SUMMARY:Family Funday with PopUpPlay
DESCRIPTION:Activities include boat building\, puppet making\, and even constructing a working catapult. Each week promises captivating experiences for kids of all ages with a new make-and-take activity. \nThis event is free and open to the public\, and all ages are welcome. Activities are available on a first-come\, first-served basis and are available while supplies last.
URL:https://phillyfamily.com/event/family-funday-with-popupplay/2026-07-05/
LOCATION:Spruce Street Harbor Park\, 401 S Columbus Boulevard\, Philadelphia\, PA\, 19106\, United States
CATEGORIES:Class or Workshop,Community Event,Family Event,Free,Kid Event,Philadelphia Events
ATTACH;FMTTYPE=image/jpeg:https://phillyfamily.com/wp-content/uploads/2025/05/116180032536815255-myp-5960.full_-e1748393404299.jpg
END:VEVENT
BEGIN:VEVENT
DTSTART;TZID=America/New_York:20260712T130000
DTEND;TZID=America/New_York:20260712T160000
DTSTAMP:20260420T052718
CREATED:20250528T005420Z
LAST-MODIFIED:20250528T005420Z
UID:10026325-1783861200-1783872000@phillyfamily.com
SUMMARY:Family Funday with PopUpPlay
DESCRIPTION:Activities include boat building\, puppet making\, and even constructing a working catapult. Each week promises captivating experiences for kids of all ages with a new make-and-take activity. \nThis event is free and open to the public\, and all ages are welcome. Activities are available on a first-come\, first-served basis and are available while supplies last.
URL:https://phillyfamily.com/event/family-funday-with-popupplay/2026-07-12/
LOCATION:Spruce Street Harbor Park\, 401 S Columbus Boulevard\, Philadelphia\, PA\, 19106\, United States
CATEGORIES:Class or Workshop,Community Event,Family Event,Free,Kid Event,Philadelphia Events
ATTACH;FMTTYPE=image/jpeg:https://phillyfamily.com/wp-content/uploads/2025/05/116180032536815255-myp-5960.full_-e1748393404299.jpg
END:VEVENT
BEGIN:VEVENT
DTSTART;TZID=America/New_York:20260719T130000
DTEND;TZID=America/New_York:20260719T160000
DTSTAMP:20260420T052718
CREATED:20250528T005420Z
LAST-MODIFIED:20250528T005420Z
UID:10026326-1784466000-1784476800@phillyfamily.com
SUMMARY:Family Funday with PopUpPlay
DESCRIPTION:Activities include boat building\, puppet making\, and even constructing a working catapult. Each week promises captivating experiences for kids of all ages with a new make-and-take activity. \nThis event is free and open to the public\, and all ages are welcome. Activities are available on a first-come\, first-served basis and are available while supplies last.
URL:https://phillyfamily.com/event/family-funday-with-popupplay/2026-07-19/
LOCATION:Spruce Street Harbor Park\, 401 S Columbus Boulevard\, Philadelphia\, PA\, 19106\, United States
CATEGORIES:Class or Workshop,Community Event,Family Event,Free,Kid Event,Philadelphia Events
ATTACH;FMTTYPE=image/jpeg:https://phillyfamily.com/wp-content/uploads/2025/05/116180032536815255-myp-5960.full_-e1748393404299.jpg
END:VEVENT
BEGIN:VEVENT
DTSTART;TZID=America/New_York:20260726T130000
DTEND;TZID=America/New_York:20260726T160000
DTSTAMP:20260420T052718
CREATED:20250528T005420Z
LAST-MODIFIED:20250528T005420Z
UID:10026327-1785070800-1785081600@phillyfamily.com
SUMMARY:Family Funday with PopUpPlay
DESCRIPTION:Activities include boat building\, puppet making\, and even constructing a working catapult. Each week promises captivating experiences for kids of all ages with a new make-and-take activity. \nThis event is free and open to the public\, and all ages are welcome. Activities are available on a first-come\, first-served basis and are available while supplies last.
URL:https://phillyfamily.com/event/family-funday-with-popupplay/2026-07-26/
LOCATION:Spruce Street Harbor Park\, 401 S Columbus Boulevard\, Philadelphia\, PA\, 19106\, United States
CATEGORIES:Class or Workshop,Community Event,Family Event,Free,Kid Event,Philadelphia Events
ATTACH;FMTTYPE=image/jpeg:https://phillyfamily.com/wp-content/uploads/2025/05/116180032536815255-myp-5960.full_-e1748393404299.jpg
END:VEVENT
BEGIN:VEVENT
DTSTART;TZID=America/New_York:20260802T130000
DTEND;TZID=America/New_York:20260802T160000
DTSTAMP:20260420T052718
CREATED:20250528T005420Z
LAST-MODIFIED:20250528T005420Z
UID:10026328-1785675600-1785686400@phillyfamily.com
SUMMARY:Family Funday with PopUpPlay
DESCRIPTION:Activities include boat building\, puppet making\, and even constructing a working catapult. Each week promises captivating experiences for kids of all ages with a new make-and-take activity. \nThis event is free and open to the public\, and all ages are welcome. Activities are available on a first-come\, first-served basis and are available while supplies last.
URL:https://phillyfamily.com/event/family-funday-with-popupplay/2026-08-02/
LOCATION:Spruce Street Harbor Park\, 401 S Columbus Boulevard\, Philadelphia\, PA\, 19106\, United States
CATEGORIES:Class or Workshop,Community Event,Family Event,Free,Kid Event,Philadelphia Events
ATTACH;FMTTYPE=image/jpeg:https://phillyfamily.com/wp-content/uploads/2025/05/116180032536815255-myp-5960.full_-e1748393404299.jpg
END:VEVENT
BEGIN:VEVENT
DTSTART;TZID=America/New_York:20260809T130000
DTEND;TZID=America/New_York:20260809T160000
DTSTAMP:20260420T052718
CREATED:20250528T005420Z
LAST-MODIFIED:20250528T005420Z
UID:10026329-1786280400-1786291200@phillyfamily.com
SUMMARY:Family Funday with PopUpPlay
DESCRIPTION:Activities include boat building\, puppet making\, and even constructing a working catapult. Each week promises captivating experiences for kids of all ages with a new make-and-take activity. \nThis event is free and open to the public\, and all ages are welcome. Activities are available on a first-come\, first-served basis and are available while supplies last.
URL:https://phillyfamily.com/event/family-funday-with-popupplay/2026-08-09/
LOCATION:Spruce Street Harbor Park\, 401 S Columbus Boulevard\, Philadelphia\, PA\, 19106\, United States
CATEGORIES:Class or Workshop,Community Event,Family Event,Free,Kid Event,Philadelphia Events
ATTACH;FMTTYPE=image/jpeg:https://phillyfamily.com/wp-content/uploads/2025/05/116180032536815255-myp-5960.full_-e1748393404299.jpg
END:VEVENT
BEGIN:VEVENT
DTSTART;TZID=America/New_York:20260816T130000
DTEND;TZID=America/New_York:20260816T160000
DTSTAMP:20260420T052718
CREATED:20250528T005420Z
LAST-MODIFIED:20250528T005420Z
UID:10026330-1786885200-1786896000@phillyfamily.com
SUMMARY:Family Funday with PopUpPlay
DESCRIPTION:Activities include boat building\, puppet making\, and even constructing a working catapult. Each week promises captivating experiences for kids of all ages with a new make-and-take activity. \nThis event is free and open to the public\, and all ages are welcome. Activities are available on a first-come\, first-served basis and are available while supplies last.
URL:https://phillyfamily.com/event/family-funday-with-popupplay/2026-08-16/
LOCATION:Spruce Street Harbor Park\, 401 S Columbus Boulevard\, Philadelphia\, PA\, 19106\, United States
CATEGORIES:Class or Workshop,Community Event,Family Event,Free,Kid Event,Philadelphia Events
ATTACH;FMTTYPE=image/jpeg:https://phillyfamily.com/wp-content/uploads/2025/05/116180032536815255-myp-5960.full_-e1748393404299.jpg
END:VEVENT
BEGIN:VEVENT
DTSTART;TZID=America/New_York:20260823T130000
DTEND;TZID=America/New_York:20260823T160000
DTSTAMP:20260420T052718
CREATED:20250528T005420Z
LAST-MODIFIED:20250528T005420Z
UID:10026331-1787490000-1787500800@phillyfamily.com
SUMMARY:Family Funday with PopUpPlay
DESCRIPTION:Activities include boat building\, puppet making\, and even constructing a working catapult. Each week promises captivating experiences for kids of all ages with a new make-and-take activity. \nThis event is free and open to the public\, and all ages are welcome. Activities are available on a first-come\, first-served basis and are available while supplies last.
URL:https://phillyfamily.com/event/family-funday-with-popupplay/2026-08-23/
LOCATION:Spruce Street Harbor Park\, 401 S Columbus Boulevard\, Philadelphia\, PA\, 19106\, United States
CATEGORIES:Class or Workshop,Community Event,Family Event,Free,Kid Event,Philadelphia Events
ATTACH;FMTTYPE=image/jpeg:https://phillyfamily.com/wp-content/uploads/2025/05/116180032536815255-myp-5960.full_-e1748393404299.jpg
END:VEVENT
BEGIN:VEVENT
DTSTART;TZID=America/New_York:20260830T130000
DTEND;TZID=America/New_York:20260830T160000
DTSTAMP:20260420T052718
CREATED:20250528T005420Z
LAST-MODIFIED:20250528T005420Z
UID:10026332-1788094800-1788105600@phillyfamily.com
SUMMARY:Family Funday with PopUpPlay
DESCRIPTION:Activities include boat building\, puppet making\, and even constructing a working catapult. Each week promises captivating experiences for kids of all ages with a new make-and-take activity. \nThis event is free and open to the public\, and all ages are welcome. Activities are available on a first-come\, first-served basis and are available while supplies last.
URL:https://phillyfamily.com/event/family-funday-with-popupplay/2026-08-30/
LOCATION:Spruce Street Harbor Park\, 401 S Columbus Boulevard\, Philadelphia\, PA\, 19106\, United States
CATEGORIES:Class or Workshop,Community Event,Family Event,Free,Kid Event,Philadelphia Events
ATTACH;FMTTYPE=image/jpeg:https://phillyfamily.com/wp-content/uploads/2025/05/116180032536815255-myp-5960.full_-e1748393404299.jpg
END:VEVENT
BEGIN:VEVENT
DTSTART;TZID=America/New_York:20260906T130000
DTEND;TZID=America/New_York:20260906T160000
DTSTAMP:20260420T052718
CREATED:20250528T005420Z
LAST-MODIFIED:20250528T005420Z
UID:10026333-1788699600-1788710400@phillyfamily.com
SUMMARY:Family Funday with PopUpPlay
DESCRIPTION:Activities include boat building\, puppet making\, and even constructing a working catapult. Each week promises captivating experiences for kids of all ages with a new make-and-take activity. \nThis event is free and open to the public\, and all ages are welcome. Activities are available on a first-come\, first-served basis and are available while supplies last.
URL:https://phillyfamily.com/event/family-funday-with-popupplay/2026-09-06/
LOCATION:Spruce Street Harbor Park\, 401 S Columbus Boulevard\, Philadelphia\, PA\, 19106\, United States
CATEGORIES:Class or Workshop,Community Event,Family Event,Free,Kid Event,Philadelphia Events
ATTACH;FMTTYPE=image/jpeg:https://phillyfamily.com/wp-content/uploads/2025/05/116180032536815255-myp-5960.full_-e1748393404299.jpg
END:VEVENT
BEGIN:VEVENT
DTSTART;TZID=America/New_York:20260913T130000
DTEND;TZID=America/New_York:20260913T160000
DTSTAMP:20260420T052718
CREATED:20250528T005420Z
LAST-MODIFIED:20250528T005420Z
UID:10026334-1789304400-1789315200@phillyfamily.com
SUMMARY:Family Funday with PopUpPlay
DESCRIPTION:Activities include boat building\, puppet making\, and even constructing a working catapult. Each week promises captivating experiences for kids of all ages with a new make-and-take activity. \nThis event is free and open to the public\, and all ages are welcome. Activities are available on a first-come\, first-served basis and are available while supplies last.
URL:https://phillyfamily.com/event/family-funday-with-popupplay/2026-09-13/
LOCATION:Spruce Street Harbor Park\, 401 S Columbus Boulevard\, Philadelphia\, PA\, 19106\, United States
CATEGORIES:Class or Workshop,Community Event,Family Event,Free,Kid Event,Philadelphia Events
ATTACH;FMTTYPE=image/jpeg:https://phillyfamily.com/wp-content/uploads/2025/05/116180032536815255-myp-5960.full_-e1748393404299.jpg
END:VEVENT
BEGIN:VEVENT
DTSTART;TZID=America/New_York:20260920T130000
DTEND;TZID=America/New_York:20260920T160000
DTSTAMP:20260420T052718
CREATED:20250528T005420Z
LAST-MODIFIED:20250528T005420Z
UID:10026335-1789909200-1789920000@phillyfamily.com
SUMMARY:Family Funday with PopUpPlay
DESCRIPTION:Activities include boat building\, puppet making\, and even constructing a working catapult. Each week promises captivating experiences for kids of all ages with a new make-and-take activity. \nThis event is free and open to the public\, and all ages are welcome. Activities are available on a first-come\, first-served basis and are available while supplies last.
URL:https://phillyfamily.com/event/family-funday-with-popupplay/2026-09-20/
LOCATION:Spruce Street Harbor Park\, 401 S Columbus Boulevard\, Philadelphia\, PA\, 19106\, United States
CATEGORIES:Class or Workshop,Community Event,Family Event,Free,Kid Event,Philadelphia Events
ATTACH;FMTTYPE=image/jpeg:https://phillyfamily.com/wp-content/uploads/2025/05/116180032536815255-myp-5960.full_-e1748393404299.jpg
END:VEVENT
BEGIN:VEVENT
DTSTART;TZID=America/New_York:20260927T130000
DTEND;TZID=America/New_York:20260927T160000
DTSTAMP:20260420T052718
CREATED:20250528T005420Z
LAST-MODIFIED:20250528T005420Z
UID:10026336-1790514000-1790524800@phillyfamily.com
SUMMARY:Family Funday with PopUpPlay
DESCRIPTION:Activities include boat building\, puppet making\, and even constructing a working catapult. Each week promises captivating experiences for kids of all ages with a new make-and-take activity. \nThis event is free and open to the public\, and all ages are welcome. Activities are available on a first-come\, first-served basis and are available while supplies last.
URL:https://phillyfamily.com/event/family-funday-with-popupplay/2026-09-27/
LOCATION:Spruce Street Harbor Park\, 401 S Columbus Boulevard\, Philadelphia\, PA\, 19106\, United States
CATEGORIES:Class or Workshop,Community Event,Family Event,Free,Kid Event,Philadelphia Events
ATTACH;FMTTYPE=image/jpeg:https://phillyfamily.com/wp-content/uploads/2025/05/116180032536815255-myp-5960.full_-e1748393404299.jpg
END:VEVENT
END:VCALENDAR