BEGIN:VCALENDAR
VERSION:2.0
PRODID:-//Philadelphia Family Magazine - ECPv6.15.20//NONSGML v1.0//EN
CALSCALE:GREGORIAN
METHOD:PUBLISH
X-ORIGINAL-URL:https://phillyfamily.com
X-WR-CALDESC:Events for Philadelphia Family Magazine
REFRESH-INTERVAL;VALUE=DURATION:PT1H
X-Robots-Tag:noindex
X-PUBLISHED-TTL:PT1H
BEGIN:VTIMEZONE
TZID:America/New_York
BEGIN:DAYLIGHT
TZOFFSETFROM:-0500
TZOFFSETTO:-0400
TZNAME:EDT
DTSTART:20240310T070000
END:DAYLIGHT
BEGIN:STANDARD
TZOFFSETFROM:-0400
TZOFFSETTO:-0500
TZNAME:EST
DTSTART:20241103T060000
END:STANDARD
BEGIN:DAYLIGHT
TZOFFSETFROM:-0500
TZOFFSETTO:-0400
TZNAME:EDT
DTSTART:20250309T070000
END:DAYLIGHT
BEGIN:STANDARD
TZOFFSETFROM:-0400
TZOFFSETTO:-0500
TZNAME:EST
DTSTART:20251102T060000
END:STANDARD
BEGIN:DAYLIGHT
TZOFFSETFROM:-0500
TZOFFSETTO:-0400
TZNAME:EDT
DTSTART:20260308T070000
END:DAYLIGHT
BEGIN:STANDARD
TZOFFSETFROM:-0400
TZOFFSETTO:-0500
TZNAME:EST
DTSTART:20261101T060000
END:STANDARD
BEGIN:DAYLIGHT
TZOFFSETFROM:-0500
TZOFFSETTO:-0400
TZNAME:EDT
DTSTART:20270314T070000
END:DAYLIGHT
BEGIN:STANDARD
TZOFFSETFROM:-0400
TZOFFSETTO:-0500
TZNAME:EST
DTSTART:20271107T060000
END:STANDARD
END:VTIMEZONE
BEGIN:VEVENT
DTSTART;TZID=America/New_York:20260409T190000
DTEND;TZID=America/New_York:20260409T213000
DTSTAMP:20260419T095404
CREATED:20260221T182454Z
LAST-MODIFIED:20260330T231415Z
UID:10034786-1775761200-1775770200@phillyfamily.com
SUMMARY:2026 Philadelphia Family Best for Families Celebration
DESCRIPTION:Roll out the red carpet — it’s time to celebrate the businesses and nonprofits making the Main Line and Philadelphia’s Western Suburbs the best place to raise a family. Join Family Focus Media for an elegant evening of recognition\, inspiration\, and connection. \nPhiladelphia Family\, Main Line Parent\, and Bucks County Parent LOVE Award Winners\, Family Favorite Honorees\, and Members gather to celebrate the community love behind every nomination. The evening features heartfelt award presentations\, inspiring stories from honorees about their real community impact\, and the announcement of our Community Builder of the Year — a special recognition that gives back to an extraordinary local nonprofit. \nCome ready to connect with exceptional organizations\, spark meaningful collaborations\, and leave feeling inspired by the incredible community in this room. Cocktail attire encouraged. Tickets\, VIP early access\, and Sponsorship opportunities available here.
URL:https://phillyfamily.com/event/2026-philadelphia-family-best-for-families-celebration/
LOCATION:Cicala at the Divine Lorraine\, 699 N Broad St\, Philadelphia\, PA\, 19123\, United States
ATTACH;FMTTYPE=image/jpeg:https://phillyfamily.com/wp-content/uploads/2026/02/LOVE-Award-and-Family-Favorite-Plaque-Illustrations-1.jpg
END:VEVENT
BEGIN:VEVENT
DTSTART;TZID=America/New_York:20260402T090000
DTEND;TZID=America/New_York:20260402T150000
DTSTAMP:20260419T095404
CREATED:20260103T170619Z
LAST-MODIFIED:20260103T170619Z
UID:10032610-1775120400-1775142000@phillyfamily.com
SUMMARY:Foundry Funday at Natural Creativity (Germantown)
DESCRIPTION:Brooklyn Robot Foundry Philly offers Foundry Funday programs that transform school breaks and days off into exciting\, screen-free robotics adventures where children build and take home a robot each day while developing STEM skills through hands-on learning\, collaborative play\, and creative problem-solving. This is designed for busy Philadelphia-area families seeking meaningful educational experiences\, the camps provide a safe\, nurturing environment where kids engage in engineering\, design thinking\, active games\, and social skill-building\, with no prior experience needed\, just curiosity. \nFamilies can book full-day robotics camps now and use coupon code phillyrobots15 for 15% off their total purchase.
URL:https://phillyfamily.com/event/foundry-funday-at-natural-creativity-germantown-2/2026-04-02/
CATEGORIES:Bucks County Events,Class or Workshop,Community Event,Delaware County Events,Family Event,Kid Event,Montgomery County Events,Parent Event,Philadelphia Events,Sensory Friendly
ATTACH;FMTTYPE=image/jpeg:https://phillyfamily.com/wp-content/uploads/2025/12/brooklynrobotfoundryfunday.jpg
END:VEVENT
BEGIN:VEVENT
DTSTART;TZID=America/New_York:20260401T090000
DTEND;TZID=America/New_York:20260401T150000
DTSTAMP:20260419T095404
CREATED:20260103T170619Z
LAST-MODIFIED:20260103T170619Z
UID:10032609-1775034000-1775055600@phillyfamily.com
SUMMARY:Foundry Funday at Natural Creativity (Germantown)
DESCRIPTION:Brooklyn Robot Foundry Philly offers Foundry Funday programs that transform school breaks and days off into exciting\, screen-free robotics adventures where children build and take home a robot each day while developing STEM skills through hands-on learning\, collaborative play\, and creative problem-solving. This is designed for busy Philadelphia-area families seeking meaningful educational experiences\, the camps provide a safe\, nurturing environment where kids engage in engineering\, design thinking\, active games\, and social skill-building\, with no prior experience needed\, just curiosity. \nFamilies can book full-day robotics camps now and use coupon code phillyrobots15 for 15% off their total purchase.
URL:https://phillyfamily.com/event/foundry-funday-at-natural-creativity-germantown-2/2026-04-01/
CATEGORIES:Bucks County Events,Class or Workshop,Community Event,Delaware County Events,Family Event,Kid Event,Montgomery County Events,Parent Event,Philadelphia Events,Sensory Friendly
ATTACH;FMTTYPE=image/jpeg:https://phillyfamily.com/wp-content/uploads/2025/12/brooklynrobotfoundryfunday.jpg
END:VEVENT
BEGIN:VEVENT
DTSTART;TZID=America/New_York:20260331T090000
DTEND;TZID=America/New_York:20260331T150000
DTSTAMP:20260419T095404
CREATED:20260103T170619Z
LAST-MODIFIED:20260103T170619Z
UID:10032608-1774947600-1774969200@phillyfamily.com
SUMMARY:Foundry Funday at Natural Creativity (Germantown)
DESCRIPTION:Brooklyn Robot Foundry Philly offers Foundry Funday programs that transform school breaks and days off into exciting\, screen-free robotics adventures where children build and take home a robot each day while developing STEM skills through hands-on learning\, collaborative play\, and creative problem-solving. This is designed for busy Philadelphia-area families seeking meaningful educational experiences\, the camps provide a safe\, nurturing environment where kids engage in engineering\, design thinking\, active games\, and social skill-building\, with no prior experience needed\, just curiosity. \nFamilies can book full-day robotics camps now and use coupon code phillyrobots15 for 15% off their total purchase.
URL:https://phillyfamily.com/event/foundry-funday-at-natural-creativity-germantown-2/2026-03-31/
CATEGORIES:Bucks County Events,Class or Workshop,Community Event,Delaware County Events,Family Event,Kid Event,Montgomery County Events,Parent Event,Philadelphia Events,Sensory Friendly
ATTACH;FMTTYPE=image/jpeg:https://phillyfamily.com/wp-content/uploads/2025/12/brooklynrobotfoundryfunday.jpg
END:VEVENT
BEGIN:VEVENT
DTSTART;TZID=America/New_York:20260330T090000
DTEND;TZID=America/New_York:20260330T150000
DTSTAMP:20260419T095404
CREATED:20260103T170619Z
LAST-MODIFIED:20260103T170619Z
UID:10032607-1774861200-1774882800@phillyfamily.com
SUMMARY:Foundry Funday at Natural Creativity (Germantown)
DESCRIPTION:Brooklyn Robot Foundry Philly offers Foundry Funday programs that transform school breaks and days off into exciting\, screen-free robotics adventures where children build and take home a robot each day while developing STEM skills through hands-on learning\, collaborative play\, and creative problem-solving. This is designed for busy Philadelphia-area families seeking meaningful educational experiences\, the camps provide a safe\, nurturing environment where kids engage in engineering\, design thinking\, active games\, and social skill-building\, with no prior experience needed\, just curiosity. \nFamilies can book full-day robotics camps now and use coupon code phillyrobots15 for 15% off their total purchase.
URL:https://phillyfamily.com/event/foundry-funday-at-natural-creativity-germantown-2/2026-03-30/
CATEGORIES:Bucks County Events,Class or Workshop,Community Event,Delaware County Events,Family Event,Kid Event,Montgomery County Events,Parent Event,Philadelphia Events,Sensory Friendly
ATTACH;FMTTYPE=image/jpeg:https://phillyfamily.com/wp-content/uploads/2025/12/brooklynrobotfoundryfunday.jpg
END:VEVENT
BEGIN:VEVENT
DTSTART;TZID=America/New_York:20260320T090000
DTEND;TZID=America/New_York:20260320T150000
DTSTAMP:20260419T095404
CREATED:20260103T170619Z
LAST-MODIFIED:20260103T170619Z
UID:10032606-1773997200-1774018800@phillyfamily.com
SUMMARY:Foundry Funday at Natural Creativity (Germantown)
DESCRIPTION:Brooklyn Robot Foundry Philly offers Foundry Funday programs that transform school breaks and days off into exciting\, screen-free robotics adventures where children build and take home a robot each day while developing STEM skills through hands-on learning\, collaborative play\, and creative problem-solving. This is designed for busy Philadelphia-area families seeking meaningful educational experiences\, the camps provide a safe\, nurturing environment where kids engage in engineering\, design thinking\, active games\, and social skill-building\, with no prior experience needed\, just curiosity. \nFamilies can book full-day robotics camps now and use coupon code phillyrobots15 for 15% off their total purchase.
URL:https://phillyfamily.com/event/foundry-funday-at-natural-creativity-germantown-2/2026-03-20/
CATEGORIES:Bucks County Events,Class or Workshop,Community Event,Delaware County Events,Family Event,Kid Event,Montgomery County Events,Parent Event,Philadelphia Events,Sensory Friendly
ATTACH;FMTTYPE=image/jpeg:https://phillyfamily.com/wp-content/uploads/2025/12/brooklynrobotfoundryfunday.jpg
END:VEVENT
BEGIN:VEVENT
DTSTART;TZID=America/New_York:20260216T090000
DTEND;TZID=America/New_York:20260216T150000
DTSTAMP:20260419T095404
CREATED:20260103T170619Z
LAST-MODIFIED:20260103T170619Z
UID:10032605-1771232400-1771254000@phillyfamily.com
SUMMARY:Foundry Funday at Natural Creativity (Germantown)
DESCRIPTION:Brooklyn Robot Foundry Philly offers Foundry Funday programs that transform school breaks and days off into exciting\, screen-free robotics adventures where children build and take home a robot each day while developing STEM skills through hands-on learning\, collaborative play\, and creative problem-solving. This is designed for busy Philadelphia-area families seeking meaningful educational experiences\, the camps provide a safe\, nurturing environment where kids engage in engineering\, design thinking\, active games\, and social skill-building\, with no prior experience needed\, just curiosity. \nFamilies can book full-day robotics camps now and use coupon code phillyrobots15 for 15% off their total purchase.
URL:https://phillyfamily.com/event/foundry-funday-at-natural-creativity-germantown-2/2026-02-16/
CATEGORIES:Bucks County Events,Class or Workshop,Community Event,Delaware County Events,Family Event,Kid Event,Montgomery County Events,Parent Event,Philadelphia Events,Sensory Friendly
ATTACH;FMTTYPE=image/jpeg:https://phillyfamily.com/wp-content/uploads/2025/12/brooklynrobotfoundryfunday.jpg
END:VEVENT
BEGIN:VEVENT
DTSTART;TZID=America/New_York:20260119T090000
DTEND;TZID=America/New_York:20260119T150000
DTSTAMP:20260419T095404
CREATED:20260103T170619Z
LAST-MODIFIED:20260103T170619Z
UID:10032604-1768813200-1768834800@phillyfamily.com
SUMMARY:Foundry Funday at Natural Creativity (Germantown)
DESCRIPTION:Brooklyn Robot Foundry Philly offers Foundry Funday programs that transform school breaks and days off into exciting\, screen-free robotics adventures where children build and take home a robot each day while developing STEM skills through hands-on learning\, collaborative play\, and creative problem-solving. This is designed for busy Philadelphia-area families seeking meaningful educational experiences\, the camps provide a safe\, nurturing environment where kids engage in engineering\, design thinking\, active games\, and social skill-building\, with no prior experience needed\, just curiosity. \nFamilies can book full-day robotics camps now and use coupon code phillyrobots15 for 15% off their total purchase.
URL:https://phillyfamily.com/event/foundry-funday-at-natural-creativity-germantown-2/2026-01-19/
CATEGORIES:Bucks County Events,Class or Workshop,Community Event,Delaware County Events,Family Event,Kid Event,Montgomery County Events,Parent Event,Philadelphia Events,Sensory Friendly
ATTACH;FMTTYPE=image/jpeg:https://phillyfamily.com/wp-content/uploads/2025/12/brooklynrobotfoundryfunday.jpg
END:VEVENT
BEGIN:VEVENT
DTSTART;TZID=America/New_York:20251230T090000
DTEND;TZID=America/New_York:20251230T150000
DTSTAMP:20260419T095404
CREATED:20251216T165805Z
LAST-MODIFIED:20251216T165805Z
UID:10032603-1767085200-1767106800@phillyfamily.com
SUMMARY:Foundry Funday at Natural Creativity (Germantown)
DESCRIPTION:Brooklyn Robot Foundry Philly offers Foundry Funday programs that transform school breaks and days off into exciting\, screen-free robotics adventures where children build and take home a robot each day while developing STEM skills through hands-on learning\, collaborative play\, and creative problem-solving. This is designed for busy Philadelphia-area families seeking meaningful educational experiences\, the camps provide a safe\, nurturing environment where kids engage in engineering\, design thinking\, active games\, and social skill-building\, with no prior experience needed\, just curiosity. \nFamilies can book full-day robotics camps now and use coupon code phillyrobots15 for 15% off their total purchase.
URL:https://phillyfamily.com/event/foundry-funday-at-natural-creativity-germantown/2025-12-30/
CATEGORIES:Bucks County Events,Class or Workshop,Community Event,Delaware County Events,Family Event,Kid Event,Montgomery County Events,Parent Event,Philadelphia Events,Sensory Friendly
ATTACH;FMTTYPE=image/jpeg:https://phillyfamily.com/wp-content/uploads/2025/12/Foundry-Funday-Winter-NC-20262-e1765904265562.jpg
END:VEVENT
BEGIN:VEVENT
DTSTART;TZID=America/New_York:20251229T090000
DTEND;TZID=America/New_York:20251229T150000
DTSTAMP:20260419T095404
CREATED:20251216T165805Z
LAST-MODIFIED:20251216T165805Z
UID:10032602-1766998800-1767020400@phillyfamily.com
SUMMARY:Foundry Funday at Natural Creativity (Germantown)
DESCRIPTION:Brooklyn Robot Foundry Philly offers Foundry Funday programs that transform school breaks and days off into exciting\, screen-free robotics adventures where children build and take home a robot each day while developing STEM skills through hands-on learning\, collaborative play\, and creative problem-solving. This is designed for busy Philadelphia-area families seeking meaningful educational experiences\, the camps provide a safe\, nurturing environment where kids engage in engineering\, design thinking\, active games\, and social skill-building\, with no prior experience needed\, just curiosity. \nFamilies can book full-day robotics camps now and use coupon code phillyrobots15 for 15% off their total purchase.
URL:https://phillyfamily.com/event/foundry-funday-at-natural-creativity-germantown/2025-12-29/
CATEGORIES:Bucks County Events,Class or Workshop,Community Event,Delaware County Events,Family Event,Kid Event,Montgomery County Events,Parent Event,Philadelphia Events,Sensory Friendly
ATTACH;FMTTYPE=image/jpeg:https://phillyfamily.com/wp-content/uploads/2025/12/Foundry-Funday-Winter-NC-20262-e1765904265562.jpg
END:VEVENT
BEGIN:VEVENT
DTSTART;TZID=America/New_York:20251220T110000
DTEND;TZID=America/New_York:20251220T120000
DTSTAMP:20260419T095404
CREATED:20251119T013518Z
LAST-MODIFIED:20251119T013518Z
UID:10031952-1766228400-1766232000@phillyfamily.com
SUMMARY:DIY Gift Tags at Utility Works MakerSpace
DESCRIPTION:Led by Caroline Lancaster\, participants will create festive gift tags ranging from simple punch-and-decorate designs to intricate origami trees using colorful papers and patterns\, and wrapping paper will be available for any gifts needing to be wrapped. Attendees will leave with completed projects or all the materials to finish at home\, plus the knowledge to create more tags on their own. This accessible class welcomes all skill levels and only requires scissors and hole punches (glitter is also available but optional). \nRegister here.
URL:https://phillyfamily.com/event/diy-gift-tags-at-utility-works-makerspace/
LOCATION:Utility Works MakerSpace\, 18 N Lansdowne Avenue\, Lansdowne\, 19050
CATEGORIES:Arts & Crafts,Class or Workshop,Community Event
ATTACH;FMTTYPE=image/jpeg:https://phillyfamily.com/wp-content/uploads/2025/11/https___cdn.evbuc_.com_images_1164732363_285993988629_1_original-e1763515840937.jpg
END:VEVENT
BEGIN:VEVENT
DTSTART;TZID=America/New_York:20251213T100000
DTEND;TZID=America/New_York:20251213T150000
DTSTAMP:20260419T095404
CREATED:20251209T013435Z
LAST-MODIFIED:20251209T013435Z
UID:10032298-1765620000-1765638000@phillyfamily.com
SUMMARY:Holiday Brunch with Santa at Libertee Grounds
DESCRIPTION:They’re bringing in the man himself! On Saturday\, December 13th\, Libertee Grounds is throwing a festive Holiday Brunch featuring Santa. Guests can savor their favorite Libertee Grounds brunch favorites\, complemented by an abundance of seasonal beverages. Families are encouraged to wear their holiday best for picture opportunities with Santa\, and little ones are welcome from 10am to 3pm. This is a wonderful chance to gather\, celebrate\, and spread holiday cheer! \nReserve tickets through Resy.
URL:https://phillyfamily.com/event/holiday-brunch-with-santa-at-libertee-grounds/
LOCATION:Libertree Grounds\, 1600 W Girard Ave Suite C5\, Philadelphia\, PA\, 19130\, United States
CATEGORIES:Christmas,Family Event,Food/Dining
ATTACH;FMTTYPE=image/jpeg:https://phillyfamily.com/wp-content/uploads/2025/12/5iPTxdU8-e1765243864961.jpg
END:VEVENT
BEGIN:VEVENT
DTSTART;TZID=America/New_York:20251208T080000
DTEND;TZID=America/New_York:20251208T170000
DTSTAMP:20260419T095404
CREATED:20251209T013750Z
LAST-MODIFIED:20251209T013750Z
UID:10032300-1765180800-1765213200@phillyfamily.com
SUMMARY:Make-It-Pop! with InLiquid
DESCRIPTION:Make-it-Pop! highlights and celebrates everything Pop Art. From the use of pop culture\, bold colors\, and mass-produced artwork to graphic styles and ironic subjects\, this exhibit dives into what “makes it Pop” in their artist members’ portfolios. \nLearn more here.
URL:https://phillyfamily.com/event/make-it-pop-with-inliquid/
LOCATION:InLiquid\, 1400 N American St #314\, Philadelphia\, PA\, 19122\, United States
CATEGORIES:Arts & Film,Community Event,Exhibit,Family Event
ATTACH;FMTTYPE=image/png:https://phillyfamily.com/wp-content/uploads/2025/12/Screenshot-2025-12-08-154307-e1765244141294.png
END:VEVENT
BEGIN:VEVENT
DTSTART;TZID=America/New_York:20251206T100000
DTEND;TZID=America/New_York:20251206T170000
DTSTAMP:20260419T095404
CREATED:20251119T004312Z
LAST-MODIFIED:20251119T004401Z
UID:10031949-1765015200-1765040400@phillyfamily.com
SUMMARY:From Seed to Blossom\, Supporting Queer and Trans Youth! at People's Light
DESCRIPTION:This is a day of speakers\, workshops\, working groups\, panels\, and performances\, all geared towards sharing resources and establishing connections in support of LGBTQ+ youth. Register for free! \nIf you’re interested in serving as a vendor or having a table onsite\, please visit our website.
URL:https://phillyfamily.com/event/from-seed-to-blossom-supporting-queer-and-trans-youth-at-peoples-light/
LOCATION:People’s Light\, 39 Conestoga Road\, Malvern\, PA\, 19355\, United States
CATEGORIES:Class or Workshop,Community Event,Family Event
ATTACH;FMTTYPE=image/jpeg:https://phillyfamily.com/wp-content/uploads/2025/11/IMG_2155-e1763512976538.jpeg
END:VEVENT
BEGIN:VEVENT
DTSTART;TZID=America/New_York:20251206T100000
DTEND;TZID=America/New_York:20251206T160000
DTSTAMP:20260419T095404
CREATED:20251126T224413Z
LAST-MODIFIED:20251126T224413Z
UID:10032083-1765015200-1765036800@phillyfamily.com
SUMMARY:OSB Teams' Basketball Tryouts
DESCRIPTION:On December 6th\, OSB TEAMS is proud to announce their recruitment for student athletes to participate in the Basketball Tryouts to be recommended for an advancement to USA BASKETBALL to potentially play in the amateur league to fulfill their dreams of becoming a professional basketball player. OSB TEAMS is a National recruiter for student athletes in any sport that want to advance their career from amateur to become a professional athlete.
URL:https://phillyfamily.com/event/osb-teams-basketball-tryouts/
LOCATION:finley recreation center\, 7701 Mansfield Ave\, Philadelphia\, PA\, 19150\, United States
CATEGORIES:Philadelphia Events,Sporting Events,Teen Event
ATTACH;FMTTYPE=image/jpeg:https://phillyfamily.com/wp-content/uploads/2025/11/OSB-Basketball-Tryouts-e1764196790971.jpg
END:VEVENT
BEGIN:VEVENT
DTSTART;TZID=America/New_York:20251127T150000
DTEND;TZID=America/New_York:20251127T170000
DTSTAMP:20260419T095404
CREATED:20251119T003623Z
LAST-MODIFIED:20251119T003623Z
UID:10031943-1764255600-1764262800@phillyfamily.com
SUMMARY:Thanksgiving Day Early Dinner Cruise
DESCRIPTION:Celebrate a stress-free and unforgettable Thanksgiving aboard City Cruises Philadelphia’s Thanksgiving Day Early Dinner Cruise on the Spirit of Philadelphia. Skip the cooking and enjoy a festive\, chef-prepared buffet featuring all your holiday favorites\, seasonal cocktails\, live DJ entertainment\, and breathtaking views of the Philadelphia skyline. \nGet tickets here.
URL:https://phillyfamily.com/event/thanksgiving-day-early-dinner-cruise/
LOCATION:City Cruises Philadelphia – Penn’s Landing\, 401 S Christopher Columbus Blvd\, Philadelphia\, PA\, 19106\, United States
CATEGORIES:Fall Fun,Family Event,Food/Dining
ATTACH;FMTTYPE=image/jpeg:https://phillyfamily.com/wp-content/uploads/2025/11/CityCruisesThanksgiving-e1763512573146.jpg
END:VEVENT
BEGIN:VEVENT
DTSTART;TZID=America/New_York:20251024T120000
DTEND;TZID=America/New_York:20251025T130000
DTSTAMP:20260419T095404
CREATED:20250930T160359Z
LAST-MODIFIED:20250930T160359Z
UID:10030854-1761307200-1761397200@phillyfamily.com
SUMMARY:Bespoke Matter
DESCRIPTION:In Bespoke Matter\, five artists challenge and expand usual definitions and explore traditional decorative arts through untraditional lenses. Their work poses a compelling question: What happens when an object is no longer functional? \nIncluding pieces representing furniture\, wallpaper\, decorative plates\, porcelain vessels\, and tapestry\, Philadelphia-based artists Sophie Glenn\, Leslie A. Grossman\, Elizabeth Hamilton\, Leah Kaplan\, and Lisa Marie Patzer push the boundaries of craft\, decorative arts\, and traditional mediums. \nMust have an appointment to see the exhibition.
URL:https://phillyfamily.com/event/bespoke-matter/
LOCATION:Park Towne Place\, 2200 Benjamin Franklin Parkway\, Philadelphia\, PA\, 19130\, United States
CATEGORIES:Arts & Crafts,Exhibit
ATTACH;FMTTYPE=image/jpeg:https://phillyfamily.com/wp-content/uploads/2025/09/Bespoke-matter-e1759248230928.jpeg
END:VEVENT
END:VCALENDAR