BEGIN:VCALENDAR
VERSION:2.0
PRODID:-//Philadelphia Family Magazine - ECPv6.15.20//NONSGML v1.0//EN
CALSCALE:GREGORIAN
METHOD:PUBLISH
X-WR-CALNAME:Philadelphia Family Magazine
X-ORIGINAL-URL:https://phillyfamily.com
X-WR-CALDESC:Events for Philadelphia Family Magazine
REFRESH-INTERVAL;VALUE=DURATION:PT1H
X-Robots-Tag:noindex
X-PUBLISHED-TTL:PT1H
BEGIN:VTIMEZONE
TZID:America/New_York
BEGIN:DAYLIGHT
TZOFFSETFROM:-0500
TZOFFSETTO:-0400
TZNAME:EDT
DTSTART:20250309T070000
END:DAYLIGHT
BEGIN:STANDARD
TZOFFSETFROM:-0400
TZOFFSETTO:-0500
TZNAME:EST
DTSTART:20251102T060000
END:STANDARD
BEGIN:DAYLIGHT
TZOFFSETFROM:-0500
TZOFFSETTO:-0400
TZNAME:EDT
DTSTART:20260308T070000
END:DAYLIGHT
BEGIN:STANDARD
TZOFFSETFROM:-0400
TZOFFSETTO:-0500
TZNAME:EST
DTSTART:20261101T060000
END:STANDARD
BEGIN:DAYLIGHT
TZOFFSETFROM:-0500
TZOFFSETTO:-0400
TZNAME:EDT
DTSTART:20270314T070000
END:DAYLIGHT
BEGIN:STANDARD
TZOFFSETFROM:-0400
TZOFFSETTO:-0500
TZNAME:EST
DTSTART:20271107T060000
END:STANDARD
END:VTIMEZONE
BEGIN:VEVENT
DTSTART;TZID=America/New_York:20260510T120000
DTEND;TZID=America/New_York:20260510T160000
DTSTAMP:20260422T060449
CREATED:20260422T090358Z
LAST-MODIFIED:20260422T090358Z
UID:10035660-1778414400-1778428800@phillyfamily.com
SUMMARY:PECO Family Jams: One Book One Philadelphia
DESCRIPTION:This year\, the Free Library of Philadelphia’s kids’ selection for One Book One Philadelphia is “How to Grow a Family Tree\,” written by Bea Birdsong and illustrated by Jasu Hu. The book follows a girl whose family tree grows wide and welcoming through the caring friends and neighbors who become part of her life — and that spirit of inclusivity is exactly what PECO Family Jams is all about. \nFamilies are invited to come together\, make art\, and create connections at this special event. Kids can turn a white bandana into a colorful keepsake using stamps and fabric ink. Free tours of the fully mosaicked basement at Isaiah Zagar’s Magic Gardens will be offered at 12:30\, 1:30\, 2:30\, and 3:30 pm\, exploring how many kinds of family are represented throughout the space. Readings of “How to Grow a Family Tree” will take place during the 12:30 and 2:30 pm tours. \nPECO Family Jams is the Magic Gardens’ family-oriented program held on the second Sunday of every month from noon to 4:00 pm. Crafts and basement tours are included with regular admission. Families are encouraged to purchase tickets in advance.
URL:https://phillyfamily.com/event/peco-family-jams-one-book-one-philadelphia/
LOCATION:1020 South Street\, 1020 South Street\, Philadelphia\, PA\, 19147\, United States
CATEGORIES:Community Event,Family Event,For Kids Ages 11 – 14,For Kids Ages 15+,For Kids Ages 4 – 6,For Kids Ages 7 – 10,For Kids Ages 8 – 10,For Parents,For The Whole Family
ATTACH;FMTTYPE=image/jpeg:https://phillyfamily.com/wp-content/uploads/2026/04/event-pecofamilyjams-scaled-e1776848612980.jpg
END:VEVENT
END:VCALENDAR