BEGIN:VCALENDAR
VERSION:2.0
PRODID:-//Philadelphia Family Magazine - ECPv6.15.20//NONSGML v1.0//EN
CALSCALE:GREGORIAN
METHOD:PUBLISH
X-ORIGINAL-URL:https://phillyfamily.com
X-WR-CALDESC:Events for Philadelphia Family Magazine
REFRESH-INTERVAL;VALUE=DURATION:PT1H
X-Robots-Tag:noindex
X-PUBLISHED-TTL:PT1H
BEGIN:VTIMEZONE
TZID:America/New_York
BEGIN:DAYLIGHT
TZOFFSETFROM:-0500
TZOFFSETTO:-0400
TZNAME:EDT
DTSTART:20240310T070000
END:DAYLIGHT
BEGIN:STANDARD
TZOFFSETFROM:-0400
TZOFFSETTO:-0500
TZNAME:EST
DTSTART:20241103T060000
END:STANDARD
BEGIN:DAYLIGHT
TZOFFSETFROM:-0500
TZOFFSETTO:-0400
TZNAME:EDT
DTSTART:20250309T070000
END:DAYLIGHT
BEGIN:STANDARD
TZOFFSETFROM:-0400
TZOFFSETTO:-0500
TZNAME:EST
DTSTART:20251102T060000
END:STANDARD
BEGIN:DAYLIGHT
TZOFFSETFROM:-0500
TZOFFSETTO:-0400
TZNAME:EDT
DTSTART:20260308T070000
END:DAYLIGHT
BEGIN:STANDARD
TZOFFSETFROM:-0400
TZOFFSETTO:-0500
TZNAME:EST
DTSTART:20261101T060000
END:STANDARD
END:VTIMEZONE
BEGIN:VEVENT
DTSTART;TZID=America/New_York:20251120T170000
DTEND;TZID=America/New_York:20251120T193000
DTSTAMP:20260423T164831
CREATED:20251029T124348Z
LAST-MODIFIED:20251029T124348Z
UID:10031092-1763658000-1763667000@phillyfamily.com
SUMMARY:Benefit Art Exhibition at Ridgeland Mansion
DESCRIPTION:Come together for a powerful evening of art and giving at the Benefit Art Exhibition\, which showcases inspiring works from the talented artists of Philadelphia CollageWorks. All proceeds support the Cancer Support Community Greater Philadelphia and help provide free emotional and social care for individuals and families impacted by cancer. Enjoy wine\, cheese\, and meaningful connections as creativity\, community\, and compassion come together for this one-night-only event. \n100% of proceeds benefit Cancer Support Community Greater Philadelphia.\nRSVP here.
URL:https://phillyfamily.com/event/benefit-art-exhibition-at-ridgeland-mansion/
LOCATION:4100 Chamounix Dr\, Philadelphia\, PA 19131\, 4100 Chamounix Dr\, Philadelphia\, PA 19131\, Philadelphia\, PA\, 19131\, United States
CATEGORIES:Charity/Fundraising Event,Community Event,Exhibit,Family Event,Free
ATTACH;FMTTYPE=image/png:https://phillyfamily.com/wp-content/uploads/2025/10/Screenshot-2025-10-13-134415-e1761741535953.png
END:VEVENT
END:VCALENDAR