BEGIN:VCALENDAR
VERSION:2.0
PRODID:-//Philadelphia Family Magazine - ECPv6.15.20//NONSGML v1.0//EN
CALSCALE:GREGORIAN
METHOD:PUBLISH
X-WR-CALNAME:Philadelphia Family Magazine
X-ORIGINAL-URL:https://phillyfamily.com
X-WR-CALDESC:Events for Philadelphia Family Magazine
REFRESH-INTERVAL;VALUE=DURATION:PT1H
X-Robots-Tag:noindex
X-PUBLISHED-TTL:PT1H
BEGIN:VTIMEZONE
TZID:America/New_York
BEGIN:DAYLIGHT
TZOFFSETFROM:-0500
TZOFFSETTO:-0400
TZNAME:EDT
DTSTART:20250309T070000
END:DAYLIGHT
BEGIN:STANDARD
TZOFFSETFROM:-0400
TZOFFSETTO:-0500
TZNAME:EST
DTSTART:20251102T060000
END:STANDARD
BEGIN:DAYLIGHT
TZOFFSETFROM:-0500
TZOFFSETTO:-0400
TZNAME:EDT
DTSTART:20260308T070000
END:DAYLIGHT
BEGIN:STANDARD
TZOFFSETFROM:-0400
TZOFFSETTO:-0500
TZNAME:EST
DTSTART:20261101T060000
END:STANDARD
BEGIN:DAYLIGHT
TZOFFSETFROM:-0500
TZOFFSETTO:-0400
TZNAME:EDT
DTSTART:20270314T070000
END:DAYLIGHT
BEGIN:STANDARD
TZOFFSETFROM:-0400
TZOFFSETTO:-0500
TZNAME:EST
DTSTART:20271107T060000
END:STANDARD
END:VTIMEZONE
BEGIN:VEVENT
DTSTART;TZID=America/New_York:20260329T140000
DTEND;TZID=America/New_York:20260329T160000
DTSTAMP:20260422T175010
CREATED:20260227T173015Z
LAST-MODIFIED:20260227T173015Z
UID:10035022-1774792800-1774800000@phillyfamily.com
SUMMARY:American Swedish Historical Museum's Easter Family Day
DESCRIPTION:At American Swedish Historical Museum\, families can introduce their little ones to Swedish Easter traditions. Children can make Swedish Easter crafts\, dress up as Swedish Easter witches\, enjoy face painting\, and take part in an egg hunt. \nLearn more here.
URL:https://phillyfamily.com/event/american-swedish-historical-museums-easter-family-day/
LOCATION:American Swedish Historical Museum\, 1900 Pattison Ave\, Philadelphia\, PA\, 19145\, United States
CATEGORIES:Community Event,Easter,Family Event,Kid Event
ATTACH;FMTTYPE=image/jpeg:https://phillyfamily.com/wp-content/uploads/2026/02/event-americanswedisheaster.jpeg
END:VEVENT
BEGIN:VEVENT
DTSTART;TZID=America/New_York:20260317T103000
DTEND;TZID=America/New_York:20260317T113000
DTSTAMP:20260422T175010
CREATED:20260227T173634Z
LAST-MODIFIED:20260227T173634Z
UID:10035023-1773743400-1773747000@phillyfamily.com
SUMMARY:American Swedish Historical Museum's Toddler Time: Whatever the Weather
DESCRIPTION:Whatever the weather is in Sweden or Philadelphia\, little ones worldwide experience the forces of nature. Come together at the American Swedish Historical Museum to learn how the weather differs across the globe\, along with a weather storytime and activities around the Museum. \nLearn more here.
URL:https://phillyfamily.com/event/american-swedish-historical-museums-toddler-time-whatever-the-weather/
LOCATION:American Swedish Historical Museum\, 1900 Pattison Ave\, Philadelphia\, PA\, 19145\, United States
CATEGORIES:Exhibit,Kid Event,Philadelphia Events
ATTACH;FMTTYPE=image/jpeg:https://phillyfamily.com/wp-content/uploads/2026/02/swedish.jpg
END:VEVENT
END:VCALENDAR