BEGIN:VCALENDAR
VERSION:2.0
PRODID:-//Philadelphia Family Magazine - ECPv6.15.20//NONSGML v1.0//EN
CALSCALE:GREGORIAN
METHOD:PUBLISH
X-ORIGINAL-URL:https://phillyfamily.com
X-WR-CALDESC:Events for Philadelphia Family Magazine
REFRESH-INTERVAL;VALUE=DURATION:PT1H
X-Robots-Tag:noindex
X-PUBLISHED-TTL:PT1H
BEGIN:VTIMEZONE
TZID:America/New_York
BEGIN:DAYLIGHT
TZOFFSETFROM:-0500
TZOFFSETTO:-0400
TZNAME:EDT
DTSTART:20240310T070000
END:DAYLIGHT
BEGIN:STANDARD
TZOFFSETFROM:-0400
TZOFFSETTO:-0500
TZNAME:EST
DTSTART:20241103T060000
END:STANDARD
BEGIN:DAYLIGHT
TZOFFSETFROM:-0500
TZOFFSETTO:-0400
TZNAME:EDT
DTSTART:20250309T070000
END:DAYLIGHT
BEGIN:STANDARD
TZOFFSETFROM:-0400
TZOFFSETTO:-0500
TZNAME:EST
DTSTART:20251102T060000
END:STANDARD
BEGIN:DAYLIGHT
TZOFFSETFROM:-0500
TZOFFSETTO:-0400
TZNAME:EDT
DTSTART:20260308T070000
END:DAYLIGHT
BEGIN:STANDARD
TZOFFSETFROM:-0400
TZOFFSETTO:-0500
TZNAME:EST
DTSTART:20261101T060000
END:STANDARD
END:VTIMEZONE
BEGIN:VEVENT
DTSTART;TZID=America/New_York:20251231T150000
DTEND;TZID=America/New_York:20251231T170000
DTSTAMP:20260424T051004
CREATED:20251112T065206Z
LAST-MODIFIED:20251112T065206Z
UID:10031853-1767193200-1767200400@phillyfamily.com
SUMMARY:Hansel and Gretel
DESCRIPTION:This holiday season\, Curio Theatre Company invites families to step into the story with HANSEL & GRETEL\, a brand new Make & Partake Theatre Experience written by Paul Kuhn and directed by Mya Flood. Following the success of Jack and the Beanstalk and The Three Little Pigs\, Curio continues its joyful\, hands-on approach to storytelling that lets young audiences help create the magic live on stage. \nPurchase tickets here.
URL:https://phillyfamily.com/event/hansel-and-gretel/2025-12-31/
LOCATION:Curio Theatre Company\, 4740 Baltimore Ave\, Philadelphia\, PA 19143\, Philadelphia\, PA\, 19143\, United States
CATEGORIES:Family Event,Theatre and Performance Art
ATTACH;FMTTYPE=image/jpeg:https://phillyfamily.com/wp-content/uploads/2025/11/RMGCurioJackandtheBeanstalkEarly-10-scaled-e1762930318107.jpg
END:VEVENT
BEGIN:VEVENT
DTSTART;TZID=America/New_York:20251230T150000
DTEND;TZID=America/New_York:20251230T170000
DTSTAMP:20260424T051004
CREATED:20251112T065206Z
LAST-MODIFIED:20251112T065206Z
UID:10031852-1767106800-1767114000@phillyfamily.com
SUMMARY:Hansel and Gretel
DESCRIPTION:This holiday season\, Curio Theatre Company invites families to step into the story with HANSEL & GRETEL\, a brand new Make & Partake Theatre Experience written by Paul Kuhn and directed by Mya Flood. Following the success of Jack and the Beanstalk and The Three Little Pigs\, Curio continues its joyful\, hands-on approach to storytelling that lets young audiences help create the magic live on stage. \nPurchase tickets here.
URL:https://phillyfamily.com/event/hansel-and-gretel/2025-12-30/
LOCATION:Curio Theatre Company\, 4740 Baltimore Ave\, Philadelphia\, PA 19143\, Philadelphia\, PA\, 19143\, United States
CATEGORIES:Family Event,Theatre and Performance Art
ATTACH;FMTTYPE=image/jpeg:https://phillyfamily.com/wp-content/uploads/2025/11/RMGCurioJackandtheBeanstalkEarly-10-scaled-e1762930318107.jpg
END:VEVENT
BEGIN:VEVENT
DTSTART;TZID=America/New_York:20251229T150000
DTEND;TZID=America/New_York:20251229T170000
DTSTAMP:20260424T051004
CREATED:20251112T065206Z
LAST-MODIFIED:20251112T065206Z
UID:10031851-1767020400-1767027600@phillyfamily.com
SUMMARY:Hansel and Gretel
DESCRIPTION:This holiday season\, Curio Theatre Company invites families to step into the story with HANSEL & GRETEL\, a brand new Make & Partake Theatre Experience written by Paul Kuhn and directed by Mya Flood. Following the success of Jack and the Beanstalk and The Three Little Pigs\, Curio continues its joyful\, hands-on approach to storytelling that lets young audiences help create the magic live on stage. \nPurchase tickets here.
URL:https://phillyfamily.com/event/hansel-and-gretel/2025-12-29/
LOCATION:Curio Theatre Company\, 4740 Baltimore Ave\, Philadelphia\, PA 19143\, Philadelphia\, PA\, 19143\, United States
CATEGORIES:Family Event,Theatre and Performance Art
ATTACH;FMTTYPE=image/jpeg:https://phillyfamily.com/wp-content/uploads/2025/11/RMGCurioJackandtheBeanstalkEarly-10-scaled-e1762930318107.jpg
END:VEVENT
BEGIN:VEVENT
DTSTART;TZID=America/New_York:20251228T150000
DTEND;TZID=America/New_York:20251228T170000
DTSTAMP:20260424T051004
CREATED:20251112T065206Z
LAST-MODIFIED:20251112T065206Z
UID:10031850-1766934000-1766941200@phillyfamily.com
SUMMARY:Hansel and Gretel
DESCRIPTION:This holiday season\, Curio Theatre Company invites families to step into the story with HANSEL & GRETEL\, a brand new Make & Partake Theatre Experience written by Paul Kuhn and directed by Mya Flood. Following the success of Jack and the Beanstalk and The Three Little Pigs\, Curio continues its joyful\, hands-on approach to storytelling that lets young audiences help create the magic live on stage. \nPurchase tickets here.
URL:https://phillyfamily.com/event/hansel-and-gretel/2025-12-28/
LOCATION:Curio Theatre Company\, 4740 Baltimore Ave\, Philadelphia\, PA 19143\, Philadelphia\, PA\, 19143\, United States
CATEGORIES:Family Event,Theatre and Performance Art
ATTACH;FMTTYPE=image/jpeg:https://phillyfamily.com/wp-content/uploads/2025/11/RMGCurioJackandtheBeanstalkEarly-10-scaled-e1762930318107.jpg
END:VEVENT
BEGIN:VEVENT
DTSTART;TZID=America/New_York:20251227T150000
DTEND;TZID=America/New_York:20251227T170000
DTSTAMP:20260424T051004
CREATED:20251112T065206Z
LAST-MODIFIED:20251112T065206Z
UID:10031849-1766847600-1766854800@phillyfamily.com
SUMMARY:Hansel and Gretel
DESCRIPTION:This holiday season\, Curio Theatre Company invites families to step into the story with HANSEL & GRETEL\, a brand new Make & Partake Theatre Experience written by Paul Kuhn and directed by Mya Flood. Following the success of Jack and the Beanstalk and The Three Little Pigs\, Curio continues its joyful\, hands-on approach to storytelling that lets young audiences help create the magic live on stage. \nPurchase tickets here.
URL:https://phillyfamily.com/event/hansel-and-gretel/2025-12-27/2/
LOCATION:Curio Theatre Company\, 4740 Baltimore Ave\, Philadelphia\, PA 19143\, Philadelphia\, PA\, 19143\, United States
CATEGORIES:Family Event,Theatre and Performance Art
ATTACH;FMTTYPE=image/jpeg:https://phillyfamily.com/wp-content/uploads/2025/11/RMGCurioJackandtheBeanstalkEarly-10-scaled-e1762930318107.jpg
END:VEVENT
BEGIN:VEVENT
DTSTART;TZID=America/New_York:20251227T110000
DTEND;TZID=America/New_York:20251227T130000
DTSTAMP:20260424T051004
CREATED:20251112T065206Z
LAST-MODIFIED:20251112T065206Z
UID:10031848-1766833200-1766840400@phillyfamily.com
SUMMARY:Hansel and Gretel
DESCRIPTION:This holiday season\, Curio Theatre Company invites families to step into the story with HANSEL & GRETEL\, a brand new Make & Partake Theatre Experience written by Paul Kuhn and directed by Mya Flood. Following the success of Jack and the Beanstalk and The Three Little Pigs\, Curio continues its joyful\, hands-on approach to storytelling that lets young audiences help create the magic live on stage. \nPurchase tickets here.
URL:https://phillyfamily.com/event/hansel-and-gretel/2025-12-27/1/
LOCATION:Curio Theatre Company\, 4740 Baltimore Ave\, Philadelphia\, PA 19143\, Philadelphia\, PA\, 19143\, United States
CATEGORIES:Family Event,Theatre and Performance Art
ATTACH;FMTTYPE=image/jpeg:https://phillyfamily.com/wp-content/uploads/2025/11/RMGCurioJackandtheBeanstalkEarly-10-scaled-e1762930318107.jpg
END:VEVENT
BEGIN:VEVENT
DTSTART;TZID=America/New_York:20251226T150000
DTEND;TZID=America/New_York:20251226T170000
DTSTAMP:20260424T051004
CREATED:20251112T065206Z
LAST-MODIFIED:20251112T065206Z
UID:10031847-1766761200-1766768400@phillyfamily.com
SUMMARY:Hansel and Gretel
DESCRIPTION:This holiday season\, Curio Theatre Company invites families to step into the story with HANSEL & GRETEL\, a brand new Make & Partake Theatre Experience written by Paul Kuhn and directed by Mya Flood. Following the success of Jack and the Beanstalk and The Three Little Pigs\, Curio continues its joyful\, hands-on approach to storytelling that lets young audiences help create the magic live on stage. \nPurchase tickets here.
URL:https://phillyfamily.com/event/hansel-and-gretel/2025-12-26/
LOCATION:Curio Theatre Company\, 4740 Baltimore Ave\, Philadelphia\, PA 19143\, Philadelphia\, PA\, 19143\, United States
CATEGORIES:Family Event,Theatre and Performance Art
ATTACH;FMTTYPE=image/jpeg:https://phillyfamily.com/wp-content/uploads/2025/11/RMGCurioJackandtheBeanstalkEarly-10-scaled-e1762930318107.jpg
END:VEVENT
BEGIN:VEVENT
DTSTART;TZID=America/New_York:20251221T150000
DTEND;TZID=America/New_York:20251221T170000
DTSTAMP:20260424T051004
CREATED:20251112T065206Z
LAST-MODIFIED:20251112T065206Z
UID:10031846-1766329200-1766336400@phillyfamily.com
SUMMARY:Hansel and Gretel
DESCRIPTION:This holiday season\, Curio Theatre Company invites families to step into the story with HANSEL & GRETEL\, a brand new Make & Partake Theatre Experience written by Paul Kuhn and directed by Mya Flood. Following the success of Jack and the Beanstalk and The Three Little Pigs\, Curio continues its joyful\, hands-on approach to storytelling that lets young audiences help create the magic live on stage. \nPurchase tickets here.
URL:https://phillyfamily.com/event/hansel-and-gretel/2025-12-21/
LOCATION:Curio Theatre Company\, 4740 Baltimore Ave\, Philadelphia\, PA 19143\, Philadelphia\, PA\, 19143\, United States
CATEGORIES:Family Event,Theatre and Performance Art
ATTACH;FMTTYPE=image/jpeg:https://phillyfamily.com/wp-content/uploads/2025/11/RMGCurioJackandtheBeanstalkEarly-10-scaled-e1762930318107.jpg
END:VEVENT
BEGIN:VEVENT
DTSTART;TZID=America/New_York:20251220T150000
DTEND;TZID=America/New_York:20251220T170000
DTSTAMP:20260424T051004
CREATED:20251112T065206Z
LAST-MODIFIED:20251112T065206Z
UID:10031845-1766242800-1766250000@phillyfamily.com
SUMMARY:Hansel and Gretel
DESCRIPTION:This holiday season\, Curio Theatre Company invites families to step into the story with HANSEL & GRETEL\, a brand new Make & Partake Theatre Experience written by Paul Kuhn and directed by Mya Flood. Following the success of Jack and the Beanstalk and The Three Little Pigs\, Curio continues its joyful\, hands-on approach to storytelling that lets young audiences help create the magic live on stage. \nPurchase tickets here.
URL:https://phillyfamily.com/event/hansel-and-gretel/2025-12-20/
LOCATION:Curio Theatre Company\, 4740 Baltimore Ave\, Philadelphia\, PA 19143\, Philadelphia\, PA\, 19143\, United States
CATEGORIES:Family Event,Theatre and Performance Art
ATTACH;FMTTYPE=image/jpeg:https://phillyfamily.com/wp-content/uploads/2025/11/RMGCurioJackandtheBeanstalkEarly-10-scaled-e1762930318107.jpg
END:VEVENT
BEGIN:VEVENT
DTSTART;TZID=America/New_York:20251218T180000
DTEND;TZID=America/New_York:20251218T200000
DTSTAMP:20260424T051004
CREATED:20251112T065206Z
LAST-MODIFIED:20251112T065206Z
UID:10031844-1766080800-1766088000@phillyfamily.com
SUMMARY:Hansel and Gretel
DESCRIPTION:This holiday season\, Curio Theatre Company invites families to step into the story with HANSEL & GRETEL\, a brand new Make & Partake Theatre Experience written by Paul Kuhn and directed by Mya Flood. Following the success of Jack and the Beanstalk and The Three Little Pigs\, Curio continues its joyful\, hands-on approach to storytelling that lets young audiences help create the magic live on stage. \nPurchase tickets here.
URL:https://phillyfamily.com/event/hansel-and-gretel/2025-12-18/
LOCATION:Curio Theatre Company\, 4740 Baltimore Ave\, Philadelphia\, PA 19143\, Philadelphia\, PA\, 19143\, United States
CATEGORIES:Family Event,Theatre and Performance Art
ATTACH;FMTTYPE=image/jpeg:https://phillyfamily.com/wp-content/uploads/2025/11/RMGCurioJackandtheBeanstalkEarly-10-scaled-e1762930318107.jpg
END:VEVENT
BEGIN:VEVENT
DTSTART;TZID=America/New_York:20251217T180000
DTEND;TZID=America/New_York:20251231T200000
DTSTAMP:20260424T051004
CREATED:20251112T065206Z
LAST-MODIFIED:20251112T065206Z
UID:10031843-1765994400-1767211200@phillyfamily.com
SUMMARY:Hansel and Gretel
DESCRIPTION:This holiday season\, Curio Theatre Company invites families to step into the story with HANSEL & GRETEL\, a brand new Make & Partake Theatre Experience written by Paul Kuhn and directed by Mya Flood. Following the success of Jack and the Beanstalk and The Three Little Pigs\, Curio continues its joyful\, hands-on approach to storytelling that lets young audiences help create the magic live on stage. \nPurchase tickets here.
URL:https://phillyfamily.com/event/hansel-and-gretel/2025-12-17/2/
LOCATION:Curio Theatre Company\, 4740 Baltimore Ave\, Philadelphia\, PA 19143\, Philadelphia\, PA\, 19143\, United States
CATEGORIES:Family Event,Theatre and Performance Art
ATTACH;FMTTYPE=image/jpeg:https://phillyfamily.com/wp-content/uploads/2025/11/RMGCurioJackandtheBeanstalkEarly-10-scaled-e1762930318107.jpg
END:VEVENT
BEGIN:VEVENT
DTSTART;TZID=America/New_York:20251217T110000
DTEND;TZID=America/New_York:20251217T130000
DTSTAMP:20260424T051004
CREATED:20251112T065206Z
LAST-MODIFIED:20251112T065206Z
UID:10031842-1765969200-1765976400@phillyfamily.com
SUMMARY:Hansel and Gretel
DESCRIPTION:This holiday season\, Curio Theatre Company invites families to step into the story with HANSEL & GRETEL\, a brand new Make & Partake Theatre Experience written by Paul Kuhn and directed by Mya Flood. Following the success of Jack and the Beanstalk and The Three Little Pigs\, Curio continues its joyful\, hands-on approach to storytelling that lets young audiences help create the magic live on stage. \nPurchase tickets here.
URL:https://phillyfamily.com/event/hansel-and-gretel/2025-12-17/1/
LOCATION:Curio Theatre Company\, 4740 Baltimore Ave\, Philadelphia\, PA 19143\, Philadelphia\, PA\, 19143\, United States
CATEGORIES:Family Event,Theatre and Performance Art
ATTACH;FMTTYPE=image/jpeg:https://phillyfamily.com/wp-content/uploads/2025/11/RMGCurioJackandtheBeanstalkEarly-10-scaled-e1762930318107.jpg
END:VEVENT
END:VCALENDAR