BEGIN:VCALENDAR
VERSION:2.0
PRODID:-//Philadelphia Family Magazine - ECPv6.15.20//NONSGML v1.0//EN
CALSCALE:GREGORIAN
METHOD:PUBLISH
X-ORIGINAL-URL:https://phillyfamily.com
X-WR-CALDESC:Events for Philadelphia Family Magazine
REFRESH-INTERVAL;VALUE=DURATION:PT1H
X-Robots-Tag:noindex
X-PUBLISHED-TTL:PT1H
BEGIN:VTIMEZONE
TZID:America/New_York
BEGIN:DAYLIGHT
TZOFFSETFROM:-0500
TZOFFSETTO:-0400
TZNAME:EDT
DTSTART:20250309T070000
END:DAYLIGHT
BEGIN:STANDARD
TZOFFSETFROM:-0400
TZOFFSETTO:-0500
TZNAME:EST
DTSTART:20251102T060000
END:STANDARD
BEGIN:DAYLIGHT
TZOFFSETFROM:-0500
TZOFFSETTO:-0400
TZNAME:EDT
DTSTART:20260308T070000
END:DAYLIGHT
BEGIN:STANDARD
TZOFFSETFROM:-0400
TZOFFSETTO:-0500
TZNAME:EST
DTSTART:20261101T060000
END:STANDARD
BEGIN:DAYLIGHT
TZOFFSETFROM:-0500
TZOFFSETTO:-0400
TZNAME:EDT
DTSTART:20270314T070000
END:DAYLIGHT
BEGIN:STANDARD
TZOFFSETFROM:-0400
TZOFFSETTO:-0500
TZNAME:EST
DTSTART:20271107T060000
END:STANDARD
END:VTIMEZONE
BEGIN:VEVENT
DTSTART;TZID=America/New_York:20260627T110000
DTEND;TZID=America/New_York:20260627T190000
DTSTAMP:20260424T073941
CREATED:20260409T004620Z
LAST-MODIFIED:20260409T004620Z
UID:10035616-1782558000-1782586800@phillyfamily.com
SUMMARY:The 37th Annual Manayunk Arts Festival
DESCRIPTION:Manayunk is celebrating the 37th Annual Manayunk Arts Festival this year! Since 1990\, the show has built itself into being the tri-state area’s largest outdoor juried art festival featuring approximately 300 different local and nationally known artists and crafters. The show is free to the public and features artists from eight different disciplines: fiber\, glass\, ceramics\, jewelry\, mixed media\, painting & drawing\, photography\, and wood & sculpture. The show also hosts The Emerging Artist Tent which features local and up-and-coming talent. Throughout the weekend\, visitors can take in the art\, enjoy food and beverages from Manayunk’s renowned restaurants\, and cool off by shopping at Manayunk’s unique boutiques and stores. \nCome check out the 37th Annual Manayunk Arts Festival for a weekend of art\, food\, and fun!
URL:https://phillyfamily.com/event/the-37th-annual-manayunk-arts-festival/
LOCATION:Main Street Manayunk\, Main St.\, Philadelphia\, PA\, 19127\, United States
CATEGORIES:Community Event,Family Event,For New & Expecting Parents,For Parents,For The Whole Family,Free
ATTACH;FMTTYPE=image/jpeg:https://phillyfamily.com/wp-content/uploads/2026/04/event-mainstreetmanayunkfestival.jpg
END:VEVENT
END:VCALENDAR