BEGIN:VCALENDAR
VERSION:2.0
PRODID:-//Philadelphia Family Magazine - ECPv6.15.20//NONSGML v1.0//EN
CALSCALE:GREGORIAN
METHOD:PUBLISH
X-ORIGINAL-URL:https://phillyfamily.com
X-WR-CALDESC:Events for Philadelphia Family Magazine
REFRESH-INTERVAL;VALUE=DURATION:PT1H
X-Robots-Tag:noindex
X-PUBLISHED-TTL:PT1H
BEGIN:VTIMEZONE
TZID:America/New_York
BEGIN:DAYLIGHT
TZOFFSETFROM:-0500
TZOFFSETTO:-0400
TZNAME:EDT
DTSTART:20250309T070000
END:DAYLIGHT
BEGIN:STANDARD
TZOFFSETFROM:-0400
TZOFFSETTO:-0500
TZNAME:EST
DTSTART:20251102T060000
END:STANDARD
BEGIN:DAYLIGHT
TZOFFSETFROM:-0500
TZOFFSETTO:-0400
TZNAME:EDT
DTSTART:20260308T070000
END:DAYLIGHT
BEGIN:STANDARD
TZOFFSETFROM:-0400
TZOFFSETTO:-0500
TZNAME:EST
DTSTART:20261101T060000
END:STANDARD
BEGIN:DAYLIGHT
TZOFFSETFROM:-0500
TZOFFSETTO:-0400
TZNAME:EDT
DTSTART:20270314T070000
END:DAYLIGHT
BEGIN:STANDARD
TZOFFSETFROM:-0400
TZOFFSETTO:-0500
TZNAME:EST
DTSTART:20271107T060000
END:STANDARD
END:VTIMEZONE
BEGIN:VEVENT
DTSTART;TZID=America/New_York:20260313T180000
DTEND;TZID=America/New_York:20260313T200000
DTSTAMP:20260425T195022
CREATED:20260127T233755Z
LAST-MODIFIED:20260127T233755Z
UID:10033855-1773424800-1773432000@phillyfamily.com
SUMMARY:Sewing for Beginners (Sewing Machine Basics)
DESCRIPTION:New to sewing machines or feeling a little unsure around one? This beginner-friendly class is designed to help guests feel confident using a sewing machine from start to finish. In this hands-on workshop\, guests will learn the basics of machine sewing\, including how to thread the machine\, wind a bobbin\, adjust tension\, select stitches\, and sew safely. This class will also cover common troubleshooting tips!
URL:https://phillyfamily.com/event/sewing-for-beginners-sewing-machine-basics/
LOCATION:Utility Works\, 32 E Baltimore Ave\, Lansdowne\, PA 19050\, Lansdowne\, PA\, 19050\, United States
CATEGORIES:Class or Workshop,Community Event,Kid Event
ATTACH;FMTTYPE=image/png:https://phillyfamily.com/wp-content/uploads/2026/01/Screenshot-2026-01-25-at-11.08.48-PM-e1769557053653.png
END:VEVENT
BEGIN:VEVENT
DTSTART;TZID=America/New_York:20260228T130000
DTEND;TZID=America/New_York:20260228T140000
DTSTAMP:20260425T195022
CREATED:20260127T233542Z
LAST-MODIFIED:20260127T233542Z
UID:10033854-1772283600-1772287200@phillyfamily.com
SUMMARY:Cups and Coasters at Utility Works
DESCRIPTION:Create the perfect pair! In this hands-on makerspace workshop\, participants can design and sublimate their own custom mug\, then make a matching coaster using a variety of creative techniques. After mug personalization\, participants select one coaster-making method to explore—sewing\, tufting\, laser cutting\, 3D printing\, or sublimation—with guidance from their instructors. Whether textiles\, digital fabrication\, or hands-on crafting\, this class will try something new and leave with functional\, one-of-a-kind pieces.
URL:https://phillyfamily.com/event/cups-and-coasters-at-utility-works/
LOCATION:Utility Works\, 32 E Baltimore Ave\, Lansdowne\, PA 19050\, Lansdowne\, PA\, 19050\, United States
CATEGORIES:Arts & Crafts
ATTACH;FMTTYPE=image/png:https://phillyfamily.com/wp-content/uploads/2026/01/Screenshot-2026-01-25-at-6.39.04-PM-e1769556879871.png
END:VEVENT
BEGIN:VEVENT
DTSTART;TZID=America/New_York:20260212T180000
DTEND;TZID=America/New_York:20260212T200000
DTSTAMP:20260425T195022
CREATED:20260120T005026Z
LAST-MODIFIED:20260120T005026Z
UID:10033677-1770919200-1770926400@phillyfamily.com
SUMMARY:Sip and Sew for Galentines
DESCRIPTION:Learn to sew a handmade heart pillow in this beginner-friendly class led by Fashions by Shida! No experience necessary with all materials provided\, and participants will learn cutting\, stitching\, and stuffing in a warm\, creative atmosphere. \nBring a sewing machine or email madi@lansdownefuture.org to reserve one.\nAges 10+ welcome (10-13 require adult supervision). Reserve tickets online.
URL:https://phillyfamily.com/event/sip-and-sew-for-galentines/
LOCATION:Utility Works\, 32 E Baltimore Ave\, Lansdowne\, PA 19050\, Lansdowne\, PA\, 19050\, United States
CATEGORIES:Arts & Crafts,Class or Workshop,Valentine's Day
ATTACH;FMTTYPE=image/jpeg:https://phillyfamily.com/wp-content/uploads/2026/01/1000004660-1-e1768870077295.jpg
ORGANIZER;CN="Lansdowne Economic Development Corporation":MAILTO:clare@lansdownefuture.org
END:VEVENT
END:VCALENDAR